BEGIN:VCALENDAR
VERSION:2.0
PRODID:-//Le Petit Varois.Fr - ECPv6.0.10//NONSGML v1.0//EN
CALSCALE:GREGORIAN
METHOD:PUBLISH
X-ORIGINAL-URL:https://lepetitvarois.fr
X-WR-CALDESC:évènements pour Le Petit Varois.Fr
REFRESH-INTERVAL;VALUE=DURATION:PT1H
X-Robots-Tag:noindex
X-PUBLISHED-TTL:PT1H
BEGIN:VTIMEZONE
TZID:Europe/Paris
BEGIN:DAYLIGHT
TZOFFSETFROM:+0100
TZOFFSETTO:+0200
TZNAME:CEST
DTSTART:20200329T010000
END:DAYLIGHT
BEGIN:STANDARD
TZOFFSETFROM:+0200
TZOFFSETTO:+0100
TZNAME:CET
DTSTART:20201025T010000
END:STANDARD
END:VTIMEZONE
BEGIN:VEVENT
DTSTART;TZID=Europe/Paris:20200208T100000
DTEND;TZID=Europe/Paris:20200208T170000
DTSTAMP:20260420T175845
CREATED:20200202T192823Z
LAST-MODIFIED:20200202T192823Z
UID:14318-1581156000-1581181200@lepetitvarois.fr
SUMMARY:7è fête de la soupe
DESCRIPTION:7è fête de la soupe à partir de 10h. \nPlace Martel Esprit. LA SEYNE\nOuverte à tous : individuels\, petits et grands ou en collectifs d’amateurs et professionnels\, avec des amis \, en famille. Animations pour enfants. \n10h\, troc du jardin avec les enfants du jardin malin. \n11h\, animation par l’orchestre de bal rétro Cacophonix.\n> Entrée libre / inscription obligatoire pour le concours de soupe. \nAmiq 04 94 62 80 15 amiq@outlook.fr 
URL:https://lepetitvarois.fr/event/7e-fete-de-la-soupe/
CATEGORIES:La Seyne
ATTACH;FMTTYPE=image/jpeg:https://lepetitvarois.fr/wp-content/uploads/2019/01/pumpkin-soup-3705294_960_720.jpg
END:VEVENT
BEGIN:VEVENT
DTSTART;TZID=Europe/Paris:20200208T140000
DTEND;TZID=Europe/Paris:20200208T160000
DTSTAMP:20260420T175845
CREATED:20200202T192916Z
LAST-MODIFIED:20200202T192916Z
UID:14320-1581170400-1581177600@lepetitvarois.fr
SUMMARY:Visite et découverte du pigeonnier pédagogique
DESCRIPTION:Visite et découverte du pigeonnier pédagogique de 14h à 16h. \nLe pigeonnier pédagogique « La Fuie-Gaire »\, 808 av. Pierre Auguste Renoir. LA SEYNE\nVous pourrez visiter le pigeonnier\, découvrir la vie des colombes. Vous aurez la possibilité de lâcher individuellement une colombe. \n> Gratuit. Inscription obligatoire à l’avance.\nLes Colombes du Soleil 09 71 53 46 36 les-colombes-du-soleil@orange.fr 
URL:https://lepetitvarois.fr/event/visite-et-decouverte-du-pigeonnier-pedagogique-3/
CATEGORIES:La Seyne
ATTACH;FMTTYPE=image/jpeg:https://lepetitvarois.fr/wp-content/uploads/2018/06/nicobar-pigeon-1149381_960_720.jpg
END:VEVENT
BEGIN:VEVENT
DTSTART;TZID=Europe/Paris:20200208T203000
DTEND;TZID=Europe/Paris:20200208T233000
DTSTAMP:20260420T175845
CREATED:20200202T193055Z
LAST-MODIFIED:20200202T193055Z
UID:14322-1581193800-1581204600@lepetitvarois.fr
SUMMARY:Soirée dansante animée par Dj Chris 83
DESCRIPTION: Soirée dansante animée par Dj Chris 83 à 20h30. \nEspace culturel André Malraux\, 100 av. de Lattre de Tassigny. SIX FOURS\nDevant le succès des précédentes soirées dansantes\, plébiscitées par un public toujours nombreux\, Six Fours Handisport organise une nouvelle soirée dansante animée par Dj Chris. Belle ambiance très conviviale pour les amoureux de la danse et ceux qui aiment d’éclater au son de la musique (tango\, pasos\, valses\, disco\, salsa\, bachatas\, rock\, madison…). \nBuffet gourmand et boissons pour maintenir le rythme.\n> 15 € avec une boisson et une pâtisserie. Réservation fortement conseillée. \nSix Fours Handisport 04 94 74 29 49 / 06 09 84 53 33 
URL:https://lepetitvarois.fr/event/soiree-dansante-animee-par-dj-chris-83/
CATEGORIES:Six-Fours
ATTACH;FMTTYPE=image/jpeg:https://lepetitvarois.fr/wp-content/uploads/2018/06/dance-238263_960_720.jpg
END:VEVENT
END:VCALENDAR