BEGIN:VCALENDAR
VERSION:2.0
PRODID:-//Le Petit Varois.Fr - ECPv6.0.10//NONSGML v1.0//EN
CALSCALE:GREGORIAN
METHOD:PUBLISH
X-ORIGINAL-URL:https://lepetitvarois.fr
X-WR-CALDESC:évènements pour Le Petit Varois.Fr
REFRESH-INTERVAL;VALUE=DURATION:PT1H
X-Robots-Tag:noindex
X-PUBLISHED-TTL:PT1H
BEGIN:VTIMEZONE
TZID:Europe/Paris
BEGIN:DAYLIGHT
TZOFFSETFROM:+0100
TZOFFSETTO:+0200
TZNAME:CEST
DTSTART:20200329T010000
END:DAYLIGHT
BEGIN:STANDARD
TZOFFSETFROM:+0200
TZOFFSETTO:+0100
TZNAME:CET
DTSTART:20201025T010000
END:STANDARD
END:VTIMEZONE
BEGIN:VEVENT
DTSTART;TZID=Europe/Paris:20200211T150000
DTEND;TZID=Europe/Paris:20200211T170000
DTSTAMP:20260420T132156
CREATED:20200202T193557Z
LAST-MODIFIED:20200202T193557Z
UID:14332-1581433200-1581440400@lepetitvarois.fr
SUMMARY:Après-midis dansants animés par Marcel Musette
DESCRIPTION:Après-midis dansants animés par Marcel Musette animateur\, chanteur et Dj de 15h à 18h. \nSalle Scarantino\, 45 rue du Stade. SIX FOURS\nToutes danses : rétro\, musette\, disco\, danses en ligne (madison\, kuduro\, tarentelle…). \n> 7 € adhérent / 9 € non-adhérent (12 € l’adhésion annuelle). Réservation obligatoire.\nAssociation Starmelody 06 14 33 17 76 83starmelody@gmail.com 
URL:https://lepetitvarois.fr/event/apres-midis-dansants-animes-par-marcel-musette-2/
CATEGORIES:Six-Fours
ATTACH;FMTTYPE=image/jpeg:https://lepetitvarois.fr/wp-content/uploads/2018/06/dance-238263_960_720.jpg
END:VEVENT
BEGIN:VEVENT
DTSTART;TZID=Europe/Paris:20200211T183000
DTEND;TZID=Europe/Paris:20200211T203000
DTSTAMP:20260420T132156
CREATED:20200202T193703Z
LAST-MODIFIED:20200202T193703Z
UID:14334-1581445800-1581453000@lepetitvarois.fr
SUMMARY:Conférence "Le Canigou s’invite en Provence"
DESCRIPTION:Conférence « Le Canigou s’invite en Provence » par Alain Origné\, ex-ingénieur de recherche au laboratoire d’astrophysique de Marseille à 18h30. \nSalle Jean Moulin\, place Marius Trotobas. OLLIOULES\nRésumé : Il paraîtrait que l’on puisse voir le Canigou\, ce sommet (2785m) des Pyrénées\, depuis Marseille et la proche région. Impossible ? Nombreux sont ceux qui croient que ce n’est qu’une histoire marseillaise de plus… Alors qu’en est–il exactement\, mythe ou réalité ? \nDes conditions extraordinaires au Soleil couchant se conjuguent à la fois sur le plan géographique et astronomique pour ce phénomène unique. En raison de la courbure de la Terre\, le Canigou distant de plus de 250 km de Marseille ne devrait pas être visible. C’est la réfraction atmosphérique qui rend ce phénomène possible. \nLe phénomène n’est observable qu’à certaines dates déterminées lorsque le Soleil se couche exactement dans la direction du massif pyrénéen. Cette observation sera ainsi possible à partir du 15 février 2020 depuis la route des crêtes de Cassis et jusqu’au 22 février depuis le Coudon. De nombreux autres sites d’observation existent de Salon de Provence à Toulon.\n> Entrée libre. \nClub d’astronomie Véga 04 94 09 07 38 info@oagc.fr 
URL:https://lepetitvarois.fr/event/conference-le-canigou-sinvite-en-provence/
CATEGORIES:Ollioules
ATTACH;FMTTYPE=image/jpeg:https://lepetitvarois.fr/wp-content/uploads/2018/06/people-2561336_960_720.jpg
END:VEVENT
END:VCALENDAR