BEGIN:VCALENDAR
VERSION:2.0
PRODID:-//Le Petit Varois.Fr - ECPv6.0.10//NONSGML v1.0//EN
CALSCALE:GREGORIAN
METHOD:PUBLISH
X-WR-CALNAME:Le Petit Varois.Fr
X-ORIGINAL-URL:https://lepetitvarois.fr
X-WR-CALDESC:évènements pour Le Petit Varois.Fr
REFRESH-INTERVAL;VALUE=DURATION:PT1H
X-Robots-Tag:noindex
X-PUBLISHED-TTL:PT1H
BEGIN:VTIMEZONE
TZID:Europe/Paris
BEGIN:DAYLIGHT
TZOFFSETFROM:+0100
TZOFFSETTO:+0200
TZNAME:CEST
DTSTART:20200329T010000
END:DAYLIGHT
BEGIN:STANDARD
TZOFFSETFROM:+0200
TZOFFSETTO:+0100
TZNAME:CET
DTSTART:20201025T010000
END:STANDARD
END:VTIMEZONE
BEGIN:VEVENT
DTSTART;TZID=Europe/Paris:20200212T203000
DTEND;TZID=Europe/Paris:20200212T223000
DTSTAMP:20260420T114333
CREATED:20200202T193816Z
LAST-MODIFIED:20200202T193816Z
UID:14336-1581539400-1581546600@lepetitvarois.fr
SUMMARY:Ciné-rencontre "Déplacer les Montagnes"
DESCRIPTION: Ciné-rencontre « Déplacer les Montagnes » en présence de la réalisatrice Laetitia Cuvelier à 20h30. \nCinéma Six n’Etoiles\, 48 rue de la République. SIX FOURS. \nRésumé: Dans nos montagnes\, là où nous avons choisi de vivre\, nous voyions des espaces de liberté\, des cols\, des passages et des invitations au voyage. Nous avons vu une frontière se dessiner\, de la violence contre les personnes exilées\, des drames et des élans de solidarité. Nous avons vu des portes s’ouvrir\, des liens se nouer à la croisée de ces chemins d’exil et d’hospitalité. Nous avons eu envie de faire raconter cette aventure par ceux qui arrivent et celles et ceux qui accueillent. Parce que cette histoire de rencontres dit quelque chose de nous et du monde dans lequel nous vivons. Anne\, Yves\, Fanfan\, Max et Alia habitent les vallées du Briançonnais. Les chemins de l’exil ont conduit Ossoul\, Abdallah\, Ali et Boubacar dans ces montagnes frontière et refuge. Comment se rencontrent-ils ? Quels sont leurs rêves\, leurs colères et leurs espoirs ? Comment tentent-ils de déplacer des montagnes ? Dans leurs récits et dans les moments de fraternité qu’ils partagent\, s’esquissent des réponses et d’autres interrogations…\n> Tarifs habituels du cinéma. \nRéservation 04 94 26 58 48 www.sixnetoiles.fr
URL:https://lepetitvarois.fr/event/cine-rencontre-deplacer-les-montagnes/
CATEGORIES:Six-Fours
ATTACH;FMTTYPE=image/jpeg:https://lepetitvarois.fr/wp-content/uploads/2018/09/analogue-2974647_960_720.jpg
END:VEVENT
END:VCALENDAR