BEGIN:VCALENDAR
VERSION:2.0
PRODID:-//Le Petit Varois.Fr - ECPv6.0.10//NONSGML v1.0//EN
CALSCALE:GREGORIAN
METHOD:PUBLISH
X-WR-CALNAME:Le Petit Varois.Fr
X-ORIGINAL-URL:https://lepetitvarois.fr
X-WR-CALDESC:évènements pour Le Petit Varois.Fr
REFRESH-INTERVAL;VALUE=DURATION:PT1H
X-Robots-Tag:noindex
X-PUBLISHED-TTL:PT1H
BEGIN:VTIMEZONE
TZID:Europe/Paris
BEGIN:DAYLIGHT
TZOFFSETFROM:+0100
TZOFFSETTO:+0200
TZNAME:CEST
DTSTART:20200329T010000
END:DAYLIGHT
BEGIN:STANDARD
TZOFFSETFROM:+0200
TZOFFSETTO:+0100
TZNAME:CET
DTSTART:20201025T010000
END:STANDARD
END:VTIMEZONE
BEGIN:VEVENT
DTSTART;VALUE=DATE:20200218
DTEND;VALUE=DATE:20200302
DTSTAMP:20260419T225820
CREATED:20200202T195630Z
LAST-MODIFIED:20200202T195630Z
UID:14363-1581984000-1583107199@lepetitvarois.fr
SUMMARY:Cirque Warren Zavatta
DESCRIPTION: Cirque Warren Zavatta  \nReprésentation tous les jours à 16h (Durée 1h30). Parking du port de la Coudoulière\, corniche de la Coudoulière. SIX FOURS\nLe cirque Warren Zavatta vous propose son nouveau spectacle « Les 1000 couleurs » avec des numéros internationaux\, la Reine des Neiges\, la malle des Indes\, la grande illusion. Retour des Super Héros\, de nos multiples T-REX\, nos dinosaures robotisés\, tous les amis de la Pat’Patrouille\, les clowns musicaux et un final époustouflant. \nChapiteau chauffé.\n> Gradins : 12 € enfants / 16 € adultes. Chaises : 17 € enfants / 19 € adultes. Billetterie en vente sur place toute la journée (Demander la caissière). \nRenseignement 06 64 25 05 48   \n 
URL:https://lepetitvarois.fr/event/cirque-warren-zavatta/
CATEGORIES:Six-Fours
ATTACH;FMTTYPE=image/jpeg:https://lepetitvarois.fr/wp-content/uploads/2018/06/circus-828680_960_720.jpg
END:VEVENT
BEGIN:VEVENT
DTSTART;VALUE=DATE:20200220
DTEND;VALUE=DATE:20200222
DTSTAMP:20260419T225820
CREATED:20200202T200234Z
LAST-MODIFIED:20200202T200234Z
UID:14373-1582156800-1582329599@lepetitvarois.fr
SUMMARY:Exposition interactive "Cabinet de Curiosités"
DESCRIPTION: Exposition interactive « Cabinet de Curiosités » (ouvert à tous à partir de 5/6 ans) de 10h à 17h. \nFort Napoléon\, ch. Marc Sagnier. LA SEYNE\nUne exposition interactive pour explorer le patrimoine à travers une diversité d’objets\, de curiosités et d’activités pour toutes les générations. Du patrimoine maritime à l’alimentation\, un condensé de nos thématiques réunies en un « Cabinet de Curiosités » ludique et accessible à tous !  \nSurprises au rendez-vous ! En partenariat avec les producteurs locaux « La Boite à biscuits »\, Fraliberthé & 1336 \nExplorer le Patrimoine est un jeu !\n> 2 € par participant. Réservation conseillée. \nLuciole Association 07 83 25 12 67 luciole.asso@gmail.com 
URL:https://lepetitvarois.fr/event/exposition-interactive-cabinet-de-curiosites-2/
CATEGORIES:La Seyne
ATTACH;FMTTYPE=image/jpeg:https://lepetitvarois.fr/wp-content/uploads/2018/01/child-1031171_960_720-e1517350622812.jpg
END:VEVENT
BEGIN:VEVENT
DTSTART;TZID=Europe/Paris:20200221T140000
DTEND;TZID=Europe/Paris:20200221T170000
DTSTAMP:20260419T225821
CREATED:20200202T200323Z
LAST-MODIFIED:20200202T200323Z
UID:14375-1582293600-1582304400@lepetitvarois.fr
SUMMARY:Séances de planétarium 
DESCRIPTION:Séances de planétarium  \nObservatoire astronomique du Gros Cerveau\, 3000 route du Gros Cerveau . OLLIOULES\nA 14h et à 17h : séance « Lucia\, le secret des étoiles filantes » (à partir de 5 ans). \nAprès les aventures vécues lors du premier épisode Polaris\, James\, le manchot voyageur du pôle Sud\, et Vladimir\, l’ours rigolo du pôle Nord\, font la rencontre de Lucia\, un colibri\, tout aussi curieuse qu’eux. C’est tous ensemble qu’ils reprennent le chemin de l’espace pour tenter de percer le secret des étoiles filantes et des météorites\, ces mystérieux cailloux qui tombent sur Terre. \nEst-ce que la réponse se trouve sur la Lune ? L’observation des astéroïdes et de comètes peuvent sans doute aussi contribuer à la démarche scientifique de nos trois héros. À condition toutefois de bien s’entendre ! \n15h30 : séance enfants « Polaris » (à partir de 5 ans). \nJames\, un manchot voyageur du pôle Sud\, et Vladimir\, un ours rigolo du pôle Nord\, se rencontrent sur la banquise arctique. Apprentis astronomes\, ils se demandent pourquoi la nuit est si longue aux deux pôles de la Terre. Une aventure scientifique extraordinaire va les mener de la construction d’un observatoire à celle d’un vaisseau spatial de fortune. Au cours d’un voyage autour de la Terre puis vers Mars et Saturne\, ils répondront à leur interrogation et découvriront que les planètes ont des points communs mais aussi des différences ! \n18h30 : séance « De la Terre à l’Univers » (à partir de 12 ans). \nProduit par l’Observatoire Européen Austral\, ce spectacle vous propose un fascinant voyage à travers le temps et à travers l’espace. Voyage à travers le temps afin de découvrir comment a évolué au fil des siècles la perception par l’homme de notre Univers et de la place que nous y occupons. Mais également voyage à travers l’espace depuis les astres familiers peuplant notre système solaire jusqu’aux confins de l’Univers avec les amas de galaxies qui en sont les plus grandes structures. \n> 5 € par personne. Réservation obligatoire en ligne sur www.oagc.fr/programmation \nClub d’astronomie Véga 04 94 09 07 38 info@oagc.fr  \n 
URL:https://lepetitvarois.fr/event/seances-de-planetarium-41/
CATEGORIES:Ollioules
ATTACH;FMTTYPE=image/jpeg:https://lepetitvarois.fr/wp-content/uploads/2018/08/milky-way-1023340_960_720.jpg
END:VEVENT
BEGIN:VEVENT
DTSTART;TZID=Europe/Paris:20200221T190000
DTEND;TZID=Europe/Paris:20200221T210000
DTSTAMP:20260419T225821
CREATED:20200202T200504Z
LAST-MODIFIED:20200202T200504Z
UID:14377-1582311600-1582318800@lepetitvarois.fr
SUMMARY:Loto
DESCRIPTION: Loto à 19h. \nBourse du Travail\, 42 av. Gambetta. LA SEYNE\n> 5 € le carton / 15 € les 3 cartons / 30 € les 7 cartons. Réservation conseillée. \nRotary club La Seyne-Saint Mandrier 06 07 83 89 26 / 06 75 20 32 71  \n 
URL:https://lepetitvarois.fr/event/loto-19/
CATEGORIES:La Seyne
ATTACH;FMTTYPE=image/jpeg:https://lepetitvarois.fr/wp-content/uploads/2018/02/russkoe-loto-2676332_960_720.jpg
END:VEVENT
END:VCALENDAR