BEGIN:VCALENDAR
VERSION:2.0
PRODID:-//Le Petit Varois.Fr - ECPv6.0.10//NONSGML v1.0//EN
CALSCALE:GREGORIAN
METHOD:PUBLISH
X-WR-CALNAME:Le Petit Varois.Fr
X-ORIGINAL-URL:https://lepetitvarois.fr
X-WR-CALDESC:évènements pour Le Petit Varois.Fr
REFRESH-INTERVAL;VALUE=DURATION:PT1H
X-Robots-Tag:noindex
X-PUBLISHED-TTL:PT1H
BEGIN:VTIMEZONE
TZID:Europe/Paris
BEGIN:DAYLIGHT
TZOFFSETFROM:+0100
TZOFFSETTO:+0200
TZNAME:CEST
DTSTART:20200329T010000
END:DAYLIGHT
BEGIN:STANDARD
TZOFFSETFROM:+0200
TZOFFSETTO:+0100
TZNAME:CET
DTSTART:20201025T010000
END:STANDARD
END:VTIMEZONE
BEGIN:VEVENT
DTSTART;VALUE=DATE:20200218
DTEND;VALUE=DATE:20200302
DTSTAMP:20260419T212205
CREATED:20200202T195630Z
LAST-MODIFIED:20200202T195630Z
UID:14363-1581984000-1583107199@lepetitvarois.fr
SUMMARY:Cirque Warren Zavatta
DESCRIPTION: Cirque Warren Zavatta  \nReprésentation tous les jours à 16h (Durée 1h30). Parking du port de la Coudoulière\, corniche de la Coudoulière. SIX FOURS\nLe cirque Warren Zavatta vous propose son nouveau spectacle « Les 1000 couleurs » avec des numéros internationaux\, la Reine des Neiges\, la malle des Indes\, la grande illusion. Retour des Super Héros\, de nos multiples T-REX\, nos dinosaures robotisés\, tous les amis de la Pat’Patrouille\, les clowns musicaux et un final époustouflant. \nChapiteau chauffé.\n> Gradins : 12 € enfants / 16 € adultes. Chaises : 17 € enfants / 19 € adultes. Billetterie en vente sur place toute la journée (Demander la caissière). \nRenseignement 06 64 25 05 48   \n 
URL:https://lepetitvarois.fr/event/cirque-warren-zavatta/
CATEGORIES:Six-Fours
ATTACH;FMTTYPE=image/jpeg:https://lepetitvarois.fr/wp-content/uploads/2018/06/circus-828680_960_720.jpg
END:VEVENT
BEGIN:VEVENT
DTSTART;TZID=Europe/Paris:20200222T140000
DTEND;TZID=Europe/Paris:20200222T160000
DTSTAMP:20260419T212205
CREATED:20200202T200556Z
LAST-MODIFIED:20200202T200556Z
UID:14379-1582380000-1582387200@lepetitvarois.fr
SUMMARY:Atelier familial "Hissons les voiles"
DESCRIPTION: Atelier familial « Hissons les voiles » de 14h à 16h. \nMusée Balaguier\, 924 corniche Bonaparte . LA SEYNE\nÀ quoi sert une tape de bouche ? Comment se forment les coquillages ? D’où viennent les mythes et les légendes de la mer ? Quelles curiosités se cachent dans les fonds marins ? L’association Luciole vous propose de vivre une expérience ludique pour explorer les mystères de la mer et découvrir le patrimoine maritime autrement ! \nÀ destination des petits comme des grands\, cet atelier pluridisciplinaire invite les participants à être acteurs de la visite par l’expérience\, la manipulation\, l’observation\, la déduction\,… \nSurprises au rendez-vous ! En partenariat avec les producteurs locaux Fraliberthé & 1336.\n> 12 € par participant (comprend l’entrée au musée + l’atelier) / +2 € pour les enfants non-accompagnés / Gratuit pour les – 5 ans. Réservation fortement conseillée.  \nLuciole Association 07 83 25 12 67 luciole.asso@gmail.com – www.luciole-asso.com
URL:https://lepetitvarois.fr/event/atelier-familial-hissons-les-voiles/
CATEGORIES:La Seyne
ATTACH;FMTTYPE=image/jpeg:https://lepetitvarois.fr/wp-content/uploads/2019/01/child-817373_960_720.jpg
END:VEVENT
BEGIN:VEVENT
DTSTART;TZID=Europe/Paris:20200222T140000
DTEND;TZID=Europe/Paris:20200222T170000
DTSTAMP:20260419T212205
CREATED:20200202T200838Z
LAST-MODIFIED:20200202T200838Z
UID:14381-1582380000-1582390800@lepetitvarois.fr
SUMMARY:Loto
DESCRIPTION:Salle des Fêtes Marc Baron. ST MANDRIER\nLoto caritatif au profit des pupilles et blessés de la défense. \nDe nombreux lots à gagner dont : séjour 2 personnes\, bons salons de coiffure\, soins du corps\, repas restaurants\, jardinerie\, entrées parcs attractions\, électroménager\, bons d’achats… \n> 5 € le carton / 15 € les 4 cartons / 20 € les 6 cartons. Réservation obligatoire. \nSociété Nationale Entraide Médaille Militaire 06 68 34 54 64 daniel.thomas9@orange.fr  \n 
URL:https://lepetitvarois.fr/event/loto-20/
CATEGORIES:Saint-Mandrier
ATTACH;FMTTYPE=image/jpeg:https://lepetitvarois.fr/wp-content/uploads/2018/01/lotto-2103318_960_720.jpg
END:VEVENT
BEGIN:VEVENT
DTSTART;TZID=Europe/Paris:20200222T143000
DTEND;TZID=Europe/Paris:20200222T170000
DTSTAMP:20260419T212205
CREATED:20200202T200935Z
LAST-MODIFIED:20200202T200935Z
UID:14383-1582381800-1582390800@lepetitvarois.fr
SUMMARY:Loto
DESCRIPTION: Loto à 14h30. \nBourse du Travail\, 42 av. Gambetta. LA SEYNE\nComme chaque année et comme pour chaque loto\, ce sera un bon moment pour se retrouver et renouveler notre solidarité afin d’ améliorer les finances pour soutenir les écoles andines. \nDe nombreux lots à gagner. \n> 6 € le carton / 15 € les 3 cartons. Réservation conseillée. \nLes Enfants d’Atacama (Association) 06 88 08 08 94 / 09 65 14 62 49  
URL:https://lepetitvarois.fr/event/loto-21/
CATEGORIES:La Seyne
ATTACH;FMTTYPE=image/jpeg:https://lepetitvarois.fr/wp-content/uploads/2018/12/47146727_2408017149425928_791952447093342208_n.jpg
END:VEVENT
END:VCALENDAR