BEGIN:VCALENDAR
VERSION:2.0
PRODID:-//Le Petit Varois.Fr - ECPv6.0.10//NONSGML v1.0//EN
CALSCALE:GREGORIAN
METHOD:PUBLISH
X-WR-CALNAME:Le Petit Varois.Fr
X-ORIGINAL-URL:https://lepetitvarois.fr
X-WR-CALDESC:évènements pour Le Petit Varois.Fr
REFRESH-INTERVAL;VALUE=DURATION:PT1H
X-Robots-Tag:noindex
X-PUBLISHED-TTL:PT1H
BEGIN:VTIMEZONE
TZID:Europe/Paris
BEGIN:DAYLIGHT
TZOFFSETFROM:+0100
TZOFFSETTO:+0200
TZNAME:CEST
DTSTART:20200329T010000
END:DAYLIGHT
BEGIN:STANDARD
TZOFFSETFROM:+0200
TZOFFSETTO:+0100
TZNAME:CET
DTSTART:20201025T010000
END:STANDARD
END:VTIMEZONE
BEGIN:VEVENT
DTSTART;VALUE=DATE:20200218
DTEND;VALUE=DATE:20200302
DTSTAMP:20260419T195648
CREATED:20200202T195630Z
LAST-MODIFIED:20200202T195630Z
UID:14363-1581984000-1583107199@lepetitvarois.fr
SUMMARY:Cirque Warren Zavatta
DESCRIPTION: Cirque Warren Zavatta  \nReprésentation tous les jours à 16h (Durée 1h30). Parking du port de la Coudoulière\, corniche de la Coudoulière. SIX FOURS\nLe cirque Warren Zavatta vous propose son nouveau spectacle « Les 1000 couleurs » avec des numéros internationaux\, la Reine des Neiges\, la malle des Indes\, la grande illusion. Retour des Super Héros\, de nos multiples T-REX\, nos dinosaures robotisés\, tous les amis de la Pat’Patrouille\, les clowns musicaux et un final époustouflant. \nChapiteau chauffé.\n> Gradins : 12 € enfants / 16 € adultes. Chaises : 17 € enfants / 19 € adultes. Billetterie en vente sur place toute la journée (Demander la caissière). \nRenseignement 06 64 25 05 48   \n 
URL:https://lepetitvarois.fr/event/cirque-warren-zavatta/
CATEGORIES:Six-Fours
ATTACH;FMTTYPE=image/jpeg:https://lepetitvarois.fr/wp-content/uploads/2018/06/circus-828680_960_720.jpg
END:VEVENT
BEGIN:VEVENT
DTSTART;TZID=Europe/Paris:20200223T093000
DTEND;TZID=Europe/Paris:20200223T113000
DTSTAMP:20260419T195648
CREATED:20200202T201119Z
LAST-MODIFIED:20200202T201119Z
UID:14385-1582450200-1582457400@lepetitvarois.fr
SUMMARY:Sophro-balade
DESCRIPTION:■ Sophro-balade de 9h30 à 11h30. \nLieu donné lors de la réservation. SIX FOURS\nvivez une expérience de connexions à soi et à la nature ! un moment tout en douceur et sérénité pour vous libérer de vos tensions\, retrouver une harmonie\, votre bien-être et votre énergie ! Nous alternons un temps de marche douce et consciente\, avec des pauses sophrologie. \nParcours de 2 km – niveau facile\n> 15 € la sophro-balade / 39 € les 3 sophro-balades / 60 € les 5 sophro-balades. Inscription obligatoire car nombre de participants limités. \nStéphane Plessis (Sophrologue) 06 52 11 56 00
URL:https://lepetitvarois.fr/event/sophro-balade-2/
CATEGORIES:Six-Fours
ATTACH;FMTTYPE=image/jpeg:https://lepetitvarois.fr/wp-content/uploads/2019/09/woman-3990769_960_720.jpg
END:VEVENT
BEGIN:VEVENT
DTSTART;TZID=Europe/Paris:20200223T120000
DTEND;TZID=Europe/Paris:20200223T180000
DTSTAMP:20260419T195648
CREATED:20200202T201220Z
LAST-MODIFIED:20200202T201220Z
UID:14387-1582459200-1582480800@lepetitvarois.fr
SUMMARY:Repas dansant avec Marcel Musette
DESCRIPTION: Repas dansant avec Marcel Musette\, animateur Dj et chanteur de 12h à 18h. \nSalle Scarantino\, 45 rue du Stade. SIX FOURS\n> 28 € adhérents / 30 € non-adhérents. Réservation obligatoire. \nAssociation Starmelody 06 14 33 17 76 83starmelody@gmail.com 
URL:https://lepetitvarois.fr/event/repas-dansant-avec-marcel-musette/
CATEGORIES:Six-Fours
ATTACH;FMTTYPE=image/jpeg:https://lepetitvarois.fr/wp-content/uploads/2018/06/dance-238263_960_720.jpg
END:VEVENT
BEGIN:VEVENT
DTSTART;TZID=Europe/Paris:20200223T140000
DTEND;TZID=Europe/Paris:20200223T190000
DTSTAMP:20260419T195648
CREATED:20200202T201336Z
LAST-MODIFIED:20200202T201336Z
UID:14389-1582466400-1582484400@lepetitvarois.fr
SUMMARY:Séances de planétarium
DESCRIPTION:Séances de planétarium  \nObservatoire astronomique du Gros Cerveau\, 3000 route du Gros Cerveau . OLLIOULES\nA 14h et à 17h : séance « Lucia\, le secret des étoiles filantes » (à partir de 5 ans). \nAprès les aventures vécues lors du premier épisode Polaris\, James\, le manchot voyageur du pôle Sud\, et Vladimir\, l’ours rigolo du pôle Nord\, font la rencontre de Lucia\, un colibri\, tout aussi curieuse qu’eux. C’est tous ensemble qu’ils reprennent le chemin de l’espace pour tenter de percer le secret des étoiles filantes et des météorites\, ces mystérieux cailloux qui tombent sur Terre. \nEst-ce que la réponse se trouve sur la Lune ? L’observation des astéroïdes et de comètes peuvent sans doute aussi contribuer à la démarche scientifique de nos trois héros. À condition toutefois de bien s’entendre ! \n15h30 : séance enfants « Polaris » (à partir de 5 ans). \nJames\, un manchot voyageur du pôle Sud\, et Vladimir\, un ours rigolo du pôle Nord\, se rencontrent sur la banquise arctique. Apprentis astronomes\, ils se demandent pourquoi la nuit est si longue aux deux pôles de la Terre. Une aventure scientifique extraordinaire va les mener de la construction d’un observatoire à celle d’un vaisseau spatial de fortune. Au cours d’un voyage autour de la Terre puis vers Mars et Saturne\, ils répondront à leur interrogation et découvriront que les planètes ont des points communs mais aussi des différences ! \n18h30 : séance « De Apollo XI à l’ISS » (à partir de 10 ans). \nIl y a 50 ans\, Neil Armstrong et Buzz Aldrin foulèrent pour la première fois le sol lunaire dans le cadre de la mission Apollo 11. Six autres lancements suivirent jusqu’à Apollo 17 qui fut en 1972 la dernière occasion de voir un homme marcher sur la Lune. Depuis 47 ans\, l’orbite terrestre basse constitue la seule et unique destination des astronautes et la station spatiale internationale (ISS) le seul avant-poste spatial occupé en permanence par l’homme. Cette séance sera l’occasion de revivre 50 ans après cette mission Apollo 11\, mais également de découvrir la station spatiale internationale que nous pouvons régulièrement voir passer dans le ciel nocturne. \n> 5 € par personne. Réservation obligatoire en ligne sur www.oagc.fr/programmation \nClub d’astronomie Véga 04 94 09 07 38 info@oagc.fr 
URL:https://lepetitvarois.fr/event/seances-de-planetarium-42/
CATEGORIES:Ollioules
ATTACH;FMTTYPE=image/jpeg:https://lepetitvarois.fr/wp-content/uploads/2018/08/sky-828648_960_720.jpg
END:VEVENT
BEGIN:VEVENT
DTSTART;TZID=Europe/Paris:20200223T143000
DTEND;TZID=Europe/Paris:20200223T170000
DTSTAMP:20260419T195648
CREATED:20200202T201438Z
LAST-MODIFIED:20200202T201438Z
UID:14391-1582468200-1582477200@lepetitvarois.fr
SUMMARY:Loto
DESCRIPTION:Loto à 14h30. \nSalle des Fêtes\, av. Anatole France. OLLIOULES\n> Réservation conseillée.\nComité de la Saint Eloi 04 94 63 14 81 
URL:https://lepetitvarois.fr/event/loto-22/
CATEGORIES:Ollioules
ATTACH;FMTTYPE=image/jpeg:https://lepetitvarois.fr/wp-content/uploads/2018/01/lotto-2103318_960_720.jpg
END:VEVENT
BEGIN:VEVENT
DTSTART;TZID=Europe/Paris:20200223T150000
DTEND;TZID=Europe/Paris:20200223T170000
DTSTAMP:20260419T195648
CREATED:20200202T201539Z
LAST-MODIFIED:20200202T201539Z
UID:14393-1582470000-1582477200@lepetitvarois.fr
SUMMARY:Concert au profit de la SNSM
DESCRIPTION:Concert au profit de la SNSM à 15h. \nEspace culturel André Malraux\, 100 av. de Lattre de Tassigny. SIX FOURS\nPremière partie: Ensemble Les Cuivres de la Garde. \nSeconde partie: Orchestre d’harmonie de La Six-Fournaise sous la direction de Gisèle Ghigo. \nPrésentations et animations orchestrées par les bénévoles de la SNSM. \n> Participation libre. Les recettes feront l’objet d’un don au profit de la SNSM. \nSociété philharmonique la Six Fournaise 06 87 63 32 16 sixfoursphilharmonie@gmail.com 
URL:https://lepetitvarois.fr/event/concert-au-profit-de-la-snsm/
CATEGORIES:Six-Fours
ATTACH;FMTTYPE=image/jpeg:https://lepetitvarois.fr/wp-content/uploads/2019/09/snsm-bandol-inter-20190913_4.jpg
END:VEVENT
END:VCALENDAR