BEGIN:VCALENDAR
VERSION:2.0
PRODID:-//Le Petit Varois.Fr - ECPv6.0.10//NONSGML v1.0//EN
CALSCALE:GREGORIAN
METHOD:PUBLISH
X-WR-CALNAME:Le Petit Varois.Fr
X-ORIGINAL-URL:https://lepetitvarois.fr
X-WR-CALDESC:évènements pour Le Petit Varois.Fr
REFRESH-INTERVAL;VALUE=DURATION:PT1H
X-Robots-Tag:noindex
X-PUBLISHED-TTL:PT1H
BEGIN:VTIMEZONE
TZID:Europe/Paris
BEGIN:DAYLIGHT
TZOFFSETFROM:+0100
TZOFFSETTO:+0200
TZNAME:CEST
DTSTART:20200329T010000
END:DAYLIGHT
BEGIN:STANDARD
TZOFFSETFROM:+0200
TZOFFSETTO:+0100
TZNAME:CET
DTSTART:20201025T010000
END:STANDARD
END:VTIMEZONE
BEGIN:VEVENT
DTSTART;VALUE=DATE:20200310
DTEND;VALUE=DATE:20200312
DTSTAMP:20260419T183641
CREATED:20200307T202851Z
LAST-MODIFIED:20200307T202851Z
UID:14667-1583798400-1583971199@lepetitvarois.fr
SUMMARY:Opération #Trouve un job
DESCRIPTION:Opération #Trouve un job  \nMaison de la Jeunesse\, 10 place Germain Loro. LA SEYNE\nCes journées se divisent entre des préparations à l’entretien (sur rendez-vous) le mardi et des rencontres avec les entreprises le mercredi.\n> Gratuit. Inscription obligatoire.\nBureau Information Jeunesse 04 94 06 07 80 bij83500@gmail.com 
URL:https://lepetitvarois.fr/event/operation-trouve-un-job/
CATEGORIES:La Seyne
ATTACH;FMTTYPE=image/jpeg:https://lepetitvarois.fr/wp-content/uploads/2019/04/Job-Ete-2019-Nicky-680x360.jpg
END:VEVENT
BEGIN:VEVENT
DTSTART;VALUE=DATE:20200310
DTEND;VALUE=DATE:20200323
DTSTAMP:20260419T183641
CREATED:20200307T202949Z
LAST-MODIFIED:20200307T202949Z
UID:14669-1583798400-1584921599@lepetitvarois.fr
SUMMARY:22è Printemps des poètes "Le Courage"
DESCRIPTION: 22è Printemps des poètes « Le Courage »  \nCouvent des Observantins\, placette Trotobas. OLLIOULES\nAu programme : exposition\, soirée musique et poésies\, événements spéciaux pour les scolaires… \n> Entrée libre. \nMairie d’Ollioules 04 94 30 41 41 / 04 94 30 41 www.ollioules.fr
URL:https://lepetitvarois.fr/event/22e-printemps-des-poetes-le-courage/
CATEGORIES:Ollioules
ATTACH;FMTTYPE=image/jpeg:https://lepetitvarois.fr/wp-content/uploads/2018/04/flowers-2453749_960_720.jpg
END:VEVENT
BEGIN:VEVENT
DTSTART;TZID=Europe/Paris:20200311T100000
DTEND;TZID=Europe/Paris:20200311T120000
DTSTAMP:20260419T183641
CREATED:20200308T090718Z
LAST-MODIFIED:20200308T090718Z
UID:14671-1583920800-1583928000@lepetitvarois.fr
SUMMARY:Atelier familial "A l'assaut du fort !"
DESCRIPTION: Atelier familial « A l’assaut du fort ! » de 10h à 12h. \nFort Napoléon\, ch. Marc Sagnier. LA SEYNE\nÀ quoi servait le fort Napoléon ? Quelles sont ses dimensions? C’est quoi une gargouille ? Combien de temps a-t-on mis pour construire ce monument ? … Venez partager une expérience ludique en famille pour explorer l’architecture du Fort Napoléon et découvrir les mystères du patrimoine fortifié !  \nSurprises au rendez-vous ! En partenariat avec les producteurs locaux Fraliberthé & 1336.  \nExplorer le Patrimoine est un jeu !\n> 10 € par participant / 12 € par enfant non-accompagné / gratuit pour les – 5 ans. Réservation obligatoire. Luciole Association 07 83 25 12 67 luciole.asso@gmail.com 
URL:https://lepetitvarois.fr/event/atelier-familial-a-lassaut-du-fort-2/
CATEGORIES:La Seyne
END:VEVENT
BEGIN:VEVENT
DTSTART;TZID=Europe/Paris:20200311T103000
DTEND;TZID=Europe/Paris:20200311T170000
DTSTAMP:20260419T183641
CREATED:20200308T090831Z
LAST-MODIFIED:20200308T090831Z
UID:14673-1583922600-1583946000@lepetitvarois.fr
SUMMARY:Bébé bouquine
DESCRIPTION:Bébé bouquine à 10h30. \nMédiathèque Pierre Caminade\, 1 rue François Croce. LA SEYNE\n> Accès libre. \nMédiathèque Pierre Caminade 04 94 06 95 94 biblio.caminade@la-seyne.fr – https://bibliotheques.la-seyne.fr
URL:https://lepetitvarois.fr/event/bebe-bouquine/
CATEGORIES:La Seyne
ATTACH;FMTTYPE=image/jpeg:https://lepetitvarois.fr/wp-content/uploads/2018/02/bookcase-1869616_960_720.jpg
END:VEVENT
BEGIN:VEVENT
DTSTART;TZID=Europe/Paris:20200311T143000
DTEND;TZID=Europe/Paris:20200311T170000
DTSTAMP:20260419T183641
CREATED:20200308T091012Z
LAST-MODIFIED:20200308T091012Z
UID:14675-1583937000-1583946000@lepetitvarois.fr
SUMMARY:Ciné jeunesse
DESCRIPTION:Ciné jeunesse (enfants de plus de 6 ans) à 14h30. \nMédiathèque Le Clos Saint Louis\, Av. Henri Guillaume . LA SEYNE\nSéance de projection pour les enfants. Se renseigner directement auprès de la médiathèque pour connaître le titre du film. \n> Gratuit. \nMédiathèque Le Clos Saint Louis 04 94 06 90 95  https://bibliotheques.la-seyne.fr
URL:https://lepetitvarois.fr/event/cine-jeunesse-15/
CATEGORIES:La Seyne
ATTACH;FMTTYPE=image/png:https://lepetitvarois.fr/wp-content/uploads/2020/01/Capture-d’écran-2020-01-10-à-00.39.08.png
END:VEVENT
BEGIN:VEVENT
DTSTART;TZID=Europe/Paris:20200311T143000
DTEND;TZID=Europe/Paris:20200311T170000
DTSTAMP:20260419T183641
CREATED:20200308T091239Z
LAST-MODIFIED:20200308T091239Z
UID:14677-1583937000-1583946000@lepetitvarois.fr
SUMMARY:Heure du conte créative
DESCRIPTION:Heure du conte créative (enfants de 6 à 10 ans) à 14h30.\nMédiathèque Pierre Caminade\, 1 rue François Croce. LA SEYNE\n> Gratuit. Gratuit sur inscription au 04 94 06 95 94. Inscription obligatoire.\nMédiathèque Pierre Caminade 04 94 06 95 94 biblio.caminade@la-seyne.fr – https://bibliotheques.la-seyne.fr \n 
URL:https://lepetitvarois.fr/event/heure-du-conte-creative-3/
CATEGORIES:La Seyne
ATTACH;FMTTYPE=image/png:https://lepetitvarois.fr/wp-content/uploads/2020/02/Capture-d’écran-2020-02-27-à-17.32.40.png
END:VEVENT
END:VCALENDAR