BEGIN:VCALENDAR
VERSION:2.0
PRODID:-//Le Petit Varois.Fr - ECPv6.0.10//NONSGML v1.0//EN
CALSCALE:GREGORIAN
METHOD:PUBLISH
X-WR-CALNAME:Le Petit Varois.Fr
X-ORIGINAL-URL:https://lepetitvarois.fr
X-WR-CALDESC:évènements pour Le Petit Varois.Fr
REFRESH-INTERVAL;VALUE=DURATION:PT1H
X-Robots-Tag:noindex
X-PUBLISHED-TTL:PT1H
BEGIN:VTIMEZONE
TZID:Europe/Paris
BEGIN:DAYLIGHT
TZOFFSETFROM:+0100
TZOFFSETTO:+0200
TZNAME:CEST
DTSTART:20180325T010000
END:DAYLIGHT
BEGIN:STANDARD
TZOFFSETFROM:+0200
TZOFFSETTO:+0100
TZNAME:CET
DTSTART:20181028T010000
END:STANDARD
END:VTIMEZONE
BEGIN:VEVENT
DTSTART;TZID=Europe/Paris:20180605T093000
DTEND;TZID=Europe/Paris:20180605T110000
DTSTAMP:20260425T213520
CREATED:20180601T133009Z
LAST-MODIFIED:20180601T133009Z
UID:5031-1528191000-1528196400@lepetitvarois.fr
SUMMARY:Visite guidée du Canal des arrosants
DESCRIPTION:Se présenter sur place 1/4 d’heure avant. Durée de la visite : 2h30.\nNotre guide vous invite à découvrir comment les eaux vives de la Reppe ont été domestiquées par l’homme à partir du Moyen-Age grâce à la construction de canaux et qui regroupent le Canal des Moulins\, des Fontaines et des jardins.\nLes Ollioulais\, au cours des siècles\, ont avec ingéniosité et obstination su partager ces eaux. Vous apprendrez comment Ollioules est devenue la capitale de la fleur de 1850 à 1990. Vous visiterez le Moulin de Palisson\, véritable moulin à farine du XVe siècle en cours de réhabilitation. \nLieu : Office de Tourisme
URL:https://lepetitvarois.fr/event/visite-guidee-du-canal-des-arrosants/
CATEGORIES:Ollioules
ATTACH;FMTTYPE=image/jpeg:https://lepetitvarois.fr/wp-content/uploads/2018/04/cherry-blossom-3323383_960_720.jpg
END:VEVENT
BEGIN:VEVENT
DTSTART;TZID=Europe/Paris:20180605T183000
DTEND;TZID=Europe/Paris:20180605T203000
DTSTAMP:20260425T213520
CREATED:20180601T134435Z
LAST-MODIFIED:20180601T134435Z
UID:5038-1528223400-1528230600@lepetitvarois.fr
SUMMARY:Conférence de l'Université du Temps Libre "Les amours des héros et des Dieux de la Mythologie Classique"
DESCRIPTION:Conférence animée par François Martin\, conférencier en histoire de l’art. \nMardi 05 juin 2018 \nÀ 18:30 \, Lieu : Salle Jean Moulin \n 
URL:https://lepetitvarois.fr/event/conference-de-luniversite-du-temps-libre-les-amours-des-heros-et-des-dieux-de-la-mythologie-classique/
CATEGORIES:Ollioules
ATTACH;FMTTYPE=image/jpeg:https://lepetitvarois.fr/wp-content/uploads/2018/02/startup-594090_960_720.jpg
END:VEVENT
BEGIN:VEVENT
DTSTART;TZID=Europe/Paris:20180607T080000
DTEND;TZID=Europe/Paris:20180607T170000
DTSTAMP:20260425T213520
CREATED:20180607T175959Z
LAST-MODIFIED:20180607T175959Z
UID:5327-1528358400-1528390800@lepetitvarois.fr
SUMMARY:Vente caritative
DESCRIPTION:Vente caritative de 9h à 17h.\nEspace Henri Dunant. OLLIOULES\nFoire aux livres\, jouets\, brocante\, linge adultes\, enfants et maison\, chaussures… stands de jeux pour enfants et ados\, enveloppes surprises\, fléchettes\, chamboule-tout\, jeux de quilles \, basket-ball… \nVenez nombreux au profit des personnes déshéritées et nécessiteuses. \nSolidarité Ollioulaise
URL:https://lepetitvarois.fr/event/vente-caritative/
CATEGORIES:Ollioules
ATTACH;FMTTYPE=image/jpeg:https://lepetitvarois.fr/wp-content/uploads/2018/02/art-21542_960_720.jpg
END:VEVENT
BEGIN:VEVENT
DTSTART;TZID=Europe/Paris:20180608T093000
DTEND;TZID=Europe/Paris:20180608T180000
DTSTAMP:20260425T213520
CREATED:20180606T195853Z
LAST-MODIFIED:20180606T195853Z
UID:5235-1528450200-1528480800@lepetitvarois.fr
SUMMARY:5e salon des seniors
DESCRIPTION:5e salon des seniors de 9h30 à 12h et de 14h à 18h.\nEspace Pierre Puget\, place Marius Trotobas. OLLIOULES\nStands\, animations\, démonstrations… \nAssociation Provence Méditerranée Evènements 07 62 80 90 08
URL:https://lepetitvarois.fr/event/5e-salon-des-seniors/2018-06-08/
CATEGORIES:Ollioules
ATTACH;FMTTYPE=image/jpeg:https://lepetitvarois.fr/wp-content/uploads/2018/05/old-people-753591_960_720.jpg
END:VEVENT
BEGIN:VEVENT
DTSTART;TZID=Europe/Paris:20180608T140000
DTEND;TZID=Europe/Paris:20180608T170000
DTSTAMP:20260425T213520
CREATED:20180606T200242Z
LAST-MODIFIED:20180606T200242Z
UID:5238-1528466400-1528477200@lepetitvarois.fr
SUMMARY:Douzième festival Georges Brassens
DESCRIPTION:Salle des Fêtes\, 17 av. Anatole France. OLLIOULES\nPendant un weekend\, différents groupes musicaux vous font vivre ou revivre les chansons de Georges Brassens. \nVendredi 8 juin :  \n14h\, concert des élèves des écoles ollioulaises. \n21h\, concert de Christina Rosmini en trio. \nSamedi 9 juin :  \n21h\, concert La Mauvaise Réputation. \nDimanche 10 juin :  \n17h\,  concert Sale Petit Bonhomme.\n> 15 € 1 concert / 25 € 2 concerts / 35 € 3 concerts. Réservation conseillée.\nExpression Musicale Ollioulaise (Association)  06 12 05 39 96
URL:https://lepetitvarois.fr/event/douzieme-festival-georges-brassens/2018-06-08/
CATEGORIES:Ollioules
ATTACH;FMTTYPE=image/jpeg:https://lepetitvarois.fr/wp-content/uploads/2018/02/mic-1132528_960_720.jpg
END:VEVENT
BEGIN:VEVENT
DTSTART;TZID=Europe/Paris:20180610T070000
DTEND;TZID=Europe/Paris:20180610T140000
DTSTAMP:20260425T213520
CREATED:20180607T172142Z
LAST-MODIFIED:20180607T172142Z
UID:5297-1528614000-1528639200@lepetitvarois.fr
SUMMARY:Vide-greniers du Comité des Fêtes de la Gare
DESCRIPTION:Vide-greniers du Comité des Fêtes de la Gare de 7h à 14h (Reporté au 17 juin si météo défavorable)\nRoute de la Gare. OLLIOULES\n> 18 € l’emplacement voiture / 22 € pour les fourgons ou remorques 7m. Inscription obligatoire pour les emplacements.\nComité des fêtes de la gare 06 95 30 94 14  
URL:https://lepetitvarois.fr/event/vide-greniers-du-comite-des-fetes-de-la-gare/
CATEGORIES:Ollioules
ATTACH;FMTTYPE=image/jpeg:https://lepetitvarois.fr/wp-content/uploads/2018/03/easter-3263657_960_720.jpg
END:VEVENT
BEGIN:VEVENT
DTSTART;TZID=Europe/Paris:20180610T093000
DTEND;TZID=Europe/Paris:20180610T183000
DTSTAMP:20260425T213520
CREATED:20180607T172812Z
LAST-MODIFIED:20180607T172812Z
UID:5304-1528623000-1528655400@lepetitvarois.fr
SUMMARY:Grande fête champêtre
DESCRIPTION:Grande fête champêtre de 9h30 à 18h30.\nParc public de la Castellane\, ch. de La Castellane. OLLIOULES\n9h30\, concours de boules \n12h45\, repas champêtre et à partir de 13h45\, musette et variétés avec l’orchestre Michel Sylvestre. \n> 29 € / 25 € adhérents. Réservation obligatoire.\nOllioules d’Abord (Association) 04 94 63 10 74
URL:https://lepetitvarois.fr/event/grande-fete-champetre/
CATEGORIES:Ollioules
ATTACH;FMTTYPE=image/jpeg:https://lepetitvarois.fr/wp-content/uploads/2018/06/break-11881_960_720.jpg
END:VEVENT
BEGIN:VEVENT
DTSTART;TZID=Europe/Paris:20180616T080000
DTEND;TZID=Europe/Paris:20180617T170000
DTSTAMP:20260425T213520
CREATED:20180607T181548Z
LAST-MODIFIED:20180607T181548Z
UID:5338-1529136000-1529254800@lepetitvarois.fr
SUMMARY:9e journées nationales de l'archéologie
DESCRIPTION:9e journées nationales de l’archéologie – OLLIOULES \nVisites guidées\, expositions\, jeu de piste… \nProgramme complet sur www.ollioules.fr \nMairie d’Ollioules 04 94 30 41 41
URL:https://lepetitvarois.fr/event/9e-journees-nationales-de-larcheologie/
CATEGORIES:Ollioules
ATTACH;FMTTYPE=image/jpeg:https://lepetitvarois.fr/wp-content/uploads/2018/06/column-2001077_960_720.jpg
END:VEVENT
BEGIN:VEVENT
DTSTART;TZID=Europe/Paris:20180616T100000
DTEND;TZID=Europe/Paris:20180616T180000
DTSTAMP:20260425T213520
CREATED:20180607T180550Z
LAST-MODIFIED:20180607T180550Z
UID:5332-1529143200-1529172000@lepetitvarois.fr
SUMMARY:Ollioules Games
DESCRIPTION:Ollioules Games de 10h à 18h.\nSalle de la Criée\, 50 rue Nationale et place Jean Jaurès. OLLIOULES\nConcours Cosplay\, salle rétro gaming\, atelier cartes Pokemon\, vidéo game story\, atelier make-up et de nombreuses autres activités autour du jeu (pêche aux canards\, château gonflable\, concours de selfies\, atelier prévention\, 2 échassiers\, cosplayers…). \nAssociation A.C.E. Ollioules (Commerçants d’Ollioules) 04 94 30 41 28
URL:https://lepetitvarois.fr/event/ollioules-games/
CATEGORIES:Ollioules
ATTACH;FMTTYPE=image/jpeg:https://lepetitvarois.fr/wp-content/uploads/2018/06/pokemon-1577763_960_720.jpg
END:VEVENT
BEGIN:VEVENT
DTSTART;TZID=Europe/Paris:20180619T093000
DTEND;TZID=Europe/Paris:20180619T123000
DTSTAMP:20260425T213520
CREATED:20180607T182718Z
LAST-MODIFIED:20180607T182718Z
UID:5353-1529400600-1529411400@lepetitvarois.fr
SUMMARY:Visite guidée : A la découverte du cœur historique d'Ollioules
DESCRIPTION:Visite guidée : A la découverte du cœur historique d’Ollioules à 9h30.\nRDV devant l’office de tourisme d’Ollioules à 9h15\, 116 av. Philippe de Hautecloque. OLLIOULES. \nDurée de la visite : 2h. \nNotre guide vous propose une découverte d’Ollioules en 2 parties : La visite de la cité de l’olivier vous emmènera à la rencontre d’un patrimoine riche et préservé ; église romane Saint Laurent\, ruelles et façades médiévales comportant porches et arcades… Dans le quartier Renaissance\, les célèbres gypseries provençales vous livreront tous leurs secrets. \nVous vous rendrez ensuite dans la fabrique artisanale de nougat Jonquier ! Vous apprendrez tout sur cette délicieuse confiserie\, son histoire avec visite de l’atelier\, une démonstration de la réalisation de nougat et une dégustation des différents types de nougats (blanc\, noir\, dur et tendre).\n> 8 € adulte / 2 € pour les enfants de 6 à 12 ans / Gratuit pour les -6 ans. Inscription obligatoire à l’avance dans nos accueils.\nRenseignement OT Ollioules 04 94 63 11 74
URL:https://lepetitvarois.fr/event/visite-guidee-a-la-decouverte-du-coeur-historique-dollioules/
CATEGORIES:Ollioules
ATTACH;FMTTYPE=image/jpeg:https://lepetitvarois.fr/wp-content/uploads/2018/04/france-849459_960_720.jpg
END:VEVENT
BEGIN:VEVENT
DTSTART;TZID=Europe/Paris:20180620T140000
DTEND;TZID=Europe/Paris:20180620T170000
DTSTAMP:20260425T213520
CREATED:20180607T183202Z
LAST-MODIFIED:20180607T183202Z
UID:5360-1529503200-1529514000@lepetitvarois.fr
SUMMARY:Forum Culture pour la Vie
DESCRIPTION:Forum Culture pour la Vie à partir de 14h.\nEspace Pierre Puget\, place Marius Trotobas. \n14h : ouverture officielle en présence de M. Robert Bénéventi\, Maire d’Ollioules. \nAu programme : atelier gymnastique\, atelier mémoire\, démonstration\, atelier marche\, conférences médicales\, atelier nutrition cuisine\, diaporama… \n16h\, salle Jean Moulin : représentation théâtrale par l’association La Chilière animée par Mme Chantal Ustache (auteur du texte et mise en scène) et Monsieur Francis Dondi.\nUn goûter diététique offert par la Municipalité clôturera la manifestation.
URL:https://lepetitvarois.fr/event/forum-culture-pour-la-vie/
CATEGORIES:Ollioules
ATTACH;FMTTYPE=image/jpeg:https://lepetitvarois.fr/wp-content/uploads/2018/06/girls-739071_960_720.jpg
END:VEVENT
BEGIN:VEVENT
DTSTART;TZID=Europe/Paris:20180622T203000
DTEND;TZID=Europe/Paris:20180622T233000
DTSTAMP:20260425T213520
CREATED:20180608T191333Z
LAST-MODIFIED:20180608T191333Z
UID:5401-1529699400-1529710200@lepetitvarois.fr
SUMMARY:Spectacle de théâtre par la Cie Un Mot Une Voix
DESCRIPTION:Spectacle de théâtre par la Cie Un Mot Une Voix à 20h30.\nSalle des Fêtes\, 17 av. Anatole France. OLLIOULES\nPrésentation de 3 pièces : « La veuve Convoitée » de Victor Haïm et « Couple ouvert à deux battants » de Dario Fo et « Les fous de la reine » de Jacques Rampal. « La veuve Convoitée » : Le comte Orazio est pauvre\, il survit tant bien que mal face aux tracasseries des vautours auxquels il doit de l’argent. Bigolina\, sa fidèle servante utilise toute sa force pour épargner à son maître un désespoir irrémédiable.  \nAvec : Anne Bérenger\, Nicole Bréa\, Olivier Bunod   Claude Courtiller\, Marie-Hélène Grosso\, Marie-Eugénie Larrieu\, Fanny  Laurent Poli\, Claude Thibault. \n> 8 € / Gratuit pour les moins 18 ans.\nCompagnie Un Mot Une Voix 06 10 73 30 69
URL:https://lepetitvarois.fr/event/spectacle-de-theatre-par-la-cie-un-mot-une-voix/
CATEGORIES:Ollioules
ATTACH;FMTTYPE=image/jpeg:https://lepetitvarois.fr/wp-content/uploads/2018/06/audience-828584_960_720.jpg
END:VEVENT
BEGIN:VEVENT
DTSTART;TZID=Europe/Paris:20180622T210000
DTEND;TZID=Europe/Paris:20180622T230000
DTSTAMP:20260425T213520
CREATED:20180608T191728Z
LAST-MODIFIED:20180608T191728Z
UID:5405-1529701200-1529708400@lepetitvarois.fr
SUMMARY:Fête de la Baume à 21h
DESCRIPTION:Fête de la Baume à 21h.\nQuartier La Baume\, ch. de la Baume. OLLIOULES\nSpectacle de danses\, défilé des Lys d’Ollioules & des Cigalons de Provence\, retraite aux flambeaux et feu de la Saint Jean. \nComité officiel des fêtes  06 11 93 69 91
URL:https://lepetitvarois.fr/event/fete-de-la-baume-a-21h/
CATEGORIES:Ollioules
ATTACH;FMTTYPE=image/jpeg:https://lepetitvarois.fr/wp-content/uploads/2018/04/woman-1975407_960_720.jpg
END:VEVENT
BEGIN:VEVENT
DTSTART;TZID=Europe/Paris:20180630T160000
DTEND;TZID=Europe/Paris:20180630T213000
DTSTAMP:20260425T213520
CREATED:20180625T194957Z
LAST-MODIFIED:20180625T194957Z
UID:5692-1530374400-1530394200@lepetitvarois.fr
SUMMARY:13e pique-nique de la Fraternité à partir de 16h
DESCRIPTION:13e pique-nique de la Fraternité à partir de 16h.\nASLH Lei Platano\, 153 ch. Vergers St Roch.\nPartager ce grand moment  de vivre ensemble autour des barbecues en libre accès et des tables et chaises mises à la disposition. \nJeux pour petits et grands\, concours du meilleur gâteau\, piscine sous surveillance de maîtres nageurs sauveteurs\, pêche à la truite\, maquillage\, châteaux gonflables\, balade en poneys\, atelier poterie\, karts éléctriques\, quizz … et apéritif offert par la commune à partir de 18h. \nNavettes minibus gratuites\, départ à 15h30. Ramassage : La Baume\, Office de Tourisme et Saint Roch. Le retour vers le centre-ville sera assuré par un mini bus à partir de 21h. \n> Réservation obligatoire. \nService culturel  04 94 30 41 20
URL:https://lepetitvarois.fr/event/13e-pique-nique-de-la-fraternite-a-partir-de-16h/
CATEGORIES:Ollioules
ATTACH;FMTTYPE=image/jpeg:https://lepetitvarois.fr/wp-content/uploads/2018/04/map-3260506_960_720.jpg
END:VEVENT
BEGIN:VEVENT
DTSTART;TZID=Europe/Paris:20180630T160000
DTEND;TZID=Europe/Paris:20180630T223000
DTSTAMP:20260425T213520
CREATED:20180625T195130Z
LAST-MODIFIED:20180625T195130Z
UID:5694-1530374400-1530397800@lepetitvarois.fr
SUMMARY:Spectacle de fin d'année des ateliers théâtre de la Compagnie le Troubadour
DESCRIPTION:Spectacle de fin d’année des ateliers théâtre de la Compagnie le Troubadour\nSalle des Fêtes\, 17 av. Anatole France. OLLIOULES\nLa Cie le Troubadour présente le travail de son atelier enfants « Le Petit Prince » de Saint Exupéry à 16h (Libre participation financière). Et à 20h30\, l’atelier adultes « La ballade des planches » et « Jeux de planches » de J.P. Alègre (8 € l’entrée). \nCompagnie Le Troubadour 06 08 16 76 93
URL:https://lepetitvarois.fr/event/spectacle-de-fin-dannee-des-ateliers-theatre-de-la-compagnie-le-troubadour/
CATEGORIES:Ollioules
ATTACH;FMTTYPE=image/jpeg:https://lepetitvarois.fr/wp-content/uploads/2015/04/blackandwhite-movie-beauty.jpg
END:VEVENT
END:VCALENDAR