BEGIN:VCALENDAR
VERSION:2.0
PRODID:-//Le Petit Varois.Fr - ECPv6.0.10//NONSGML v1.0//EN
CALSCALE:GREGORIAN
METHOD:PUBLISH
X-ORIGINAL-URL:https://lepetitvarois.fr
X-WR-CALDESC:évènements pour Le Petit Varois.Fr
REFRESH-INTERVAL;VALUE=DURATION:PT1H
X-Robots-Tag:noindex
X-PUBLISHED-TTL:PT1H
BEGIN:VTIMEZONE
TZID:Europe/Paris
BEGIN:DAYLIGHT
TZOFFSETFROM:+0100
TZOFFSETTO:+0200
TZNAME:CEST
DTSTART:20180325T010000
END:DAYLIGHT
BEGIN:STANDARD
TZOFFSETFROM:+0200
TZOFFSETTO:+0100
TZNAME:CET
DTSTART:20181028T010000
END:STANDARD
END:VTIMEZONE
BEGIN:VEVENT
DTSTART;TZID=Europe/Paris:20180803T163000
DTEND;TZID=Europe/Paris:20180804T233000
DTSTAMP:20260425T182415
CREATED:20180802T164354Z
LAST-MODIFIED:20180802T164354Z
UID:6497-1533313800-1533425400@lepetitvarois.fr
SUMMARY:21e Nuit des Etoiles à 21h30
DESCRIPTION:21e Nuit des Etoiles à 21h30.\nObservatoire astronomique du Gros Cerveau\, 3000 route du Gros Cerveau. OLLIOULES\nVendredi 3 : grande soirée d’observation à partir d’instruments au sol et de la coupole. \nSamedi 4 : conférence « Mars\, petite sœur de la Terre » animée par Patrick Michel de l’observatoire de la Côte d’Azur et observation du ciel aux télescopes. \n> Gratuit.
URL:https://lepetitvarois.fr/event/21e-nuit-des-etoiles-a-21h30/
CATEGORIES:Ollioules
ATTACH;FMTTYPE=image/jpeg:https://lepetitvarois.fr/wp-content/uploads/2018/06/star-gazing-1149228_960_720.jpg
END:VEVENT
BEGIN:VEVENT
DTSTART;TZID=Europe/Paris:20180806T140000
DTEND;TZID=Europe/Paris:20180806T180000
DTSTAMP:20260425T182415
CREATED:20180802T170357Z
LAST-MODIFIED:20180802T170357Z
UID:6514-1533564000-1533578400@lepetitvarois.fr
SUMMARY:Séances de planétarium
DESCRIPTION:Séances de planétarium \nObservatoire astronomique du Gros Cerveau\, 3000 route du Gros Cerveau. OLLIOULES\nSous la voute étoilée du planétarium\, venez découvrir les mystères de notre Univers et vous émerveiller devant sa beauté. \nA 14h et à 17h « Polaris » à partir de 5 ans.\nJames\, un manchot voyageur du pôle Sud\, et Vladimir\, un ours rigolo du pôle Nord\, se rencontrent sur la banquise arctique. Apprentis astronomes\, ils se demandent pourquoi la nuit est si longue aux deux pôles de la Terre. Une aventure scientifique extraordinaire va les mener de la construction d’un observatoire à celle d’un vaisseau spatial de fortune. Au cours d’un voyage autour de la Terre puis vers Mars et Saturne\, ils répondront à leur interrogation et découvriront que les planètes ont des points communs mais aussi des différences ! \nA 15h30 « Mondes lointains\, vie extraterrestre ? » dès 10 ans. \nLes dernières missions d’exploration spatiale nous ont permis d’acquérir la certitude que la planète Mars a bénéficié dans un passé lointain de conditions propices à l’apparition de la vie et que certains satellites du système solaire\, tel Encelade autour de Saturne\, possèdent un océan sous-terrain qui pourrait abriter des formes de vie élémentaires. \nParallèlement\, et à des distances bien plus lointaines\, nous découvrons toujours plus de planètes orbitant autour d’autres étoiles que le Soleil\, et dont un certain nombre présentent des similitudes avec notre Terre et pourraient également sous certaines conditions offrir des conditions propices à la vie\, voire abriter une vie extraterrestre. \nCe spectacle fera l’inventaire de ce que l’on sait aujourd’hui de ces recherches\, mais laissera également place au rêve pour essayer d’imaginer à quoi pourraient ressembler d’éventuels êtres vivants peuplant ces mondes lointains… \nA 18h30 « A la découverte du système solaire  » à partir de 10 ans. \nUne ballade commentée du système solaire par l’animateur. \nIl y a 4 milliards 600 millions d’années environ\, l’effondrement gravitationnel d’un gigantesque nuage de gaz et de poussières a donné naissance à notre Soleil et\, autour de lui\, aux planètes ainsi qu’aux innombrables petits corps les accompagnant. Si notre système solaire connait aujourd’hui une phase d’une grande stabilité\, son histoire fut par contre tumultueuse et de nombreux changements se produisirent avant d’aboutir à la situation que nous connaissons actuellement\, avec des planètes aux destins divers et la vie sur l’une d’entre elles. C’est cette histoire et cette diversité que nous vous proposons de découvrir. \n> 4 € par personne. Inscription obligatoire.
URL:https://lepetitvarois.fr/event/seances-de-planetarium-2/
CATEGORIES:Ollioules
ATTACH;FMTTYPE=image/jpeg:https://lepetitvarois.fr/wp-content/uploads/2018/08/37928089_2354753027877536_6231607761034018816_n.jpg
END:VEVENT
BEGIN:VEVENT
DTSTART;TZID=Europe/Paris:20180808T140000
DTEND;TZID=Europe/Paris:20180808T170000
DTSTAMP:20260425T182415
CREATED:20180803T201540Z
LAST-MODIFIED:20180803T201540Z
UID:6542-1533736800-1533747600@lepetitvarois.fr
SUMMARY:Séances de planétarium
DESCRIPTION:Séances de planétarium \nObservatoire astronomique du Gros Cerveau\, 3000 route du Gros Cerveau. OLLIOULES\nSous la voute étoilée du planétarium\, venez découvrir les mystères de notre Univers et vous émerveiller devant sa beauté. \nA 14h et à 17h « Polaris » à partir de 5 ans.\nJames\, un manchot voyageur du pôle Sud\, et Vladimir\, un ours rigolo du pôle Nord\, se rencontrent sur la banquise arctique. Apprentis astronomes\, ils se demandent pourquoi la nuit est si longue aux deux pôles de la Terre. Une aventure scientifique extraordinaire va les mener de la construction d’un observatoire à celle d’un vaisseau spatial de fortune. Au cours d’un voyage autour de la Terre puis vers Mars et Saturne\, ils répondront à leur interrogation et découvriront que les planètes ont des points communs mais aussi des différences ! \nA 15h30 « Mondes lointains\, vie extraterrestre ? » dès 10 ans. \nLes dernières missions d’exploration spatiale nous ont permis d’acquérir la certitude que la planète Mars a bénéficié dans un passé lointain de conditions propices à l’apparition de la vie et que certains satellites du système solaire\, tel Encelade autour de Saturne\, possèdent un océan sous-terrain qui pourrait abriter des formes de vie élémentaires. \nParallèlement\, et à des distances bien plus lointaines\, nous découvrons toujours plus de planètes orbitant autour d’autres étoiles que le Soleil\, et dont un certain nombre présentent des similitudes avec notre Terre et pourraient également sous certaines conditions offrir des conditions propices à la vie\, voire abriter une vie extraterrestre. \nCe spectacle fera l’inventaire de ce que l’on sait aujourd’hui de ces recherches\, mais laissera également place au rêve pour essayer d’imaginer à quoi pourraient ressembler d’éventuels êtres vivants peuplant ces mondes lointains… \nA 18h30 « De la Terre à l’Univers » à partir de 10 ans. \nProduit par l’Observatoire Européen Austral\, ce spectacle vous propose un fascinant voyage à travers le temps et à travers l’espace. Voyage à travers le temps afin de découvrir comment a évolué au fil des siècles la perception par l’homme de notre Univers et de la place que nous y occupons. Mais également voyage à travers l’espace depuis les astres familiers peuplant notre système solaire jusqu’aux confins de l’Univers avec les amas de galaxies qui en sont les plus grandes structures. \n> 4 € par personne. Inscription obligatoire.\nClub d’astronomie Véga 04 94 09 07 38 / 06 82 07 00 70
URL:https://lepetitvarois.fr/event/seances-de-planetarium-3/
CATEGORIES:Ollioules
ATTACH;FMTTYPE=image/jpeg:https://lepetitvarois.fr/wp-content/uploads/2018/08/milky-way-1023340_960_720.jpg
END:VEVENT
BEGIN:VEVENT
DTSTART;TZID=Europe/Paris:20180810T130000
DTEND;TZID=Europe/Paris:20180810T230000
DTSTAMP:20260425T182415
CREATED:20180803T202549Z
LAST-MODIFIED:20180803T203459Z
UID:6556-1533906000-1533942000@lepetitvarois.fr
SUMMARY:SpaceBus d'Ollioules
DESCRIPTION:SpaceBus de 13h à minuit.\nPlace Jean Jaurès. OLLIOULES\nAnimations autour de l’espace pour petits et grands. Le SpaceBus est dans votre ville ! \nLes animations proposées :  \nEscape Game dans la navette spatiale (réservation sur place\, tickets à 2 €/pers) \nDans la peau de Thomas Pesquet (stand de réalité virtuelle) – Soirée d’observations du ciel et discussions/débats avec des astronomes\n> Plein tarif : 2 € (ticket Escape Game).\nSpaceBus France 06 79 93 88 19
URL:https://lepetitvarois.fr/event/spacebus-de-13h-a-minuit/
CATEGORIES:Ollioules
ATTACH;FMTTYPE=image/jpeg:https://lepetitvarois.fr/wp-content/uploads/2018/08/sky-828648_960_720.jpg
END:VEVENT
BEGIN:VEVENT
DTSTART;TZID=Europe/Paris:20180811T213000
DTEND;TZID=Europe/Paris:20180811T233000
DTSTAMP:20260425T182415
CREATED:20180803T204520Z
LAST-MODIFIED:20180803T204520Z
UID:6570-1534023000-1534030200@lepetitvarois.fr
SUMMARY:Conférence "L'extravagante pluralité des mondes"
DESCRIPTION:Conférence « L’extravagante pluralité des mondes » animée par David Fosse\, journaliste scientifique\, rédacteur en chef adjoint de la revue Ciel et Espace et observation du ciel nocturne aux télescopes à 21h30\nObservatoire astronomique du Gros Cerveau\, 3000 route du Gros Cerveau. OLLIOULES\n> Gratuit.
URL:https://lepetitvarois.fr/event/conference-lextravagante-pluralite-des-mondes/
CATEGORIES:Ollioules
ATTACH;FMTTYPE=image/jpeg:https://lepetitvarois.fr/wp-content/uploads/2018/06/star-gazing-1149228_960_720.jpg
END:VEVENT
BEGIN:VEVENT
DTSTART;TZID=Europe/Paris:20180813T140000
DTEND;TZID=Europe/Paris:20180813T170000
DTSTAMP:20260425T182415
CREATED:20180803T205827Z
LAST-MODIFIED:20180803T205827Z
UID:6586-1534168800-1534179600@lepetitvarois.fr
SUMMARY:Séances de planétarium
DESCRIPTION:Séances de planétarium \nObservatoire astronomique du Gros Cerveau\, 3000 route du Gros Cerveau. OLLIOULES\nSous la voute étoilée du planétarium\, venez découvrir les mystères de notre Univers et vous émerveiller devant sa beauté. \nA 14h et à 17h « Polaris » à partir de 5 ans.\nJames\, un manchot voyageur du pôle Sud\, et Vladimir\, un ours rigolo du pôle Nord\, se rencontrent sur la banquise arctique. Apprentis astronomes\, ils se demandent pourquoi la nuit est si longue aux deux pôles de la Terre. Une aventure scientifique extraordinaire va les mener de la construction d’un observatoire à celle d’un vaisseau spatial de fortune. Au cours d’un voyage autour de la Terre puis vers Mars et Saturne\, ils répondront à leur interrogation et découvriront que les planètes ont des points communs mais aussi des différences ! \nA 15h30 « Mondes lointains\, vie extraterrestre ? » dès 10 ans. \nLes dernières missions d’exploration spatiale nous ont permis d’acquérir la certitude que la planète Mars a bénéficié dans un passé lointain de conditions propices à l’apparition de la vie et que certains satellites du système solaire\, tel Encelade autour de Saturne\, possèdent un océan sous-terrain qui pourrait abriter des formes de vie élémentaires. \nParallèlement\, et à des distances bien plus lointaines\, nous découvrons toujours plus de planètes orbitant autour d’autres étoiles que le Soleil\, et dont un certain nombre présentent des similitudes avec notre Terre et pourraient également sous certaines conditions offrir des conditions propices à la vie\, voire abriter une vie extraterrestre. \nCe spectacle fera l’inventaire de ce que l’on sait aujourd’hui de ces recherches\, mais laissera également place au rêve pour essayer d’imaginer à quoi pourraient ressembler d’éventuels êtres vivants peuplant ces mondes lointains… \nA 18h30 « A la découverte du système solaire  » à partir de 10 ans. \nUne ballade commentée du système solaire par l’animateur. \nIl y a 4 milliards 600 millions d’années environ\, l’effondrement gravitationnel d’un gigantesque nuage de gaz et de poussières a donné naissance à notre Soleil et\, autour de lui\, aux planètes ainsi qu’aux innombrables petits corps les accompagnant. Si notre système solaire connait aujourd’hui une phase d’une grande stabilité\, son histoire fut par contre tumultueuse et de nombreux changements se produisirent avant d’aboutir à la situation que nous connaissons actuellement\, avec des planètes aux destins divers et la vie sur l’une d’entre elles. C’est cette histoire et cette diversité que nous vous proposons de découvrir. \n> 4 € par personne. Inscription obligatoire.
URL:https://lepetitvarois.fr/event/seances-de-planetarium-4/
CATEGORIES:Ollioules
ATTACH;FMTTYPE=image/jpeg:https://lepetitvarois.fr/wp-content/uploads/2018/08/milky-way-1023340_960_720.jpg
END:VEVENT
BEGIN:VEVENT
DTSTART;TZID=Europe/Paris:20180817T213000
DTEND;TZID=Europe/Paris:20180817T230000
DTSTAMP:20260425T182415
CREATED:20180810T193556Z
LAST-MODIFIED:20180810T193556Z
UID:6720-1534541400-1534546800@lepetitvarois.fr
SUMMARY:Conférence "Météorites : toute une histoire à tomber sur terre"
DESCRIPTION:Conférence « Météorites : toute une histoire à tomber sur terre » animée par Alexis Drouard\, doctorant au laboratoire d’astrophysique de Marseille et observation du ciel nocturne aux télescopes à 21h30.\nObservatoire astronomique du Gros Cerveau\, 3000 route du Gros Cerveau. OLLIOULES\n> Gratuit.
URL:https://lepetitvarois.fr/event/conference-meteorites-toute-une-histoire-a-tomber-sur-terre/
CATEGORIES:Ollioules
ATTACH;FMTTYPE=image/jpeg:https://lepetitvarois.fr/wp-content/uploads/2018/08/galaxy-11098_960_720.jpg
END:VEVENT
BEGIN:VEVENT
DTSTART;VALUE=DATE:20180818
DTEND;VALUE=DATE:20180820
DTSTAMP:20260425T182415
CREATED:20180810T194718Z
LAST-MODIFIED:20180810T194718Z
UID:6735-1534550400-1534723199@lepetitvarois.fr
SUMMARY:31e fête de la Saint Eloi sur le thème "les métiers d'Art"
DESCRIPTION:31e fête de la Saint Eloi sur le thème « les métiers d’Art »\nCentre-ville. OLLIOULES\nSamedi 18 : \n18h\, place Jean Jaurès : Parcours folklorique d’ânes.\nDimanche 19 : \n9h\, espace Jean Callenes : Pressage du Vin nouveau au quartier de Faveyrolles.\n11h\, place Victor Clément : Messe de la Saint Eloi en plein air. Présence de groupes folkloriques ainsi que des fifres et tambours de Signes. Vente de pain béni.  \n17h30 : Grande cavalcade de la Saint Eloi.  \nAnimations avec groupes provençaux. Défilé des attelages\, grande cavalcade avec plus de 50 cheveaux de traits\, comtois\, percherons\, bretons mais aussi ânes et mulets. Cavalcade animée par Jacques Thimoleon. \nComité de la Saint Eloi 04 94 63 26 81
URL:https://lepetitvarois.fr/event/31e-fete-de-la-saint-eloi-sur-le-theme-les-metiers-dart/
CATEGORIES:Ollioules
ATTACH;FMTTYPE=image/png:https://lepetitvarois.fr/wp-content/uploads/2018/07/Capture-d’écran-2018-07-29-à-19.10.50.png
END:VEVENT
BEGIN:VEVENT
DTSTART;TZID=Europe/Paris:20180821T140000
DTEND;TZID=Europe/Paris:20180821T170000
DTSTAMP:20260425T182415
CREATED:20180810T195741Z
LAST-MODIFIED:20180810T195741Z
UID:6745-1534860000-1534870800@lepetitvarois.fr
SUMMARY:Séances de planétarium
DESCRIPTION:Séances de planétarium \nObservatoire astronomique du Gros Cerveau\, 3000 route du Gros Cerveau. OLLIOULES\nSous la voute étoilée du planétarium\, venez découvrir les mystères de notre Univers et vous émerveiller devant sa beauté. \nA 14h et à 17h « Polaris » à partir de 5 ans.\nJames\, un manchot voyageur du pôle Sud\, et Vladimir\, un ours rigolo du pôle Nord\, se rencontrent sur la banquise arctique. Apprentis astronomes\, ils se demandent pourquoi la nuit est si longue aux deux pôles de la Terre. Une aventure scientifique extraordinaire va les mener de la construction d’un observatoire à celle d’un vaisseau spatial de fortune. Au cours d’un voyage autour de la Terre puis vers Mars et Saturne\, ils répondront à leur interrogation et découvriront que les planètes ont des points communs mais aussi des différences ! \nA 15h30 « Mondes lointains\, vie extraterrestre ? » dès 10 ans. \nLes dernières missions d’exploration spatiale nous ont permis d’acquérir la certitude que la planète Mars a bénéficié dans un passé lointain de conditions propices à l’apparition de la vie et que certains satellites du système solaire\, tel Encelade autour de Saturne\, possèdent un océan sous-terrain qui pourrait abriter des formes de vie élémentaires. \nParallèlement\, et à des distances bien plus lointaines\, nous découvrons toujours plus de planètes orbitant autour d’autres étoiles que le Soleil\, et dont un certain nombre présentent des similitudes avec notre Terre et pourraient également sous certaines conditions offrir des conditions propices à la vie\, voire abriter une vie extraterrestre. \nCe spectacle fera l’inventaire de ce que l’on sait aujourd’hui de ces recherches\, mais laissera également place au rêve pour essayer d’imaginer à quoi pourraient ressembler d’éventuels êtres vivants peuplant ces mondes lointains… \nA 18h30 « A la découverte du système solaire  » à partir de 10 ans. \nUne ballade commentée du système solaire par l’animateur. \nIl y a 4 milliards 600 millions d’années environ\, l’effondrement gravitationnel d’un gigantesque nuage de gaz et de poussières a donné naissance à notre Soleil et\, autour de lui\, aux planètes ainsi qu’aux innombrables petits corps les accompagnant. Si notre système solaire connait aujourd’hui une phase d’une grande stabilité\, son histoire fut par contre tumultueuse et de nombreux changements se produisirent avant d’aboutir à la situation que nous connaissons actuellement\, avec des planètes aux destins divers et la vie sur l’une d’entre elles. C’est cette histoire et cette diversité que nous vous proposons de découvrir. \n> 4 € par personne. Inscription obligatoire.\nClub d’astronomie Véga 04 94 09 07 38
URL:https://lepetitvarois.fr/event/seances-de-planetarium-5/
CATEGORIES:Ollioules
ATTACH;FMTTYPE=image/jpeg:https://lepetitvarois.fr/wp-content/uploads/2018/06/star-gazing-1149228_960_720.jpg
END:VEVENT
BEGIN:VEVENT
DTSTART;VALUE=DATE:20180822
DTEND;VALUE=DATE:20180827
DTSTAMP:20260425T182415
CREATED:20180811T203340Z
LAST-MODIFIED:20180811T203340Z
UID:6762-1534896000-1535327999@lepetitvarois.fr
SUMMARY:Fête de la Gare\, Pépiole et St Michel
DESCRIPTION:Fête de la Gare\, Pépiole et St Michel\nTerrain municipal du quartier de la Gare\, 590 rte de la Gare. OLLIOULES\nMercredi 22 : \n10h – Journée jeunes avec concours de boules enfants\, jeux divers\, concours de chants (6-12 ans)\, structure gonflables… \n21h – Soirée DJ. \nJeudi 23 : \n9h – Challenge Emile Roux Jeux provençal en 3×3 au choix. \n15h – Concours de belote / contrée. \nVendredi 24 :  \n9h30 -Concours de pétanque 2×2 au choix. \n20h – Soupe au Pistou. \n> Inscriptions obligatoire.  \n21h – Grand gala de variétés gratuit avec « Les Goldmen » en hommage à Fredericks\, Goldman et Jones. \nSamedi 25 : \n9h30 – Concours de pétanque mixte 2×2 au choix. \n15h – Concours de pétanque 2×2 au choix. \n16h – Procession à la chapelle de Pépiole\, bénédiction des pastèques et du vin rosé. \n20h – Moules au râteau. \n> Inscriptions obligatoire.  \n21h30 – DJ Marco Lena et ses danseuses. Avec beaucoup de cadeaux. \nDimanche 26 :  \n13h – Grand Aïoli animé par l’orchestre Michel Sylvestre. \n> Inscriptions obligatoire. \nComité des fêtes de la gare 06 95 30 94 14
URL:https://lepetitvarois.fr/event/fete-de-la-gare-pepiole-et-st-michel/
CATEGORIES:Ollioules
END:VEVENT
BEGIN:VEVENT
DTSTART;TZID=Europe/Paris:20180824T213000
DTEND;TZID=Europe/Paris:20180824T233000
DTSTAMP:20260425T182415
CREATED:20180821T212500Z
LAST-MODIFIED:20180821T212500Z
UID:6870-1535146200-1535153400@lepetitvarois.fr
SUMMARY:Conférence "2004-2017 Saturne : 13 ans d'exploration"
DESCRIPTION:Conférence « 2004-2017 Saturne : 13 ans d’exploration » animée par Pierre Thomas\, laboratoire de géologie de Lyon et observation du ciel nocturne aux télescopes à 21h30.\nObservatoire astronomique du Gros Cerveau\, 3000 route du Gros Cerveau. OLLIOULES\n> Gratuit. \nClub d’astronomie Véga 04 94 09 07 38
URL:https://lepetitvarois.fr/event/conference-2004-2017-saturne-13-ans-dexploration/
CATEGORIES:Ollioules
ATTACH;FMTTYPE=image/jpeg:https://lepetitvarois.fr/wp-content/uploads/2018/08/galaxy-11098_960_720.jpg
END:VEVENT
END:VCALENDAR