BEGIN:VCALENDAR
VERSION:2.0
PRODID:-//Le Petit Varois.Fr - ECPv6.0.10//NONSGML v1.0//EN
CALSCALE:GREGORIAN
METHOD:PUBLISH
X-ORIGINAL-URL:https://lepetitvarois.fr
X-WR-CALDESC:évènements pour Le Petit Varois.Fr
REFRESH-INTERVAL;VALUE=DURATION:PT1H
X-Robots-Tag:noindex
X-PUBLISHED-TTL:PT1H
BEGIN:VTIMEZONE
TZID:Europe/Paris
BEGIN:DAYLIGHT
TZOFFSETFROM:+0100
TZOFFSETTO:+0200
TZNAME:CEST
DTSTART:20180325T010000
END:DAYLIGHT
BEGIN:STANDARD
TZOFFSETFROM:+0200
TZOFFSETTO:+0100
TZNAME:CET
DTSTART:20181028T010000
END:STANDARD
END:VTIMEZONE
BEGIN:VEVENT
DTSTART;TZID=Europe/Paris:20181003T090000
DTEND;TZID=Europe/Paris:20181003T170000
DTSTAMP:20260425T152707
CREATED:20181001T153301Z
LAST-MODIFIED:20181001T153301Z
UID:7430-1538557200-1538586000@lepetitvarois.fr
SUMMARY:Semaine Varoise de la Randonnée Pédestre : Sur les chemins du patrimoine Ollioulais
DESCRIPTION:Semaine Varoise de la Randonnée Pédestre : Sur les chemins du patrimoine Ollioulais à 9h.\nRendez-vous au grand parking de Châteauvallon. OLLIOULES\nCet itinéraire permet de découvrir quelques sites historique de la Commune : Télégraphe de Chappe\, bornes limites des communes\, four à cade restauré\, collecte de la résine etc… \nDistance : 15 km – Temps de marche effectif : 5h30 – Dénivelé : 350 m – Difficulté : moyenne \nConseils pratiques : chemin très souvent caillouteux\, prévoir des chaussures adaptées à la marche et à son niveau de difficulté et chapeau.\n> Gratuit. Inscription obligatoire à l’avance à l’office de tourisme d’Ollioules\nOT Ollioules 04 94 63 11 74
URL:https://lepetitvarois.fr/event/semaine-varoise-de-la-randonnee-pedestre-sur-les-chemins-du-patrimoine-ollioulais/
CATEGORIES:Ollioules
ATTACH;FMTTYPE=image/jpeg:https://lepetitvarois.fr/wp-content/uploads/2018/04/shoes-1638873_960_720.jpg
END:VEVENT
BEGIN:VEVENT
DTSTART;VALUE=DATE:20181006
DTEND;VALUE=DATE:20181008
DTSTAMP:20260425T152707
CREATED:20181001T155747Z
LAST-MODIFIED:20181001T155747Z
UID:7465-1538784000-1538956799@lepetitvarois.fr
SUMMARY:Fête de l'Olivier
DESCRIPTION:Fête de l’Olivier de 10h à 18h.\nCentre-ville. OLLIOULES\nExpositions\, conférences\, concerts\, visites guidées\, démonstration de taille d’olivier\, concours d’aïoli. Animations pour les enfants\, groupes folkloriques. Artisanat. Visites commentées du Moulin à huile du Canton d’Ollioules.  \nSamedi 6 octobre :  \n9h30\, place Jean Jaurès : Inauguration officielle par Monsieur Robert Bénéventi\, Maire d’Ollioules\, vice-président de Toulon Provence Méditerranée\, Conseiller Régional\, son conseil municipal\, avec le groupe folklorique ollioulais Lei Flour de \nl’association Lou Fougau Prouvençau. \nOuverture des stands et des expositions. \n11h\, place Jean Jaurès : démonstration culinaire et dégustation de spécialités \nprovençales avec M. Lamont du restaurant “L’Antidote”\, 994 route des Gorges à Ollioules. \n12h15\, place Victor Clément : apéritif d’honneur offert par la ville. \n14h\, dans les rues et sur les places : danses avec le groupe folklorique ollioulais Lei Flour de l’association Lou Fougau Prouvençau. \n14h30\, place Victor Clément : concert de la chorale provençale ollioulaise Oulièulo Canto. \n15h\, place Victor Clément : Chapitre de la Commanderie du Rameau d’Argent. \n15h30\, salle Jean Moulin : conférence « Des Huiles pour ma Santé » du docteur Martine Cotinat\, gastroentérologue\, diplômée de nutrition micronutrition et phytothérapie. Entrée Libre. \n15h45\, place Victor Clément : danses provençales avec le groupe folklorique Lei Flour de l’association Lou Fougau Prouvençau. \n16h\, place Jean Jaurès : démonstration culinaire et dégustation de spécialités provençales avec M. Lamont du restaurant “L’Antidote”. \n16h30\, place Victor Clément : concert du groupe Cor des Alpes. \n16h30\, amphithéâtre de la place Jean Jaurès : concours d’aïoli réservé aux enfants (jusqu’à 14 ans) avec les Immortelles d’Ollioules. (gâteaux de bonbons pour les 3 premiers inscriptions au stand du Comité Officiel des Fêtes\, place Jean Jaurès). \n17h15 : tirage de la loterie des Amis de l’Olivier et du moulin à huile du Canton d’Ollioules en face de la Criée. Un olivier\, un panier garni et autres lots à gagner \n17h30 : concours d’aïoli ouvert à tous les élus de la métropole Toulon Provence Méditerranée \nToute la journée animations musicales dans les rues et sur les places avec le groupe « Tambourinaires et compagnie » de Flassans. \nDimanche 7 octobre :  \n9h : ouverture des stands et des expositions. \n9h : messe en l’église St Laurent avec chants provençaux interprétés par Le Raïoulet de Six Fours. \n10h15\, place Victor Clément : danses provençales avec Le Raïoulet de Six Fours. \n11h : départ en cortège depuis la place Victor Clément\, pour la plantation d’un olivier au quartier Saint Roch. La plantation sera suivie d’un vin d’honneur. \n11h\,  place Jean Jaurès : démonstration culinaire et dégustation de spécialités provençales avec M. Lamont du restaurant « L’Antidote ». \n14h\, dans les rues et sur les places : danses avec le groupe folklorique La Respelido Valetenco. \n15h\, place Victor Clément : concert de la Lyre Provençale d’Ollioules\, direction Thomas Righi. \n15h30 & 16h30 : visites commentées du Moulin à Huile du Canton d’Ollioules\, avec M. Maurice Ollivier\, président du moulin à huile du canton d’Ollioules. (navettes mini bus depuis l’office de tourisme départ à 15h15 et 16h15). \n16h\, salle Jean Moulin : conférence « Les clés d’un sol vivant – Connaître et \naméliorer la terre de son jardin » de Blaise Leclerc\, ingénieur\, docteur en agronomie. Entrée Libre. \n16h\, place Jean Jaurès : démonstration culinaire et dégustation de spécialités provençales avec M. Lamont du restaurant « L’Antidote ». \n16h45 : spectacle de danses avec le groupe folklorique La Respelido Valetenco. \n17h15 : tirage de la loterie des Amis de l’Olivier et du moulin à huile du Canton d’Ollioules en face de la Criée. Un olivier\, un panier garni et autres lots à gagner \n17h30\, place Jean Jaurès : concours d’aïoli ouvert à tous avec la participation de l’association des Artisans\, Commerçants et Entreprises d’Ollioules. \n(3 beaux cadeaux à gagner offerts par le Comité Officiel des Fêtes d’Ollioules) \nToute la journée animation musicale dans les rues et sur les places avec le groupe Escapado. \nAnimations permanentes gratuites samedi et dimanche ainsi que de nombreuses animations pour les enfants. \nInfos pratiques : \nCentre-ville piétonnier de 9h à 19h30.  \nNavettes autobus gratuites :  \nSamedi depuis le parking de la Castellane\, du domaine scolaire de la Castellane\, de la Gare Ollioules/Sanary et du marché agricole jusqu’au centre-ville. \nDimanche depuis les parkings Portes d’Ollioules et de Toulon\, du domaine scolaire de la Castellane\, de la Gare Ollioules/Sanary et du marché agricole jusqu’au centre-ville. \nArrêt et départ devant l’office du tourisme. \nParkings gratuits et gardés* ouvert de 9h à 19h (*Sauf parking Portes d’Ollioules et de Toulon).\nHôtel de Ville 04 94 30 41 41 / 04 94 30 41 02 www.ollioules.fr
URL:https://lepetitvarois.fr/event/fete-de-lolivier/
CATEGORIES:Ollioules
ATTACH;FMTTYPE=image/jpeg:https://lepetitvarois.fr/wp-content/uploads/2018/09/olives-253264_960_720.jpg
END:VEVENT
BEGIN:VEVENT
DTSTART;TZID=Europe/Paris:20181009T090000
DTEND;TZID=Europe/Paris:20181009T130000
DTSTAMP:20260425T152707
CREATED:20181003T210011Z
LAST-MODIFIED:20181003T210011Z
UID:7495-1539075600-1539090000@lepetitvarois.fr
SUMMARY:Forum commerce
DESCRIPTION:Forum commerce de 9h à 13h.\nMaison d’Ollioules près du centre commercial Carrefour\, 55 ch. de la Bouyère. OLLIOULES\nPlus de 20 entreprises seront présentes et de nombreuses offres d’emploi proposées. Munissez-vous de vos CV ! \nBureau Municipal de l’Emploi 04 94 30 41 14
URL:https://lepetitvarois.fr/event/forum-commerce/
CATEGORIES:Ollioules
ATTACH;FMTTYPE=image/jpeg:https://lepetitvarois.fr/wp-content/uploads/2018/06/people-2561336_960_720.jpg
END:VEVENT
BEGIN:VEVENT
DTSTART;TZID=Europe/Paris:20181010T183000
DTEND;TZID=Europe/Paris:20181010T203000
DTSTAMP:20260425T152707
CREATED:20181003T210251Z
LAST-MODIFIED:20181003T210251Z
UID:7501-1539196200-1539203400@lepetitvarois.fr
SUMMARY:Conférence de l'Université du Temps Libre "La peinture marine en Méditerranée"
DESCRIPTION:Conférence de l’Université du Temps Libre « La peinture marine en Méditerranée » animée par Jean Perreau\, expert en peintures et Historien de l’Art à 18h30. \nSalle Jean Moulin\, place Trotobas. \n> 6 € / 2 € sur présentation d’une carte étudiante. Réservation conseillée.\nService culturel 04 94 30 41 20  utlo@ollioules.fr – www.ollioules.fr
URL:https://lepetitvarois.fr/event/conference-de-luniversite-du-temps-libre-la-peinture-marine-en-mediterranee/
CATEGORIES:Ollioules
ATTACH;FMTTYPE=image/jpeg:https://lepetitvarois.fr/wp-content/uploads/2018/06/adult-1868049_960_720.jpg
END:VEVENT
BEGIN:VEVENT
DTSTART;VALUE=DATE:20181012
DTEND;VALUE=DATE:20181014
DTSTAMP:20260425T152707
CREATED:20181003T211001Z
LAST-MODIFIED:20181003T211001Z
UID:7510-1539302400-1539475199@lepetitvarois.fr
SUMMARY:Fête de la science
DESCRIPTION:OLLIOULES\nVendredi 12\, salle Jean Moulin\, place Marius Trotobas à 18h30 : conférence « Exoplanètes : lumière sur d’autres mondes » animée par Mélissa Hobson et Théo Lopez\, doctorants au Laboratoire d’Astrophysique de Marseille.\nPrononcée dans le cadre de l’événement « Lumières sur l’astronomie » organisé à l’occasion de la Fête de la Science 2018\, cette conférence permettra d’illustrer le rôle joué par la lumière dans la détection des exoplanètes\, nous montrant ainsi comment la simple observation de la lumière reçue des étoiles nous permet de conclure à la présence d’autres mondes orbitant autour de ces étoiles pourtant distantes de nous de plusieurs dizaines ou centaines d’années-lumière.\nSamedi 13\, ancienne Criée aux Fleurs\, 50 rue Nationale de 9h-12h / 13h30-17h : ateliers « Lumières sur l’astronomie ». Un éclairage sur l’application de la démarche scientifique\, le rôle des femmes et l’utilisation de la lumière dans le domaine de l’astronomie avec les ateliers suivants : \nL’astronomie au féminin\, illustrations de la démarche scientifique sous le planétarium\, réfraction et réflexion  le chemin de la lumière\, comment faire parler la lumière des étoiles\, observation au télescope de la lumière de notre étoile le Soleil. \nSamedi 13\, ancienne Criée aux Fleurs et jardin du couvent des Observantins de 20h30 à 23h : à l’occasions du « Jour de la Nuit »\, autre événement national consacré aux méfaits de la lumière artificielle sur notre environnement nocturne. Illustration de la pollution lumineuse sous le planétarium et observation au télescope du ciel nocturne après extinction de l’éclairage urbain.\n> Gratuit.\nClub d’astronomie Véga 04 94 09 07 38 / 06 82 07 00 70 www.oagc.fr
URL:https://lepetitvarois.fr/event/fete-de-la-science/
CATEGORIES:Ollioules
ATTACH;FMTTYPE=image/jpeg:https://lepetitvarois.fr/wp-content/uploads/2018/08/milky-way-1023340_960_720.jpg
END:VEVENT
BEGIN:VEVENT
DTSTART;TZID=Europe/Paris:20181014T080000
DTEND;TZID=Europe/Paris:20181014T130000
DTSTAMP:20260425T152707
CREATED:20181003T211813Z
LAST-MODIFIED:20181003T211813Z
UID:7523-1539504000-1539522000@lepetitvarois.fr
SUMMARY:Puces enfantines
DESCRIPTION:Puces enfantines (Vente de jouets\, matériel de puériculture\, vêtements de 0 à 15 ans) de 8h à 13h.\nPlace Jean Jaurès. OLLIOULES\nManifestation reportée au dimanche 21 octobre (en cas d’intempéries). \n> 7 € l’emplacement (pièce d’identité obligatoire) à réserver au multi-accueil La Charmerie\, 36 rue République. \nAssociation des parents et amis de la Charmerie 04 94 63 28 09
URL:https://lepetitvarois.fr/event/puces-enfantines/
CATEGORIES:Ollioules
ATTACH;FMTTYPE=image/jpeg:https://lepetitvarois.fr/wp-content/uploads/2018/02/marbles-1659398_960_720.jpg
END:VEVENT
BEGIN:VEVENT
DTSTART;TZID=Europe/Paris:20181016T093000
DTEND;TZID=Europe/Paris:20181016T123000
DTSTAMP:20260425T152707
CREATED:20181004T082856Z
LAST-MODIFIED:20181004T082856Z
UID:7533-1539682200-1539693000@lepetitvarois.fr
SUMMARY:Visite guidée du canal des arrosants
DESCRIPTION:Visite guidée du canal des arrosants à 9h30.\nOffice de Tourisme d’Ollioules\, 116 av. Philippe de Hautecloque. OLLIOULES\nSe présenter sur place 1/4 d’heure avant. Durée de la visite : 2h30. Notre guide vous invite à découvrir comment les eaux vives de la Reppe ont été domestiquées par l’homme à partir du Moyen-Age grâce à la construction de canaux et qui regroupent le Canal des Moulins\, des Fontaines et des jardins. \nLes Ollioulais\, au cours des siècles\, ont avec ingéniosité et obstination su partager ces eaux. Vous apprendrez comment Ollioules est devenue la capitale de la fleur de 1850 à 1990. Vous visiterez le Moulin de Palisson\, véritable moulin à farine du XVe siècle en cours de réhabilitation.\n> 8 € adulte / 2 € pour les enfants de 6 à 12 ans / Gratuit pour les -6 ans. Inscription obligatoire à l’avance dans nos accueils.\nOT Ollioules 04 94 63 11 74
URL:https://lepetitvarois.fr/event/visite-guidee-du-canal-des-arrosants-2/
CATEGORIES:Ollioules
ATTACH;FMTTYPE=image/jpeg:https://lepetitvarois.fr/wp-content/uploads/2018/04/france-849459_960_720.jpg
END:VEVENT
BEGIN:VEVENT
DTSTART;TZID=Europe/Paris:20181017T140000
DTEND;TZID=Europe/Paris:20181017T170000
DTSTAMP:20260425T152707
CREATED:20181004T082954Z
LAST-MODIFIED:20181004T082954Z
UID:7535-1539784800-1539795600@lepetitvarois.fr
SUMMARY:Séances de planétarium
DESCRIPTION:Séances de planétarium\nObservatoire astronomique du Gros Cerveau\, 3000 route du Gros Cerveau. OLLIOULES\nSous la voûte étoilée du planétarium\, venez découvrir les mystères de notre Univers et vous émerveiller devant sa beauté.\nA 14h et à 17h : « Polaris » à partir de 5 ans. \nJames\, un manchot voyageur du pôle Sud\, et Vladimir\, un ours rigolo du pôle Nord\, se rencontrent sur la banquise arctique. Apprentis astronomes\, ils se demandent pourquoi la nuit est si longue aux deux pôles de la Terre. Une aventure scientifique extraordinaire va les mener de la construction d’un observatoire à celle d’un vaisseau spatial de fortune. Au cours d’un voyage autour de la Terre puis vers Mars et Saturne\, ils répondront à leur interrogation et découvriront que les planètes ont des points communs mais aussi des différences ! \nA 15h30 : « Mondes lointains\, vie extraterrestre ? » à partir de 10 ans. \nLes dernières missions d’exploration spatiale nous ont permis d’acquérir la certitude que la planète Mars a bénéficié dans un passé lointain de conditions propices à l’apparition de la vie et que certains satellites du système solaire\, tel Encelade autour de Saturne\, possèdent un océan sous-terrain qui pourrait abriter des formes de vie élémentaires. \nParallèlement\, et à des distances bien plus lointaines\, nous découvrons toujours plus de planètes orbitant autour d’autres étoiles que le Soleil\, et dont un certain nombre présentent des similitudes avec notre Terre et pourraient également sous certaines conditions offrir des conditions propices à la vie\, voire abriter une vie extraterrestre. \nCe spectacle fera l’inventaire de ce que l’on sait aujourd’hui de ces recherches\, mais laissera également place au rêve pour essayer d’imaginer à quoi pourraient ressembler d’éventuels êtres vivants peuplant ces mondes lointains… \nA 18h30 : « De la Terre à l’Univers » à partir de 10 ans. \nProduit par l’Observatoire Européen Austral\, ce spectacle vous propose un fascinant voyage à travers le temps et à travers l’espace. Voyage à travers le temps afin de découvrir comment a évolué au fil des siècles la perception par l’homme de notre Univers et de la place que nous y occupons. Mais également voyage à travers l’espace depuis les astres familiers peuplant notre système solaire jusqu’aux confins de l’Univers avec les amas de galaxies qui en sont les plus grandes structures. \n> 4 € par personne. Réservation obligatoire.\nClub d’astronomie Véga 04 94 09 07 38 / 06 52 81 11 18 www.oagc.fr
URL:https://lepetitvarois.fr/event/seances-de-planetarium-11/
CATEGORIES:Ollioules
ATTACH;FMTTYPE=image/jpeg:https://lepetitvarois.fr/wp-content/uploads/2018/06/star-gazing-1149228_960_720.jpg
END:VEVENT
BEGIN:VEVENT
DTSTART;TZID=Europe/Paris:20181019T190000
DTEND;TZID=Europe/Paris:20181019T223000
DTSTAMP:20260425T152707
CREATED:20181004T083610Z
LAST-MODIFIED:20181004T083610Z
UID:7545-1539975600-1539988200@lepetitvarois.fr
SUMMARY:Conférence et méditation sur le thème "Méditation\, égo\, action"
DESCRIPTION:Conférence et méditation sur le thème « Méditation\, égo\, action » avec Yves Benhamou\, médecin à 19h.\nSalle Jean Moulin\, place Trotobas. OLLIOULES\n> 5 € reversés à Heartfulness. Réservation obligatoire à labulle.ollioules@gmail.com \nAssociation La Bulle 06 78 04 11 76
URL:https://lepetitvarois.fr/event/conference-et-meditation-sur-le-theme-meditation-ego-action/
CATEGORIES:Ollioules
ATTACH;FMTTYPE=image/jpeg:https://lepetitvarois.fr/wp-content/uploads/2018/06/adult-1868049_960_720.jpg
END:VEVENT
BEGIN:VEVENT
DTSTART;VALUE=DATE:20181021
DTEND;VALUE=DATE:20181023
DTSTAMP:20260425T152707
CREATED:20181004T085020Z
LAST-MODIFIED:20181004T085020Z
UID:7568-1540080000-1540252799@lepetitvarois.fr
SUMMARY:Séances de planétarium
DESCRIPTION:Séances de planétarium\nObservatoire astronomique du Gros Cerveau\, 3000 route du Gros Cerveau. OLLIOULES\nSous la voûte étoilée du planétarium\, venez découvrir les mystères de notre Univers et vous émerveiller devant sa beauté.\nA 14h et à 17h : « Polaris » à partir de 5 ans. \nJames\, un manchot voyageur du pôle Sud\, et Vladimir\, un ours rigolo du pôle Nord\, se rencontrent sur la banquise arctique. Apprentis astronomes\, ils se demandent pourquoi la nuit est si longue aux deux pôles de la Terre. Une aventure scientifique extraordinaire va les mener de la construction d’un observatoire à celle d’un vaisseau spatial de fortune. Au cours d’un voyage autour de la Terre puis vers Mars et Saturne\, ils répondront à leur interrogation et découvriront que les planètes ont des points communs mais aussi des différences ! \nA 15h30 : « Mondes lointains\, vie extraterrestre ? » à partir de 10 ans. \nLes dernières missions d’exploration spatiale nous ont permis d’acquérir la certitude que la planète Mars a bénéficié dans un passé lointain de conditions propices à l’apparition de la vie et que certains satellites du système solaire\, tel Encelade autour de Saturne\, possèdent un océan sous-terrain qui pourrait abriter des formes de vie élémentaires. \nParallèlement\, et à des distances bien plus lointaines\, nous découvrons toujours plus de planètes orbitant autour d’autres étoiles que le Soleil\, et dont un certain nombre présentent des similitudes avec notre Terre et pourraient également sous certaines conditions offrir des conditions propices à la vie\, voire abriter une vie extraterrestre. \nCe spectacle fera l’inventaire de ce que l’on sait aujourd’hui de ces recherches\, mais laissera également place au rêve pour essayer d’imaginer à quoi pourraient ressembler d’éventuels êtres vivants peuplant ces mondes lointains… \nA 18h30 : « De la Terre à l’Univers » à partir de 10 ans. \nProduit par l’Observatoire Européen Austral\, ce spectacle vous propose un fascinant voyage à travers le temps et à travers l’espace. Voyage à travers le temps afin de découvrir comment a évolué au fil des siècles la perception par l’homme de notre Univers et de la place que nous y occupons. Mais également voyage à travers l’espace depuis les astres familiers peuplant notre système solaire jusqu’aux confins de l’Univers avec les amas de galaxies qui en sont les plus grandes structures. \n> 4 € par personne. Réservation obligatoire.\nClub d’astronomie Véga 04 94 09 07 38 / 06 52 81 11 18 www.oagc.fr
URL:https://lepetitvarois.fr/event/seances-de-planetarium-12/
CATEGORIES:Ollioules
ATTACH;FMTTYPE=image/jpeg:https://lepetitvarois.fr/wp-content/uploads/2018/08/galaxy-11098_960_720.jpg
END:VEVENT
BEGIN:VEVENT
DTSTART;TZID=Europe/Paris:20181025T093000
DTEND;TZID=Europe/Paris:20181025T120000
DTSTAMP:20260425T152707
CREATED:20181004T085711Z
LAST-MODIFIED:20181004T085711Z
UID:7579-1540459800-1540468800@lepetitvarois.fr
SUMMARY:Visite guidée : A la découverte du cœur historique d'Ollioules
DESCRIPTION:Visite guidée : A la découverte du cœur historique d’Ollioules à 9h30.\nOffice de Tourisme d’Ollioules\, 116 av. Philippe de Hautecloque. OLLIOULES\nSe présenter sur place 1/4 d’heure avant. Durée de la visite : 2h. \nNotre guide vous propose une découverte d’Ollioules en 2 parties : La visite de la cité de l’olivier vous emmènera à la rencontre d’un patrimoine riche et préservé ; église romane Saint Laurent\, ruelles et façades médiévales comportant porches et arcades… Dans le quartier Renaissance\, les célèbres gypseries provençales vous livreront tous leurs secrets. \nVous vous rendrez ensuite dans la fabrique artisanale de nougat Jonquier ! Vous apprendrez tout sur cette délicieuse confiserie\, son histoire avec visite de l’atelier\, une démonstration de la réalisation de nougat et une dégustation des différents types de nougats (blanc\, noir\, dur et tendre).\n> 8 € adulte / 2 € pour les enfants de 6 à 12 ans / Gratuit pour les -6 ans. Inscription obligatoire à l’avance dans nos accueils.\nOT Ollioules 04 94 63 11 74
URL:https://lepetitvarois.fr/event/visite-guidee-a-la-decouverte-du-coeur-historique-dollioules-4/
CATEGORIES:Ollioules
ATTACH;FMTTYPE=image/jpeg:https://lepetitvarois.fr/wp-content/uploads/2018/04/france-849459_960_720.jpg
END:VEVENT
BEGIN:VEVENT
DTSTART;TZID=Europe/Paris:20181025T140000
DTEND;TZID=Europe/Paris:20181025T170000
DTSTAMP:20260425T152708
CREATED:20181004T085826Z
LAST-MODIFIED:20181004T085826Z
UID:7581-1540476000-1540486800@lepetitvarois.fr
SUMMARY:Séances de planétarium
DESCRIPTION:Séances de planétarium\nObservatoire astronomique du Gros Cerveau\, 3000 route du Gros Cerveau. OLLIOULES\nSous la voûte étoilée du planétarium\, venez découvrir les mystères de notre Univers et vous émerveiller devant sa beauté. \nA 14h et à 17h : « Polaris » à partir de 5 ans. \nJames\, un manchot voyageur du pôle Sud\, et Vladimir\, un ours rigolo du pôle Nord\, se rencontrent sur la banquise arctique. Apprentis astronomes\, ils se demandent pourquoi la nuit est si longue aux deux pôles de la Terre. Une aventure scientifique extraordinaire va les mener de la construction d’un observatoire à celle d’un vaisseau spatial de fortune. Au cours d’un voyage autour de la Terre puis vers Mars et Saturne\, ils répondront à leur interrogation et découvriront que les planètes ont des points communs mais aussi des différences ! \nA 15h30 : « Mondes lointains\, vie extraterrestre ? » à partir de 10 ans. \nLes dernières missions d’exploration spatiale nous ont permis d’acquérir la certitude que la planète Mars a bénéficié dans un passé lointain de conditions propices à l’apparition de la vie et que certains satellites du système solaire\, tel Encelade autour de Saturne\, possèdent un océan sous-terrain qui pourrait abriter des formes de vie élémentaires. \nParallèlement\, et à des distances bien plus lointaines\, nous découvrons toujours plus de planètes orbitant autour d’autres étoiles que le Soleil\, et dont un certain nombre présentent des similitudes avec notre Terre et pourraient également sous certaines conditions offrir des conditions propices à la vie\, voire abriter une vie extraterrestre. \nCe spectacle fera l’inventaire de ce que l’on sait aujourd’hui de ces recherches\, mais laissera également place au rêve pour essayer d’imaginer à quoi pourraient ressembler d’éventuels êtres vivants peuplant ces mondes lointains… \nA 18h30 : « A la découverte du système solaire » à partir de 10 ans. \nUne ballade commentée du système solaire par l’animateur. \nIl y a 4 milliards 600 millions d’années environ\, l’effondrement gravitationnel d’un gigantesque nuage de gaz et de poussières a donné naissance à notre Soleil et\, autour de lui\, aux planètes ainsi qu’aux innombrables petits corps les accompagnant. Si notre système solaire connait aujourd’hui une phase d’une grande stabilité\, son histoire fut par contre tumultueuse et de nombreux changements se produisirent avant d’aboutir à la situation que nous connaissons actuellement\, avec des planètes aux destins divers et la vie sur l’une d’entre elles. C’est cette histoire et cette diversité que nous vous proposons de découvrir. \n> 4 € par personne. Réservation obligatoire.\nClub d’astronomie Véga 04 94 09 07 38 / 06 52 81 11 18 www.oagc.fr \n 
URL:https://lepetitvarois.fr/event/seances-de-planetarium-13/
CATEGORIES:Ollioules
ATTACH;FMTTYPE=image/jpeg:https://lepetitvarois.fr/wp-content/uploads/2018/06/star-gazing-1149228_960_720.jpg
END:VEVENT
END:VCALENDAR