BEGIN:VCALENDAR
VERSION:2.0
PRODID:-//Le Petit Varois.Fr - ECPv6.0.10//NONSGML v1.0//EN
CALSCALE:GREGORIAN
METHOD:PUBLISH
X-ORIGINAL-URL:https://lepetitvarois.fr
X-WR-CALDESC:évènements pour Le Petit Varois.Fr
REFRESH-INTERVAL;VALUE=DURATION:PT1H
X-Robots-Tag:noindex
X-PUBLISHED-TTL:PT1H
BEGIN:VTIMEZONE
TZID:Europe/Paris
BEGIN:DAYLIGHT
TZOFFSETFROM:+0100
TZOFFSETTO:+0200
TZNAME:CEST
DTSTART:20190331T010000
END:DAYLIGHT
BEGIN:STANDARD
TZOFFSETFROM:+0200
TZOFFSETTO:+0100
TZNAME:CET
DTSTART:20191027T010000
END:STANDARD
END:VTIMEZONE
BEGIN:VEVENT
DTSTART;VALUE=DATE:20190405
DTEND;VALUE=DATE:20190408
DTSTAMP:20260425T055615
CREATED:20190329T162813Z
LAST-MODIFIED:20190329T162813Z
UID:10217-1554422400-1554681599@lepetitvarois.fr
SUMMARY:Les Journées Européennes des Métiers d'Art
DESCRIPTION:Les Journées Européennes des Métiers d’Art\nCentre-ville\, place Jean Jaurès. OLLIOULES\nLes Journées Européennes des Métiers d’Art sont dédiées à la découverte d’un secteur remarquable par sa diversité et sa vitalité. Partez à la découverte des métiers d’art à Ollioules !  \nAteliers portes ouvertes du Chemin des Créateurs et démonstrations.  \nThéâtre de rue avec Ratafia Théâtre\, danse contemporaine avec la compagnie Lachesis\, Franck Micheletti DJ. \nExposition à ciel ouvert dans les rues des ateliers pendant les 3 jours.\nLe « Village des Ferronniers » : participation du lycée Langevin et sa formation professionnelle « Ferronnerie d’art »- participation de professionnels de la ferronnerie place J. Jaurès.\nVendredi 5 : journée dédiée aux scolaires- diffusion d’un film pédagogique « Métiers d’envie » au Couvent des Observantins.\nSamedi 6 à 10h : inauguration en présence de Charles Berling\, parrain du\n« Chemin des créateurs ».\nTotes bags offerts à l’effigie du « Chemin des créateurs » à retirer à la Galerie de l’Olivier.\n15h30 : défilé de mode de mode avec Mickelange Couture (3\, rue Hoche).\nAteliers portes ouvertes du Chemin des Créateurs.\nDimanche 7 à 10h : visite guidée gratuite avec Martin Grange\, guide conférencier pour l’Office de Tourisme Intercommunal. Il vous emmenera à la découverte des métiers d’art sélectionnés pour l’occasion. Une visite mêlant patrimoine et savoir-faire avec les métiers d’art. \n> Gratuit. Réservation obligatoire au 04 94 63 11 74 (15 participants max).\nToute la journée\, ateliers portes ouvertes du Chemin des Créateurs.\nHôtel de Ville 04 94 30 41 41 / 04 94 30 41 02 www.ollioules.fr
URL:https://lepetitvarois.fr/event/les-journees-europeennes-des-metiers-dart/
CATEGORIES:Ollioules
ATTACH;FMTTYPE=image/jpeg:https://lepetitvarois.fr/wp-content/uploads/2019/03/hands-1139098_960_720.jpg
END:VEVENT
BEGIN:VEVENT
DTSTART;TZID=Europe/Paris:20190420T090000
DTEND;TZID=Europe/Paris:20190420T113000
DTSTAMP:20260425T055615
CREATED:20190329T183838Z
LAST-MODIFIED:20190329T183838Z
UID:10300-1555750800-1555759800@lepetitvarois.fr
SUMMARY:Chasse aux œufs
DESCRIPTION:Chasse aux œufs de 9h à 11h30. \nChez les commerçants du centre ville.  OLLIOULES\nAssociation des commerçants\, artisans et entreprises d’Ollioules (A.C.E.O.) 07 71  77 08 62 \nassoace.ollioules@gmail.com
URL:https://lepetitvarois.fr/event/chasse-aux-oeufs/
CATEGORIES:Ollioules
ATTACH;FMTTYPE=image/jpeg:https://lepetitvarois.fr/wp-content/uploads/2019/03/eggs-1245720_960_720.jpg
END:VEVENT
BEGIN:VEVENT
DTSTART;TZID=Europe/Paris:20190421T080000
DTEND;TZID=Europe/Paris:20190421T180000
DTSTAMP:20260425T055615
CREATED:20190329T185209Z
LAST-MODIFIED:20190329T185209Z
UID:10315-1555833600-1555869600@lepetitvarois.fr
SUMMARY:Foire au fourbi
DESCRIPTION:Foire au fourbi de 8h à 18h.\nPlace Jean Jaurès. OLLIOULES\n> 11 € l’emplacement. Réservation à l’accueil de l’office de tourisme d’Ollioules.\nAssociation La Guimbarde ollioulaise 04 94 63 42 01 / 06 13 27 19 67  
URL:https://lepetitvarois.fr/event/foire-au-fourbi/
CATEGORIES:Ollioules
ATTACH;FMTTYPE=image/jpeg:https://lepetitvarois.fr/wp-content/uploads/2018/02/marbles-1659398_960_720.jpg
END:VEVENT
BEGIN:VEVENT
DTSTART;VALUE=DATE:20190428
DTEND;VALUE=DATE:20190429
DTSTAMP:20260425T055615
CREATED:20190329T191308Z
LAST-MODIFIED:20190329T191308Z
UID:10351-1556409600-1556495999@lepetitvarois.fr
SUMMARY:Corso fleuri et sa bataille de fleurs
DESCRIPTION:Corso fleuri et sa bataille de fleurs\nCentre-ville\, place Jean Jaurès. OLLIOULES\nDès 14h30\, majorettes\, fanfares\, animations musicales et à 15h30 grand corso fleuri et sa bataille de fleurs. \nSamedi 27 de 14h30 à 16h30 : le public sera invité à visiter les chars en cours de réalisation dans le hangar Taccola. Rappelons que tous les chars sont entièrement garnis de fleurs fraîches\, cultivées dans le Var. \nMairie d’Ollioules 04 94 30 41 41 / 04 94 30 41 02
URL:https://lepetitvarois.fr/event/corso-fleuri-et-sa-bataille-de-fleurs/
CATEGORIES:Ollioules
ATTACH;FMTTYPE=image/jpeg:https://lepetitvarois.fr/wp-content/uploads/2019/03/flowers-1245820_960_720.jpg
END:VEVENT
END:VCALENDAR