BEGIN:VCALENDAR
VERSION:2.0
PRODID:-//Le Petit Varois.Fr - ECPv6.0.10//NONSGML v1.0//EN
CALSCALE:GREGORIAN
METHOD:PUBLISH
X-ORIGINAL-URL:https://lepetitvarois.fr
X-WR-CALDESC:évènements pour Le Petit Varois.Fr
REFRESH-INTERVAL;VALUE=DURATION:PT1H
X-Robots-Tag:noindex
X-PUBLISHED-TTL:PT1H
BEGIN:VTIMEZONE
TZID:Europe/Paris
BEGIN:DAYLIGHT
TZOFFSETFROM:+0100
TZOFFSETTO:+0200
TZNAME:CEST
DTSTART:20190331T010000
END:DAYLIGHT
BEGIN:STANDARD
TZOFFSETFROM:+0200
TZOFFSETTO:+0100
TZNAME:CET
DTSTART:20191027T010000
END:STANDARD
END:VTIMEZONE
BEGIN:VEVENT
DTSTART;TZID=Europe/Paris:20190501T090000
DTEND;TZID=Europe/Paris:20190501T183000
DTSTAMP:20260425T043744
CREATED:20190429T193407Z
LAST-MODIFIED:20190429T193407Z
UID:10720-1556701200-1556735400@lepetitvarois.fr
SUMMARY:17e tournoi rapide d'échecs
DESCRIPTION:17e tournoi rapide d’échecs  de 9h à 18h30.\nSalle des Fêtes\, 17 av. Anatole France. OLLIOULES \nDébut du tournoi à 10h. Buvette et petite restauration rapide sur place.\n> Inscription obligatoire.\nClub d’échecs ollioulais 06 50 95 77 29   mory.eric@gmail.com
URL:https://lepetitvarois.fr/event/17e-tournoi-rapide-dechecs/
CATEGORIES:Ollioules
ATTACH;FMTTYPE=image/jpeg:https://lepetitvarois.fr/wp-content/uploads/2019/04/battle-1846807_960_720.jpg
END:VEVENT
BEGIN:VEVENT
DTSTART;TZID=Europe/Paris:20190501T140000
DTEND;TZID=Europe/Paris:20190501T193000
DTSTAMP:20260425T043744
CREATED:20190429T193922Z
LAST-MODIFIED:20190429T193922Z
UID:10729-1556719200-1556739000@lepetitvarois.fr
SUMMARY:Séances de planétarium
DESCRIPTION:Séances de planétarium  de 14h à 19h40.\nObservatoire astronomique du Gros Cerveau\, 3000 route du Gros Cerveau. OLLIOULES \nSous la voûte étoilée du planétarium\, venez découvrir les mystères de notre Univers et vous émerveiller devant sa beauté.\n> 5 €. \nProgramme et réservation 04 94 09 07 38 planetarium@oagc.fr – www.oagc.fr
URL:https://lepetitvarois.fr/event/seances-de-planetarium-23/
CATEGORIES:Ollioules
ATTACH;FMTTYPE=image/jpeg:https://lepetitvarois.fr/wp-content/uploads/2018/08/sky-828648_960_720.jpg
END:VEVENT
BEGIN:VEVENT
DTSTART;TZID=Europe/Paris:20190502T200000
DTEND;TZID=Europe/Paris:20190502T213000
DTSTAMP:20260425T043744
CREATED:20190429T194125Z
LAST-MODIFIED:20190429T194125Z
UID:10733-1556827200-1556832600@lepetitvarois.fr
SUMMARY:Conférence-dédicace "La guerre d’Algérie est-elle terminée ?"
DESCRIPTION:Conférence-dédicace « La guerre d’Algérie est-elle terminée ? » par Jean Sevillia à 20h. \nSalle des Fêtes\, 17 rue Anatole France. OLLIOULES\n> 5 € / gratuit pour les -25 ans.\nRéservation  https://www.billetweb.fr/les-verites-cachees-de-la-guerre-d-algerie
URL:https://lepetitvarois.fr/event/conference-dedicace-la-guerre-dalgerie-est-elle-terminee/
CATEGORIES:Ollioules
ATTACH;FMTTYPE=image/jpeg:https://lepetitvarois.fr/wp-content/uploads/2019/04/algeria-673777_960_720.jpg
END:VEVENT
BEGIN:VEVENT
DTSTART;TZID=Europe/Paris:20190503T180000
DTEND;TZID=Europe/Paris:20190503T200000
DTSTAMP:20260425T043744
CREATED:20190429T194210Z
LAST-MODIFIED:20190429T194210Z
UID:10736-1556906400-1556913600@lepetitvarois.fr
SUMMARY:Conférence "La Résistance et la Libération de la Provence"
DESCRIPTION:Conférence « La Résistance et la Libération de la Provence » par Jean-Marie Guillon\, professeur émérite de  l’université d’Aix-Marseille\, attaché au laboratoire TELEMME (Temps\, espace\, langage\, Europe méridionale\, Méditerranée) à 18h. \nEspace Brémond\, rue Loutin. OLLIOULES\nMairie d’Ollioules 04 94 30 41 02
URL:https://lepetitvarois.fr/event/conference-la-resistance-et-la-liberation-de-la-provence/
CATEGORIES:Ollioules
ATTACH;FMTTYPE=image/jpeg:https://lepetitvarois.fr/wp-content/uploads/2019/04/terre-265-5944-1.jpg
END:VEVENT
BEGIN:VEVENT
DTSTART;TZID=Europe/Paris:20190504T080000
DTEND;TZID=Europe/Paris:20190504T180000
DTSTAMP:20260425T043744
CREATED:20190429T194558Z
LAST-MODIFIED:20190429T194558Z
UID:10744-1556956800-1556992800@lepetitvarois.fr
SUMMARY:35è foire aux plantes
DESCRIPTION:35è foire aux plantes de 8h à 18h. \nPlace Jean Jaurès. OLLIOULES\nPrésence de nombreux producteurs locaux\, animations pour enfants\, tombola gratuite\, conseils pour les plantations et l’entretien des sols… Mise à disposition gratuite de composteurs avec le Sittomat. Vous pourrez stationner espace Orlandi et utiliser la navette bus gratuite vers le centre-ville. Un arrêt minute sera aussi à votre disposition au début de la rue République pour charger vos achats volumineux.\nHôtel de Ville 04 94 30 41 41 / 04 94 30 41 02 ollioulesmairie@gmail.com – www.ollioules.fr
URL:https://lepetitvarois.fr/event/35e-foire-aux-plantes/
CATEGORIES:Ollioules
ATTACH;FMTTYPE=image/jpeg:https://lepetitvarois.fr/wp-content/uploads/2019/03/wild-flowers-571940_960_720.jpg
END:VEVENT
BEGIN:VEVENT
DTSTART;TZID=Europe/Paris:20190505T080000
DTEND;TZID=Europe/Paris:20190505T170000
DTSTAMP:20260425T043744
CREATED:20190429T200113Z
LAST-MODIFIED:20190429T200113Z
UID:10760-1557043200-1557075600@lepetitvarois.fr
SUMMARY:Vide-greniers
DESCRIPTION:Vide-greniers de 7h à 14h. \nRoute de la Gare. OLLIOULES\nBuvette sur place avec boissons et sandwichs. \n> 18 € l’emplacement voiture / 22 € pour les fourgons ou remorques 7m.\nComité des fêtes de la gare 06 95 30 94 14 fetedepepiole.ollioules@gmail.com  
URL:https://lepetitvarois.fr/event/vide-greniers-10/
CATEGORIES:Ollioules
ATTACH;FMTTYPE=image/jpeg:https://lepetitvarois.fr/wp-content/uploads/2018/02/art-21542_960_720.jpg
END:VEVENT
BEGIN:VEVENT
DTSTART;TZID=Europe/Paris:20190505T090000
DTEND;TZID=Europe/Paris:20190505T180000
DTSTAMP:20260425T043744
CREATED:20190429T200315Z
LAST-MODIFIED:20190429T200315Z
UID:10764-1557046800-1557079200@lepetitvarois.fr
SUMMARY:Journée sportive\, festive et familiale
DESCRIPTION:Journée sportive\, festive et familiale de 9h à 18h. \nParc public de la Castellane\, ch. de La Castellane. OLLIOULES\nJournée organisée avec l’aide de la mairie d’Ollioules\, les associations EBRO\, Les Immortelles ‘Ollioules\, du rugby club ollioulais et Les Minots d’Ollioules ont grandi. De nombreuses animations : tournoi de rugby\, boxe. circuits de marche\, street dance\, démonstration handibike\, divers jeux d’extérieur\, magie\, bulle de cinéma immersif\, atelier speed rugby et exposition de peinture d’Alain Aillaud. Concert de la chorale pop rock « Vox Factory » et concert rock « Dog Bless You ».\n> 1 € de participation.\nAssociation « le Sourire de Lucie »  06 35 20 21 32 souriredelucie@neuf.fr – www.souriredelucie.org
URL:https://lepetitvarois.fr/event/journee-sportive-festive-et-familiale/
CATEGORIES:Ollioules
ATTACH;FMTTYPE=image/jpeg:https://lepetitvarois.fr/wp-content/uploads/2018/11/children-2105468_960_720.jpg
END:VEVENT
BEGIN:VEVENT
DTSTART;VALUE=DATE:20190511
DTEND;VALUE=DATE:20190513
DTSTAMP:20260425T043744
CREATED:20190430T193009Z
LAST-MODIFIED:20190430T193009Z
UID:10805-1557532800-1557705599@lepetitvarois.fr
SUMMARY:2è Ollioules Games
DESCRIPTION:2è Ollioules Games de 9h à 19h.\nSalle de la Criée\, 50 rue Nationale et place Jean Jaurès. OLLIOULES\nConcours Cosplay\, salle rétro gaming\, atelier cartes Pokemon\, vidéo game story\, atelier make-up et de nombreuses autres activités autour du jeu (pêche aux canards\, château gonflable\, concours de selfies\, atelier prévention\, 2 échassiers\, cosplayers…). \nAssociation des commerçants d’Ollioules 07 71 77 08 62 / 04 94 30 41 28
URL:https://lepetitvarois.fr/event/2e-ollioules-games/
CATEGORIES:Ollioules
ATTACH;FMTTYPE=image/jpeg:https://lepetitvarois.fr/wp-content/uploads/2019/04/computer-1845880_960_720.jpg
END:VEVENT
BEGIN:VEVENT
DTSTART;TZID=Europe/Paris:20190511T080000
DTEND;TZID=Europe/Paris:20190511T123000
DTSTAMP:20260425T043744
CREATED:20190430T192250Z
LAST-MODIFIED:20190430T192250Z
UID:10795-1557561600-1557577800@lepetitvarois.fr
SUMMARY:Fête des marchés
DESCRIPTION:Fête des marchés de 8h à 12h30 (animations). \nCours Voltaire. OLLIOULES. \nMairie d’Ollioules 04 94 30 41 02 / 04 94 30 41 41 www.ollioules.fr
URL:https://lepetitvarois.fr/event/fete-des-marches/
CATEGORIES:Ollioules
ATTACH;FMTTYPE=image/jpeg:https://lepetitvarois.fr/wp-content/uploads/2018/02/fruit-1275551_960_720.jpg
END:VEVENT
BEGIN:VEVENT
DTSTART;TZID=Europe/Paris:20190511T210000
DTEND;TZID=Europe/Paris:20190511T230000
DTSTAMP:20260425T043744
CREATED:20190430T192729Z
LAST-MODIFIED:20190430T192729Z
UID:10803-1557608400-1557615600@lepetitvarois.fr
SUMMARY:Concert de chorales : l’ensemble polyphonique d’Ollioules reçoit la chorale "La clé des Champs" d’Ugine (Savoie)
DESCRIPTION:Concert de chorales : l’ensemble polyphonique d’Ollioules reçoit la chorale « La clé des Champs » d’Ugine (Savoie) à 21h. \nSalle des Fêtes\, 17 rue Anatole France. OLLIOULES. \nEnsemble Polyphonique d’Ollioules 04 94 63 11 74
URL:https://lepetitvarois.fr/event/concert-de-chorales-lensemble-polyphonique-dollioules-recoit-la-chorale-la-cle-des-champs-dugine-savoie/
CATEGORIES:Ollioules
ATTACH;FMTTYPE=image/jpeg:https://lepetitvarois.fr/wp-content/uploads/2018/06/singer-579923_960_720.jpg
END:VEVENT
BEGIN:VEVENT
DTSTART;TZID=Europe/Paris:20190512T090000
DTEND;TZID=Europe/Paris:20190512T130000
DTSTAMP:20260425T043744
CREATED:20190430T193253Z
LAST-MODIFIED:20190430T193253Z
UID:10812-1557651600-1557666000@lepetitvarois.fr
SUMMARY:Course pédestre : course pour la vie challenge Emile Hanna
DESCRIPTION:Course pédestre : course pour la vie challenge Emile Hanna au profit de l’association Handimômes de 9h à 13h. \nParking de Châteauvallon. OLLIOULES\n8h : accueil des concurrents.  \n9h30 : course pédestre à allure libre (2 parcours 7 km et 14 km) ouverte aux athlètes femmes et hommes\, licenciés ou non\, des catégories juniors\, séniors et vétérans. \n> 10 € (7 km) / 13 € (14 km). Inscription à Running Conseil\, av. J. Mermoz 04 94 41 13 10.  \nRotary club de Toulon 06 09 87 55 30  
URL:https://lepetitvarois.fr/event/course-pedestre-course-pour-la-vie-challenge-emile-hanna/
CATEGORIES:Ollioules
ATTACH;FMTTYPE=image/jpeg:https://lepetitvarois.fr/wp-content/uploads/2018/04/shoes-1638873_960_720.jpg
END:VEVENT
BEGIN:VEVENT
DTSTART;TZID=Europe/Paris:20190514T190000
DTEND;TZID=Europe/Paris:20190514T210000
DTSTAMP:20260425T043744
CREATED:20190430T194235Z
LAST-MODIFIED:20190430T194235Z
UID:10820-1557860400-1557867600@lepetitvarois.fr
SUMMARY:Conférence "L'agé et ses proches dans la société d'aujourd'hui"
DESCRIPTION:Conférence « L’agé et ses proches dans la société d’aujourd’hui » avec Michel Delage (médecin psychiatre) et Laurence Martel (doc en psychologie) en partenariat avec l’association Afreca présidée par Boris Cyrulnik à 19h. \nEspace Pierre Puget\, place Marius Trotobas. OLLIOULES. \n> 10 €. Réservation conseillée.\nAssociation Présence Infirmière Ollioulaise 06 09 83 14 03  
URL:https://lepetitvarois.fr/event/conference-lage-et-ses-proches-dans-la-societe-daujourdhui/
CATEGORIES:Ollioules
ATTACH;FMTTYPE=image/jpeg:https://lepetitvarois.fr/wp-content/uploads/2018/02/startup-594090_960_720.jpg
END:VEVENT
BEGIN:VEVENT
DTSTART;TZID=Europe/Paris:20190515T140000
DTEND;TZID=Europe/Paris:20190515T170000
DTSTAMP:20260425T043744
CREATED:20190430T194524Z
LAST-MODIFIED:20190430T194524Z
UID:10824-1557928800-1557939600@lepetitvarois.fr
SUMMARY:Atelier de préparation "La défense de la langue française : du texte à la dictée"
DESCRIPTION:Atelier de préparation « La défense de la langue française : du texte à la dictée » animé par Jean Picano à 14h. \nSalle Jean Moulin\, Espace Pierre Puget\, Place Marius Trotobas. OLLIOULES\n> Gratuit sur inscription.\nUniversité du Temps Libre 04 94 30 41 20 utlo@ollioules.fr  
URL:https://lepetitvarois.fr/event/atelier-de-preparation-la-defense-de-la-langue-francaise-du-texte-a-la-dictee/
CATEGORIES:Ollioules
ATTACH;FMTTYPE=image/jpeg:https://lepetitvarois.fr/wp-content/uploads/2019/04/study-921885_960_720.jpg
END:VEVENT
BEGIN:VEVENT
DTSTART;TZID=Europe/Paris:20190518T090000
DTEND;TZID=Europe/Paris:20190518T170000
DTSTAMP:20260425T043744
CREATED:20190430T195801Z
LAST-MODIFIED:20190430T195801Z
UID:10846-1558170000-1558198800@lepetitvarois.fr
SUMMARY:Raconte moi l’exploration spatiale
DESCRIPTION:Raconte moi l’exploration spatiale de 9h30-12h / 14h-17h. \nSalle de la Criée aux Fleurs\, 50 rue Nationale. OLLIOULES \nEvènement sur le thème de l’exploration spatiale et de l’astronomie mettant en cette année 2019 l’accent sur le 50è anniversaire du premier pas de l’homme sur la Lune\, et proposant notamment les activités suivantes : séances de planétarium numérique\, animations et ateliers\, Mission Apollo 11 en réalité virtuelle\, expositions « Apollo 11 » et « Mission Espace »\, observation du Soleil.\nClub d’astronomie Véga 04 94 09 07 38 info@oagc.fr – www.oagc.fr
URL:https://lepetitvarois.fr/event/raconte-moi-lexploration-spatiale/
CATEGORIES:Ollioules
ATTACH;FMTTYPE=image/jpeg:https://lepetitvarois.fr/wp-content/uploads/2018/08/galaxy-11098_960_720.jpg
END:VEVENT
BEGIN:VEVENT
DTSTART;TZID=Europe/Paris:20190518T093000
DTEND;TZID=Europe/Paris:20190518T170000
DTSTAMP:20260425T043744
CREATED:20190430T195708Z
LAST-MODIFIED:20190430T195708Z
UID:10844-1558171800-1558198800@lepetitvarois.fr
SUMMARY:Inauguration de la randonnée Peri Urbaine "Castellane\, Moulin de Palisson\, Canal des Arrosants"
DESCRIPTION:Inauguration de la randonnée Peri Urbaine « Castellane\, Moulin de Palisson\, Canal des Arrosants » \n à 9h30. \nDépart de l’espace boisé du Parc de la Castellane. OLLIOULES \nMatinée spéciale bien-être avec petit déjeuner sportif\, conseil en diététiques\, séances de relaxations… \nHôtel de Ville 04 94 30 41 41 / 04 94 30 41 02 ollioulesmairie@gmail.com – www.ollioules.fr
URL:https://lepetitvarois.fr/event/inauguration-de-la-randonnee-peri-urbaine-castellane-moulin-de-palisson-canal-des-arrosants/
CATEGORIES:Ollioules
ATTACH;FMTTYPE=image/jpeg:https://lepetitvarois.fr/wp-content/uploads/2019/04/girl-2398821_960_720.jpg
END:VEVENT
BEGIN:VEVENT
DTSTART;TZID=Europe/Paris:20190518T143000
DTEND;TZID=Europe/Paris:20190518T170000
DTSTAMP:20260425T043744
CREATED:20190430T195932Z
LAST-MODIFIED:20190430T195932Z
UID:10850-1558189800-1558198800@lepetitvarois.fr
SUMMARY:10è festival des fusées à eau
DESCRIPTION:10è festival des fusées à eau (lancement de fusées à eau\, tir aux planètes et observation du soleil ouvert aux enfants à partir de 7 ans) de 14h30 à 16h30. \nObservatoire astronomique du Gros Cerveau\, 3000 route du Gros Cerveau. OLLIOULES\nClub d’astronomie Véga 04 94 09 07 38 info@oagc.fr – www.oagc.fr
URL:https://lepetitvarois.fr/event/10e-festival-des-fusees-a-eau/
CATEGORIES:Ollioules
ATTACH;FMTTYPE=image/jpeg:https://lepetitvarois.fr/wp-content/uploads/2018/08/milky-way-1023340_960_720.jpg
END:VEVENT
BEGIN:VEVENT
DTSTART;TZID=Europe/Paris:20190519T080000
DTEND;TZID=Europe/Paris:20190519T130000
DTSTAMP:20260425T043744
CREATED:20190430T200707Z
LAST-MODIFIED:20190430T200707Z
UID:10859-1558252800-1558270800@lepetitvarois.fr
SUMMARY:Puces enfantines
DESCRIPTION:Puces enfantines (Vente de jouets\, matériel de puériculture\, vêtements de 0 à 15 ans) de 8h à 13h.\nPlace Jean Jaurès. OLLIOULES\nAssociation des parents et amis de la Charmerie 04 94 63 28 09
URL:https://lepetitvarois.fr/event/puces-enfantines-2/
CATEGORIES:Ollioules
ATTACH;FMTTYPE=image/jpeg:https://lepetitvarois.fr/wp-content/uploads/2018/03/easter-3263657_960_720.jpg
END:VEVENT
BEGIN:VEVENT
DTSTART;TZID=Europe/Paris:20190523T180000
DTEND;TZID=Europe/Paris:20190523T200000
DTSTAMP:20260425T043744
CREATED:20190501T172032Z
LAST-MODIFIED:20190501T172032Z
UID:10876-1558634400-1558641600@lepetitvarois.fr
SUMMARY:Conférence "Diaspora Corsa"
DESCRIPTION:Conférence « Diaspora Corsa » animée par Pierre-André Giacomoni à 18h. \nSalle des Fêtes\, 17 av. Anatole France. OLLIOULES\n> 5 €. Réservation obligatoire.\nAmicale des corses et amis de la Corse d’Ollioules 04 94 63 16 84 / 06 62 43 12 82 antoine.galletti@wanadoo.fr
URL:https://lepetitvarois.fr/event/conference-diaspora-corsa/
CATEGORIES:Ollioules
ATTACH;FMTTYPE=image/jpeg:https://lepetitvarois.fr/wp-content/uploads/2018/02/conference-2705706_960_720.jpg
END:VEVENT
BEGIN:VEVENT
DTSTART;TZID=Europe/Paris:20190525T203000
DTEND;TZID=Europe/Paris:20190525T220000
DTSTAMP:20260425T043744
CREATED:20190501T172735Z
LAST-MODIFIED:20190501T172735Z
UID:10889-1558816200-1558821600@lepetitvarois.fr
SUMMARY:32è édition de Miss Ollioules & 3è édition de Mamiss (de 50 à 90 ans)
DESCRIPTION:32è édition de Miss Ollioules & 3è édition de Mamiss (de 50 à 90 ans) à 20h30. \nSalle des Fêtes\, 17 av. Anatole France. OLLIOULES\n> 20 € l’entrée avec tapas.\nComité officiel des fêtes 06 11 93 69 91 cof-ollioules@orange.fr  
URL:https://lepetitvarois.fr/event/32e-edition-de-miss-ollioules-3e-edition-de-mamiss-de-50-a-90-ans/
CATEGORIES:Ollioules
ATTACH;FMTTYPE=image/jpeg:https://lepetitvarois.fr/wp-content/uploads/2015/04/florrie.jpg
END:VEVENT
BEGIN:VEVENT
DTSTART;TZID=Europe/Paris:20190527T080000
DTEND;TZID=Europe/Paris:20190527T170000
DTSTAMP:20260425T043744
CREATED:20190527T151958Z
LAST-MODIFIED:20190527T151958Z
UID:11264-1558944000-1558976400@lepetitvarois.fr
SUMMARY:12e dictée intercommunale et intergénérationnelle
DESCRIPTION:12e dictée intercommunale et intergénérationnelle à 14h. \nEspace Pierre Puget\, place Marius Trotobas. OLLIOULES\nCette dictée est ouverte à toutes les générations confondues. \nA 14h : Juniors (-14 ans). \nA 15h30 : Adultes. \nRemise des prix le vendredi 7 juin à 17h30. \nUniversité du Temps Libre 04 94 30 41 20 utlo@ollioules.fr
URL:https://lepetitvarois.fr/event/12e-dictee-intercommunale-et-intergenerationnelle/
CATEGORIES:Ollioules
ATTACH;FMTTYPE=image/jpeg:https://lepetitvarois.fr/wp-content/uploads/2019/03/book-1209805_960_720.jpg
END:VEVENT
BEGIN:VEVENT
DTSTART;TZID=Europe/Paris:20190529T140000
DTEND;TZID=Europe/Paris:20190529T193000
DTSTAMP:20260425T043744
CREATED:20190501T173629Z
LAST-MODIFIED:20190501T173629Z
UID:10901-1559138400-1559158200@lepetitvarois.fr
SUMMARY:Séances de planétarium
DESCRIPTION:Séances de planétarium  de 14h à 19h40.\nObservatoire astronomique du Gros Cerveau\, 3000 route du Gros Cerveau. OLLIOULES \nSous la voûte étoilée du planétarium\, venez découvrir les mystères de notre Univers et vous émerveiller devant sa beauté.\n> 5 €. \nProgramme et réservation 04 94 09 07 38 planetarium@oagc.fr – www.oagc.fr
URL:https://lepetitvarois.fr/event/seances-de-planetarium-24/
CATEGORIES:Ollioules
ATTACH;FMTTYPE=image/jpeg:https://lepetitvarois.fr/wp-content/uploads/2018/08/milky-way-1023340_960_720.jpg
END:VEVENT
BEGIN:VEVENT
DTSTART;TZID=Europe/Paris:20190529T203000
DTEND;TZID=Europe/Paris:20190529T230000
DTSTAMP:20260425T043744
CREATED:20190501T173859Z
LAST-MODIFIED:20190501T173859Z
UID:10907-1559161800-1559170800@lepetitvarois.fr
SUMMARY:Concert des jeunes talents du C.R.R. de TPM
DESCRIPTION:Concert des jeunes talents du C.R.R. de TPM avec les élèves de la classe de Musique de Chambre de madame Janette Filipas-Pantin\, professeur au Conservatoire à Rayonnement Régional de TPM à 20h30. \nSalle Jean Moulin\, place Trotobas. OLLIOULES \nRéservation conseillée 04 94 30 41 20
URL:https://lepetitvarois.fr/event/concert-des-jeunes-talents-du-c-r-r-de-tpm/
CATEGORIES:Ollioules
ATTACH;FMTTYPE=image/jpeg:https://lepetitvarois.fr/wp-content/uploads/2019/03/concert-662851_960_720.jpg
END:VEVENT
BEGIN:VEVENT
DTSTART;TZID=Europe/Paris:20190531T073000
DTEND;TZID=Europe/Paris:20190531T123000
DTSTAMP:20260425T043744
CREATED:20190501T174100Z
LAST-MODIFIED:20190501T174100Z
UID:10911-1559287800-1559305800@lepetitvarois.fr
SUMMARY:Collecte de sang
DESCRIPTION:Collecte de sang de 7h30 à 12h30. \nSalle de la Criée aux Fleurs\, 50 rue Nationale. OLLIOULES\nEtablissement français du sang 04 98 08 08 56 https://dondesang.efs.sante.fr
URL:https://lepetitvarois.fr/event/collecte-de-sang-29/
CATEGORIES:Ollioules
ATTACH;FMTTYPE=image/jpeg:https://lepetitvarois.fr/wp-content/uploads/2018/09/balloon-1046693_960_720.jpg
END:VEVENT
END:VCALENDAR