BEGIN:VCALENDAR
VERSION:2.0
PRODID:-//Le Petit Varois.Fr - ECPv6.0.10//NONSGML v1.0//EN
CALSCALE:GREGORIAN
METHOD:PUBLISH
X-ORIGINAL-URL:https://lepetitvarois.fr
X-WR-CALDESC:évènements pour Le Petit Varois.Fr
REFRESH-INTERVAL;VALUE=DURATION:PT1H
X-Robots-Tag:noindex
X-PUBLISHED-TTL:PT1H
BEGIN:VTIMEZONE
TZID:Europe/Paris
BEGIN:DAYLIGHT
TZOFFSETFROM:+0100
TZOFFSETTO:+0200
TZNAME:CEST
DTSTART:20190331T010000
END:DAYLIGHT
BEGIN:STANDARD
TZOFFSETFROM:+0200
TZOFFSETTO:+0100
TZNAME:CET
DTSTART:20191027T010000
END:STANDARD
END:VTIMEZONE
BEGIN:VEVENT
DTSTART;TZID=Europe/Paris:20190703T210000
DTEND;TZID=Europe/Paris:20190703T220000
DTSTAMP:20260425T013308
CREATED:20190701T103348Z
LAST-MODIFIED:20190701T103348Z
UID:11757-1562187600-1562191200@lepetitvarois.fr
SUMMARY:Concert de l'été en plein air "Brass Band (Serge Baudry)"
DESCRIPTION: Concert de l’été en plein air « Brass Band (Serge Baudry) » à 21h. \nPlace Jean Jaurès. OLLIOULES \nTransféré salle des Fêtes en cas d’intempéries.\n> Gratuit.\nService culturel d’Ollioules 04 94 30 41 20
URL:https://lepetitvarois.fr/event/concert-de-lete-en-plein-air-brass-band-serge-baudry/
CATEGORIES:Ollioules
ATTACH;FMTTYPE=image/jpeg:https://lepetitvarois.fr/wp-content/uploads/2019/03/concert-662851_960_720.jpg
END:VEVENT
BEGIN:VEVENT
DTSTART;TZID=Europe/Paris:20190705T180000
DTEND;TZID=Europe/Paris:20190705T200000
DTSTAMP:20260425T013308
CREATED:20190701T113528Z
LAST-MODIFIED:20190701T113528Z
UID:11767-1562349600-1562356800@lepetitvarois.fr
SUMMARY:Conférence en images "USA West Wild\, paysage fabuleux"
DESCRIPTION:Conférence en images « USA West Wild\, paysage fabuleux » de Jean-Paul Cabanis\, photographe voyageur à 18h. \nSalle Jean Moulin\, place Trotobas. OLLIOULES \n> Entrée libre.\nService culturel 04 94 30 41 20 
URL:https://lepetitvarois.fr/event/conference-en-images-usa-west-wild-paysage-fabuleux/
CATEGORIES:Ollioules
ATTACH;FMTTYPE=image/jpeg:https://lepetitvarois.fr/wp-content/uploads/2019/06/JP-Cabanis.jpg
END:VEVENT
BEGIN:VEVENT
DTSTART;TZID=Europe/Paris:20190707T090000
DTEND;TZID=Europe/Paris:20190707T120000
DTSTAMP:20260425T013308
CREATED:20190702T142838Z
LAST-MODIFIED:20190702T142838Z
UID:11805-1562490000-1562500800@lepetitvarois.fr
SUMMARY:Concours de chilet (imitation de chants d'oiseaux)
DESCRIPTION:Concours de chilet (imitation de chants d’oiseaux) de 9h à 12h. \nSalle des Fêtes\, 17 av. Anatole France. OLLIOULES\n> Entrée libre.\nSociété de chasse La Maquisarde 06 75 68 09 26 
URL:https://lepetitvarois.fr/event/concours-de-chilet-imitation-de-chants-doiseaux-2/
CATEGORIES:Ollioules
ATTACH;FMTTYPE=image/jpeg:https://lepetitvarois.fr/wp-content/uploads/2019/03/flowers-1835619_960_720.jpg
END:VEVENT
BEGIN:VEVENT
DTSTART;TZID=Europe/Paris:20190712T203000
DTEND;TZID=Europe/Paris:20190712T223000
DTSTAMP:20260425T013308
CREATED:20190703T223244Z
LAST-MODIFIED:20190703T223244Z
UID:11854-1562963400-1562970600@lepetitvarois.fr
SUMMARY:Conférence "Observer les étoiles et planètes dans le désert de l’Atacama au Chili "
DESCRIPTION:Conférence « Observer les étoiles et planètes dans le désert de l’Atacama au Chili «  par Eric Lagadec\, astrophysicien à l’Observatoire de la Côte d’Azur à Nice\, animations et observation du ciel à partir de 20h30. \nObservatoire astronomique du Gros Cerveau\, 3000 route du Gros Cerveau. OLLIOULES\nMission Apollo 11 en réalité virtuelle (à partir de 13 ans)\, séance de planétarium\, exposition « Apollo 11\, la conquête de la Lune »\, et observation du ciel nocturne aux télescopes.\n> Gratuit. Sauf planétarium et réalité virtuelle 5 € par personne. Réservation obligatoire pour le planétarium.\nClub d’astronomie Véga 04 94 09 07 38 www.oagc.fr
URL:https://lepetitvarois.fr/event/conference-observer-les-etoiles-et-planetes-dans-le-desert-de-latacama-au-chili/
CATEGORIES:Ollioules
ATTACH;FMTTYPE=image/jpeg:https://lepetitvarois.fr/wp-content/uploads/2018/08/milky-way-1023340_960_720.jpg
END:VEVENT
BEGIN:VEVENT
DTSTART;TZID=Europe/Paris:20190713T090000
DTEND;TZID=Europe/Paris:20190713T180000
DTSTAMP:20260425T013308
CREATED:20190710T202336Z
LAST-MODIFIED:20190710T202336Z
UID:11921-1563008400-1563040800@lepetitvarois.fr
SUMMARY:Puces et brocante
DESCRIPTION:Puces et brocante de 9h à 18h. \nCours Voltaire. OLLIOULES\n> 18 € l’emplacement sur réservation à l’accueil de l’office de tourisme d’Ollioules. \nOT Ollioules 04 94 63 11 74 www.tourisme-ouestvar.com
URL:https://lepetitvarois.fr/event/puces-et-brocante-2/
CATEGORIES:Ollioules
ATTACH;FMTTYPE=image/jpeg:https://lepetitvarois.fr/wp-content/uploads/2018/02/marbles-1659398_960_720.jpg
END:VEVENT
BEGIN:VEVENT
DTSTART;TZID=Europe/Paris:20190714T210000
DTEND;TZID=Europe/Paris:20190714T233000
DTSTAMP:20260425T013308
CREATED:20190710T203941Z
LAST-MODIFIED:20190710T203941Z
UID:11932-1563138000-1563147000@lepetitvarois.fr
SUMMARY:Festivités du 14 juillet
DESCRIPTION: Festivités du 14 juillet  \nOLLIOULES\n21h : retraite aux flambeaux avec les Tambours de l’Odyssée et les Lys d’Ollioules. \nRemise des flambeaux au local du Comité officiel des Fêtes\, 36 rue République\, à partir de 20h45. Démonstration des Lys. \n21h\, place Jean Jaurès : bal populaire avec Christian Yann. \n22h30\, espace Malraux : grand feu d’artifice (reporté en cas d’intempéries ou de vents violents).\nRenseignement 04 94 63 11 74 / 06 11 93 69 91
URL:https://lepetitvarois.fr/event/festivites-du-14-juillet/
CATEGORIES:Ollioules
ATTACH;FMTTYPE=image/jpeg:https://lepetitvarois.fr/wp-content/uploads/2019/07/actress-2868705_960_720.jpg
END:VEVENT
BEGIN:VEVENT
DTSTART;TZID=Europe/Paris:20190720T200000
DTEND;TZID=Europe/Paris:20190720T220000
DTSTAMP:20260425T013308
CREATED:20190712T203941Z
LAST-MODIFIED:20190712T203941Z
UID:12013-1563652800-1563660000@lepetitvarois.fr
SUMMARY:Grande soupe au pistou avec l'orchestre Duo Fusion
DESCRIPTION:Grande soupe au pistou avec l’orchestre Duo Fusion à 20h. \nPlace Jean Jaurès. OLLIOULES (annulé en cas de mauvais temps)\n> 20 €. Réservation à l’accueil de l’office de tourisme d’Ollioules. \nOT Ollioules 04 94 63 11 74
URL:https://lepetitvarois.fr/event/grande-soupe-au-pistou-avec-lorchestre-duo-fusion/
CATEGORIES:Ollioules
ATTACH;FMTTYPE=image/jpeg:https://lepetitvarois.fr/wp-content/uploads/2019/07/olive-oil-1412361_960_720.jpg
END:VEVENT
BEGIN:VEVENT
DTSTART;TZID=Europe/Paris:20190720T203000
DTEND;TZID=Europe/Paris:20190720T223000
DTSTAMP:20260425T013308
CREATED:20190712T204048Z
LAST-MODIFIED:20190712T204048Z
UID:12016-1563654600-1563661800@lepetitvarois.fr
SUMMARY:Conférence "De la lune d’Apollo vers Mars"
DESCRIPTION:Conférence « De la lune d’Apollo vers Mars » par Michel Marcelin\, astrophysicien au Laboratoire d’Astrophysique de Marseille\, animations et observation du ciel à partir de 20h30. \nObservatoire astronomique du Gros Cerveau\, 3000 route du Gros Cerveau. OLLIOULES\nMission Apollo 11 en réalité virtuelle (à partir de 13 ans)\, séance de planétarium\, exposition « Apollo 11\, la conquête de la Lune »\, et observation du ciel nocturne aux télescopes.\n> Gratuit sauf planétarium et réalité virtuelle 5 € par personne. Réservation obligatoire pour le planétarium.\nClub d’astronomie Véga 04 94 09 07 38 www.oagc.fr 
URL:https://lepetitvarois.fr/event/conference-de-la-lune-dapollo-vers-mars/
CATEGORIES:Ollioules
ATTACH;FMTTYPE=image/jpeg:https://lepetitvarois.fr/wp-content/uploads/2018/08/milky-way-1023340_960_720.jpg
END:VEVENT
END:VCALENDAR