BEGIN:VCALENDAR
VERSION:2.0
PRODID:-//Le Petit Varois.Fr - ECPv6.0.10//NONSGML v1.0//EN
CALSCALE:GREGORIAN
METHOD:PUBLISH
X-WR-CALNAME:Le Petit Varois.Fr
X-ORIGINAL-URL:https://lepetitvarois.fr
X-WR-CALDESC:évènements pour Le Petit Varois.Fr
REFRESH-INTERVAL;VALUE=DURATION:PT1H
X-Robots-Tag:noindex
X-PUBLISHED-TTL:PT1H
BEGIN:VTIMEZONE
TZID:Europe/Paris
BEGIN:DAYLIGHT
TZOFFSETFROM:+0100
TZOFFSETTO:+0200
TZNAME:CEST
DTSTART:20190331T010000
END:DAYLIGHT
BEGIN:STANDARD
TZOFFSETFROM:+0200
TZOFFSETTO:+0100
TZNAME:CET
DTSTART:20191027T010000
END:STANDARD
END:VTIMEZONE
BEGIN:VEVENT
DTSTART;TZID=Europe/Paris:20190802T153000
DTEND;TZID=Europe/Paris:20190802T170000
DTSTAMP:20260425T000512
CREATED:20190728T195601Z
LAST-MODIFIED:20190728T195601Z
UID:12200-1564759800-1564765200@lepetitvarois.fr
SUMMARY:Séances de planétarium
DESCRIPTION:Séances de planétarium  \nObservatoire astronomique du Gros Cerveau\, 3000 route du Gros Cerveau. OLLIOULES\nInstallé dans une salle de l’observatoire\, le planétarium d’un diamètre de 5m peut accueillir dix-huit personnes allongées ou assises.  \nLes séances sont commentées en direct par un animateur. \n15h30 : séance enfants « Polaris » (à partir de 5 ans). \nJames\, un manchot voyageur du pôle Sud\, et Vladimir\, un ours rigolo du pôle Nord\, se rencontrent sur la banquise arctique. Apprentis astronomes\, ils se demandent pourquoi la nuit est si longue aux deux pôles de la Terre. Une aventure scientifique extraordinaire va les mener de la construction d’un observatoire à celle d’un vaisseau spatial de fortune. Au cours d’un voyage autour de la Terre puis vers Mars et Saturne\, ils répondront à leur interrogation et découvriront que les planètes ont des points communs mais aussi des différences ! \nDurée : 60 minutes. \n17h : séance « Lucia\, le secret des étoiles filantes » (à partir de 5 ans). \nAprès les aventures vécues lors du premier épisode Polaris\, James\, le manchot voyageur du pôle Sud\, et Vladimir\, l’ours rigolo du pôle Nord\, font la rencontre de Lucia\, un colibri\, tout aussi curieuse qu’eux. C’est tous ensemble qu’ils reprennent le chemin de l’espace pour tenter de percer le secret des étoiles filantes et des météorites\, ces mystérieux cailloux qui tombent sur Terre. \nEst-ce que la réponse se trouve sur la Lune ? L’observation des astéroïdes et de comètes peuvent sans doute aussi contribuer à la démarche scientifique de nos trois héros. À condition toutefois de bien s’entendre ! \nDurée : 60 minutes. \n18h30 : séance « Apollo 11 » (à partir de 10 ans).\n> 5 € par personne. Réservation obligatoire en ligne sur www.oagc.fr/programmation \nLes enfants jusqu’à l’âge de 12 ans inclus doivent être accompagnés par un adulte. \nActivité accessible aux PMR après contact préalable et confirmation de notre part. \nClub d’astronomie Véga 04 94 09 07 38 
URL:https://lepetitvarois.fr/event/seances-de-planetarium-29/
CATEGORIES:Ollioules
ATTACH;FMTTYPE=image/jpeg:https://lepetitvarois.fr/wp-content/uploads/2018/08/milky-way-1023340_960_720.jpg
END:VEVENT
BEGIN:VEVENT
DTSTART;TZID=Europe/Paris:20190803T150000
DTEND;TZID=Europe/Paris:20190803T170000
DTSTAMP:20260425T000512
CREATED:20190728T201457Z
LAST-MODIFIED:20190728T201457Z
UID:12223-1564844400-1564851600@lepetitvarois.fr
SUMMARY:Séance de planétarium 
DESCRIPTION:Séance de planétarium  \nObservatoire astronomique du Gros Cerveau\, 3000 route du Gros Cerveau. OLLIOULES\nInstallé dans une salle de l’observatoire\, le planétarium d’un diamètre de 5m peut accueillir dix-huit personnes allongées ou assises. \nA 15h et à 21h45 « Lucia\, le secret des étoiles filantes » (à partir de 5 ans).  \nA 16h30 « Polaris »\n> 5 € par personne. Réservation obligatoire en ligne sur www.oagc.fr/programmation \nLes enfants jusqu’à l’âge de 12 ans inclus doivent être accompagnés par un adulte. \nActivité accessible aux PMR après contact préalable et confirmation de notre part. \nClub d’astronomie Véga 04 94 09 07 38 
URL:https://lepetitvarois.fr/event/seance-de-planetarium/
CATEGORIES:Ollioules
ATTACH;FMTTYPE=image/jpeg:https://lepetitvarois.fr/wp-content/uploads/2018/06/star-gazing-1149228_960_720.jpg
END:VEVENT
BEGIN:VEVENT
DTSTART;TZID=Europe/Paris:20190803T160000
DTEND;TZID=Europe/Paris:20190803T170000
DTSTAMP:20260425T000512
CREATED:20190728T201714Z
LAST-MODIFIED:20190728T201714Z
UID:12225-1564848000-1564851600@lepetitvarois.fr
SUMMARY:Nuit des Etoiles 2019 : animations pour les enfants
DESCRIPTION:Nuit des Etoiles 2019 : animations pour les enfants de 16h à 17h30. \nObservatoire astronomique du Gros Cerveau\, 3000 route du Gros Cerveau. OLLIOULES\nLancement de fusées à eau\, tir aux planètes\, séances de planétarium\, expositions\, et observation du Soleil pour tous. \n> Gratuit.  \nClub d’astronomie Véga 04 94 09 07 38 www.oagc.fr
URL:https://lepetitvarois.fr/event/nuit-des-etoiles-2019-animations-pour-les-enfants/
CATEGORIES:Ollioules
ATTACH;FMTTYPE=image/jpeg:https://lepetitvarois.fr/wp-content/uploads/2018/08/galaxy-11098_960_720.jpg
END:VEVENT
BEGIN:VEVENT
DTSTART;TZID=Europe/Paris:20190803T203000
DTEND;TZID=Europe/Paris:20190803T223000
DTSTAMP:20260425T000512
CREATED:20190728T202501Z
LAST-MODIFIED:20190728T202501Z
UID:12230-1564864200-1564871400@lepetitvarois.fr
SUMMARY:Nuit des Etoiles 2019 : conférence "De la lune aux astéroïdes : la quête des échantillons d’objets célestes"
DESCRIPTION:Nuit des Etoiles 2019 : conférence « De la lune aux astéroïdes : la quête des échantillons d’objets célestes » par Patrick Michel\, astrophysicien à l’Observatoire de la Côte d’Azur de Nice\, animations et observation du ciel à 20h30. \nObservatoire astronomique du Gros Cerveau\, 3000 route du Gros Cerveau. OLLIOULES\nMission Apollo 11 en réalité virtuelle (à partir de 13 ans)\, séance de planétarium pour les enfants\, exposition « Apollo 11\, la conquête de la Lune »\, et observation du ciel nocturne aux télescopes.\n> Gratuit sauf planétarium 5 € par personne. Réservation obligatoire pour le planétarium.\nClub d’astronomie Véga 04 94 09 07 38 www.oagc.fr 
URL:https://lepetitvarois.fr/event/nuit-des-etoiles-2019-conference-de-la-lune-aux-asteroides-la-quete-des-echantillons-dobjets-celestes/
CATEGORIES:Ollioules
ATTACH;FMTTYPE=image/jpeg:https://lepetitvarois.fr/wp-content/uploads/2018/08/sky-828648_960_720.jpg
END:VEVENT
BEGIN:VEVENT
DTSTART;TZID=Europe/Paris:20190804T203000
DTEND;TZID=Europe/Paris:20190804T220000
DTSTAMP:20260425T000512
CREATED:20190728T202951Z
LAST-MODIFIED:20190728T202951Z
UID:12238-1564950600-1564956000@lepetitvarois.fr
SUMMARY:Nuit des Etoiles 2019 : balade céleste\, animations et observation du ciel
DESCRIPTION:Nuit des Etoiles 2019 : balade céleste\, animations et observation du ciel à 20h30. \nObservatoire astronomique du Gros Cerveau\, 3000 route du Gros Cerveau. OLLIOULES\nBalade céleste « A la découverte du ciel d’été » présentée par le Club d’astronomie Véga\, mission Apollo 11 en réalité virtuelle (à partir de 13 ans)\, exposition « Apollo 11\, la conquête de la Lune »\, et observation du ciel nocturne aux télescopes. \n> Gratuit. \nClub d’astronomie Véga 04 94 09 07 38 www.oagc.fr
URL:https://lepetitvarois.fr/event/nuit-des-etoiles-2019-balade-celeste-animations-et-observation-du-ciel/
CATEGORIES:Ollioules
ATTACH;FMTTYPE=image/jpeg:https://lepetitvarois.fr/wp-content/uploads/2018/08/milky-way-1023340_960_720.jpg
END:VEVENT
BEGIN:VEVENT
DTSTART;VALUE=DATE:20190808
DTEND;VALUE=DATE:20190812
DTSTAMP:20260425T000512
CREATED:20190728T205910Z
LAST-MODIFIED:20190728T205910Z
UID:12264-1565222400-1565567999@lepetitvarois.fr
SUMMARY:Fête de la Saint Laurent
DESCRIPTION:Fête de la Saint Laurent  \nOLLIOULES\nDu jeudi 8 au dimanche 11 août : fête foraine sur la place Lemoyne. Concours de boules au boulodrome municipal (Renseignement B.B.O. 06 40 05 81 86). \nJeudi 8 août à 18h\, espace Pierre Puget : vernissage du salon de la Saint Laurent par la Palette Ollioulaise.  \nVendredi 9 août :  \nDe 14h à 23h\, place Jean Jaurès : puces et brocante.  \n> 18 € en vente à l’accueil de l’office de tourisme d’Ollioules. \n21h\, place Victor Clément : bal musette avec l’orchestre Christian Yann. \nSamedi 10 août :  \n20h30\, place Jean Jaurès : grand gala de variétés gratuit avec Frédéric Longbois\, Pauline Ester et en vedette Sandrine Alexi\, imitatrice. \nDimanche 11 août : \n17h30\, place Marius Trotobas : concert de l’orchestre d’Harmonie d’Ollioules sous la direction de Sébastien Portelli suivi d’un apéritif d’honneur offert par le Comité Officiel des Fêtes et Saveurs et Traditions. \n21h\, place Jean Jaurès : bal populaire avec l’orchestre Méphisto. \n22h30\, espace Malraux : grand feu d’artifice (annulé en cas d’intempéries ou de vents violents).\nComité officiel des fêtes 06 11 93 69 91 / OT Ollioules 04 94 63 11 74  
URL:https://lepetitvarois.fr/event/fete-de-la-saint-laurent/
CATEGORIES:Ollioules
ATTACH;FMTTYPE=image/png:https://lepetitvarois.fr/wp-content/uploads/2019/07/Capture-d’écran-2019-07-28-à-19.33.32.png
END:VEVENT
BEGIN:VEVENT
DTSTART;TZID=Europe/Paris:20190808T140000
DTEND;TZID=Europe/Paris:20190808T170000
DTSTAMP:20260425T000512
CREATED:20190728T205041Z
LAST-MODIFIED:20190728T205041Z
UID:12259-1565272800-1565283600@lepetitvarois.fr
SUMMARY:Séances de planétarium
DESCRIPTION:Séances de planétarium  \nObservatoire astronomique du Gros Cerveau\, 3000 route du Gros Cerveau. OLLIOULES\nInstallé dans une salle de l’observatoire\, le planétarium d’un diamètre de 5m peut accueillir dix-huit personnes allongées ou assises.  \nLes séances sont commentées en direct par un animateur. \nA 14h et à 17h : séance « Lucia\, le secret des étoiles filantes » (à partir de 5 ans). \n15h30 : séance enfants « Polaris » (à partir de 5 ans). \n18h30 : séance « De la Terre à l’Univers » (à partir de 12 ans). \n> 5 € par personne. Réservation obligatoire en ligne sur https://www.oagc.fr/programmation \nLes enfants jusqu’à l’âge de 12 ans inclus doivent être accompagnés par un adulte. \nActivité accessible aux PMR après contact préalable et confirmation de notre part. \nClub d’astronomie Véga 04 94 09 07 38 
URL:https://lepetitvarois.fr/event/seances-de-planetarium-30/
CATEGORIES:Ollioules
ATTACH;FMTTYPE=image/jpeg:https://lepetitvarois.fr/wp-content/uploads/2018/08/sky-828648_960_720.jpg
END:VEVENT
BEGIN:VEVENT
DTSTART;TZID=Europe/Paris:20190809T203000
DTEND;TZID=Europe/Paris:20190809T233000
DTSTAMP:20260425T000512
CREATED:20190728T211328Z
LAST-MODIFIED:20190728T211328Z
UID:12275-1565382600-1565393400@lepetitvarois.fr
SUMMARY:Conférence "De retour de Mars"
DESCRIPTION:Conférence « De retour de Mars » par Romain Charles\, ingénieur support des astronautes européens au sein de l’Agence Spatiale Européenne\, animations et observation du ciel à 20h30. \nObservatoire astronomique du Gros Cerveau\, 3000 route du Gros Cerveau. OLLIOULES\nPuis mission Apollo 11 en réalité virtuelle (à partir de 13 ans)\, séance de planétarium pour les enfants\, exposition « Apollo 11\, la conquête de la Lune »\, et observation du ciel nocturne aux télescopes.\n> Gratuit sauf planétarium et réalité virtuelle 5 € par personne.  \nClub d’astronomie Véga 04 94 09 07 38 www.oagc.fr
URL:https://lepetitvarois.fr/event/conference-de-retour-de-mars/
CATEGORIES:Ollioules
ATTACH;FMTTYPE=image/jpeg:https://lepetitvarois.fr/wp-content/uploads/2018/06/star-gazing-1149228_960_720.jpg
END:VEVENT
BEGIN:VEVENT
DTSTART;TZID=Europe/Paris:20190809T210000
DTEND;TZID=Europe/Paris:20190809T233000
DTSTAMP:20260425T000512
CREATED:20190728T211502Z
LAST-MODIFIED:20190728T211502Z
UID:12277-1565384400-1565393400@lepetitvarois.fr
SUMMARY:Projection de film en plein air "Comme un seul homme"
DESCRIPTION: Projection de film en plein air « Comme un seul homme » à 21h. \nPlace centrale\, île des Embiez. SIX FOURS\n> Gratuit sauf prix de la traversée en bateau.\nSociété Paul Ricard www.lesilespaulricard.com  \n 
URL:https://lepetitvarois.fr/event/projection-de-film-en-plein-air-comme-un-seul-homme/
CATEGORIES:Ollioules
ATTACH;FMTTYPE=image/jpeg:https://lepetitvarois.fr/wp-content/uploads/2019/07/3046823.jpg-c_215_290_x-f_jpg-q_x-xxyxx.jpg
END:VEVENT
BEGIN:VEVENT
DTSTART;TZID=Europe/Paris:20190809T213000
DTEND;TZID=Europe/Paris:20190809T233000
DTSTAMP:20260425T000512
CREATED:20190728T212250Z
LAST-MODIFIED:20190728T212250Z
UID:12285-1565386200-1565393400@lepetitvarois.fr
SUMMARY:Séance de planétarium "Lucia\, le secret des étoiles filantes"
DESCRIPTION:Séance de planétarium « Lucia\, le secret des étoiles filantes » à 21h45. \nObservatoire astronomique du Gros Cerveau\, 3000 route du Gros Cerveau. OLLIOULES\nInstallé dans une salle de l’observatoire\, le planétarium d’un diamètre de 5m peut accueillir dix-huit personnes allongées ou assises. \nOuvert à tous à partir de 5 ans. Après les aventures vécues lors du premier épisode Polaris\, James\, le manchot voyageur du pôle Sud\, et Vladimir\, l’ours rigolo du pôle Nord\, font la rencontre de Lucia\, un colibri\, tout aussi curieuse qu’eux. C’est tous ensemble qu’ils reprennent le chemin de l’espace pour tenter de percer le secret des étoiles filantes et des météorites\, ces mystérieux cailloux qui tombent sur Terre. \nEst-ce que la réponse se trouve sur la Lune ? L’observation des astéroïdes et de comètes peuvent sans doute aussi contribuer à la démarche scientifique de nos trois héros. À condition toutefois de bien s’entendre !\n> 5 € par personne. Réservation obligatoire en ligne sur www.oagc.fr/programmation \nLes enfants jusqu’à l’âge de 12 ans inclus doivent être accompagnés par un adulte. \nActivité accessible aux PMR après contact préalable et confirmation de notre part. \nClub d’astronomie Véga 04 94 09 07 38 
URL:https://lepetitvarois.fr/event/seance-de-planetarium-lucia-le-secret-des-etoiles-filantes/
CATEGORIES:Ollioules
ATTACH;FMTTYPE=image/jpeg:https://lepetitvarois.fr/wp-content/uploads/2018/08/milky-way-1023340_960_720.jpg
END:VEVENT
BEGIN:VEVENT
DTSTART;TZID=Europe/Paris:20190815T080000
DTEND;TZID=Europe/Paris:20190815T170000
DTSTAMP:20260425T000512
CREATED:20190814T221551Z
LAST-MODIFIED:20190814T221551Z
UID:12454-1565856000-1565888400@lepetitvarois.fr
SUMMARY:32è fête de la Saint Eloi (unique dans la métropole TPM)
DESCRIPTION:32è fête de la Saint Eloi (unique dans la métropole TPM) \nOLLIOULES\nSamedi 17 août : \n18h\, place Jean Jaurès : parcours folklorique d’ânes (gratuit).  \nDimanche 18 août : \n9h\, espace Jean Callenes : pressage du vin nouveau au quartier de Faveyrolles.  \n11h\, place Victor Clément : messe de la Saint Eloi en plein air avec groupes folkloriques et s fifres et tambours de Notre Dame de Signes. Vente de pain béni.  \n17h30 : grande cavalcade de la Saint Eloi sur le thème des vieux métiers. \nAnimations avec groupes provençaux. Défilé des attelages\, grande cavalcade avec plus de 50 chevaux de traits\, comtois\, percherons\, bretons mais aussi ânes et mulets. Cavalcade animée par Jacques Thimoleon.\nComité de la Saint Eloi 04 94 63 26 81   
URL:https://lepetitvarois.fr/event/32e-fete-de-la-saint-eloi-unique-dans-la-metropole-tpm/
CATEGORIES:Ollioules
ATTACH;FMTTYPE=image/jpeg:https://lepetitvarois.fr/wp-content/uploads/2019/08/st-eloi3.jpeg
END:VEVENT
BEGIN:VEVENT
DTSTART;TZID=Europe/Paris:20190816T203000
DTEND;TZID=Europe/Paris:20190816T223000
DTSTAMP:20260425T000512
CREATED:20190814T220647Z
LAST-MODIFIED:20190814T220647Z
UID:12446-1565987400-1565994600@lepetitvarois.fr
SUMMARY:Conférence\, animations et observation du ciel
DESCRIPTION:Conférence\, animations et observation du ciel à 20h30. \nObservatoire astronomique du Gros Cerveau\, 3000 route du Gros Cerveau. OLLIOULES\nConférence « La géologie de la Lune\, 50 ans après Apollo 11\, et 12 mois après Chang’e 4 »\, prononcée par Pierre Thomas\, géologue et planétologue au Laboratoire de Géologie de Lyon. Puis mission Apollo 11 en réalité virtuelle (à partir de 13 ans)\, séance de planétarium pour les enfants\, exposition « Apollo 11\, la conquête de la Lune »\, et observation du ciel nocturne aux télescopes.\n> Gratuit sauf planétarium et réalité virtuelle 5 € par personne. Réservation obligatoire pour le planétarium.\nClub d’astronomie Véga 04 94 09 07 38 www.oagc.fr
URL:https://lepetitvarois.fr/event/conference-animations-et-observation-du-ciel/
CATEGORIES:Ollioules
ATTACH;FMTTYPE=image/jpeg:https://lepetitvarois.fr/wp-content/uploads/2018/08/galaxy-11098_960_720.jpg
END:VEVENT
END:VCALENDAR