BEGIN:VCALENDAR
VERSION:2.0
PRODID:-//Le Petit Varois.Fr - ECPv6.0.10//NONSGML v1.0//EN
CALSCALE:GREGORIAN
METHOD:PUBLISH
X-ORIGINAL-URL:https://lepetitvarois.fr
X-WR-CALDESC:évènements pour Le Petit Varois.Fr
REFRESH-INTERVAL;VALUE=DURATION:PT1H
X-Robots-Tag:noindex
X-PUBLISHED-TTL:PT1H
BEGIN:VTIMEZONE
TZID:Europe/Paris
BEGIN:DAYLIGHT
TZOFFSETFROM:+0100
TZOFFSETTO:+0200
TZNAME:CEST
DTSTART:20210328T010000
END:DAYLIGHT
BEGIN:STANDARD
TZOFFSETFROM:+0200
TZOFFSETTO:+0100
TZNAME:CET
DTSTART:20211031T010000
END:STANDARD
END:VTIMEZONE
BEGIN:VEVENT
DTSTART;TZID=Europe/Paris:20210601T093000
DTEND;TZID=Europe/Paris:20210601T120000
DTSTAMP:20260423T101630
CREATED:20210530T085653Z
LAST-MODIFIED:20210530T085653Z
UID:20398-1622539800-1622548800@lepetitvarois.fr
SUMMARY:Visite Guidée du canal des Arrosants
DESCRIPTION:Durée de la visite 2h30.\nNotre guide vous invite à découvrir comment les eaux vives de la Reppe ont été domestiquées par l’homme à partir du Moyen Age grâce à la construction de canaux et qui regroupent le Canal des Moulins\, des Fontaines et des jardins.\nLes Ollioulais\, au cours des siècles\, ont avec ingéniosité et obstination su partager ces eaux. Vous apprendrez comment Ollioules est devenue la capitale de la fleur de 1850 à 1990. Vous visiterez le Moulin de Palisson\, moulin à farine du XVe siècle\, véritable musée du métier de meunier.\n\n\nMardi 1er juin 2021 à 9h30.\nRDV 1/4 d’heure avant. \nJeudi 17 juin 2021 à 14h30.\nRDV 1/4 d’heure avant. \nMardi 13 juillet 2021 à 9h30.\nRDV 1/4 d’heure avant. \nVendredi 23 juillet 2021 à 9h30.\nRDV 1/4 d’heure avant. \nMardi 17 août 2021 à 9h30.\nRDV 1/4 d’heure avant. \nJeudi 16 septembre 2021 à 14h30.\nRDV 1/4 d’heure avant. \nVendredi 24 septembre 2021 à 9h30.\nRDV 1/4 d’heure avant. \nJeudi 7 octobre 2021 à 14h30.\nRDV 1/4 d’heure avant. \nMardi 19 octobre 2021 à 9h30.\nRDV 1/4 d’heure avant. \nVendredi 5 novembre 2021 à 9h30.\n\nRDV 1/4 d’heure avant.\n\n8 € adulte / 2 € pour les enfants de 6 à 12 ans / Gratuit pour les -6 ans.\nRéservation obligatoire dans nos accueils ou vente à distance en contactant le 04 94 07 02 21. Port du masque obligatoire.\n\n\nOrganisateur\nOIT Provence Méditerranée – Pôle Ouest \nTél : 04 94 63 11 74\nTél : 04 94 07 02 21
URL:https://lepetitvarois.fr/event/visite-guidee-du-canal-des-arrosants-4/
CATEGORIES:Ollioules
ATTACH;FMTTYPE=image/png:https://lepetitvarois.fr/wp-content/uploads/2021/05/Capture-decran-2021-05-30-a-10.50.51.png
END:VEVENT
BEGIN:VEVENT
DTSTART;TZID=Europe/Paris:20210605T093000
DTEND;TZID=Europe/Paris:20210605T113000
DTSTAMP:20260423T101630
CREATED:20210531T192744Z
LAST-MODIFIED:20210531T192820Z
UID:20512-1622885400-1622892600@lepetitvarois.fr
SUMMARY:Ateliers de création d'herbiers
DESCRIPTION:Cet atelier de création d’herbier est accessible pour les adultes et les enfants à partir de 10 ans. Première partie : découverte du pressage et séchage des fleurs et en deuxième partie : création de son herbier décoratif avec des fleurs locales.\n\n\n\nSamedi 8 mai 2021 à 9h30. \nSamedi 15 mai 2021 à 9h30. \nMercredi 19 mai 2021 à 16h. \nDimanche 30 mai 2021 à 9h30. \nSamedi 5 juin 2021 à 9h30. \nSamedi 12 juin 2021 à 9h30. \nMercredi 16 juin 2021 à 16h. \nSamedi 26 juin 2021 à 9h30.
URL:https://lepetitvarois.fr/event/ateliers-de-creation-dherbiers/2021-06-05/
CATEGORIES:Ollioules
ATTACH;FMTTYPE=image/png:https://lepetitvarois.fr/wp-content/uploads/2021/05/Capture-decran-2021-05-31-a-20.59.27.png
END:VEVENT
BEGIN:VEVENT
DTSTART;TZID=Europe/Paris:20210608T183000
DTEND;TZID=Europe/Paris:20210608T193000
DTSTAMP:20260423T101630
CREATED:20210531T200057Z
LAST-MODIFIED:20210531T200057Z
UID:20522-1623177000-1623180600@lepetitvarois.fr
SUMMARY:Conférence en ligne : "L'écume de l'espace temps"
DESCRIPTION:Conférence en ligne prononcée par Jean-Pierre Luminet\, astrophysicien\, conférencier\, écrivain et poète français\, spécialiste de réputation internationale des trous noirs et de la cosmologie.\n\n\nMardi 8 juin 2021 à 18h30.\n\n\n\n\nOrganisateur\nClub d’astronomie Véga \nPort : 06 82 07 00 70\nSite Internet « Club d’astronomie Véga « \n\n\n\nLieu\n83190\nOllioules
URL:https://lepetitvarois.fr/event/conference-en-ligne-lecume-de-lespace-temps/
CATEGORIES:Ollioules
ATTACH;FMTTYPE=image/jpeg:https://lepetitvarois.fr/wp-content/uploads/2018/08/sky-828648_960_720.jpg
END:VEVENT
END:VCALENDAR