BEGIN:VCALENDAR
VERSION:2.0
PRODID:-//Le Petit Varois.Fr - ECPv6.0.10//NONSGML v1.0//EN
CALSCALE:GREGORIAN
METHOD:PUBLISH
X-WR-CALNAME:Le Petit Varois.Fr
X-ORIGINAL-URL:https://lepetitvarois.fr
X-WR-CALDESC:évènements pour Le Petit Varois.Fr
REFRESH-INTERVAL;VALUE=DURATION:PT1H
X-Robots-Tag:noindex
X-PUBLISHED-TTL:PT1H
BEGIN:VTIMEZONE
TZID:Europe/Paris
BEGIN:DAYLIGHT
TZOFFSETFROM:+0100
TZOFFSETTO:+0200
TZNAME:CEST
DTSTART:20220327T010000
END:DAYLIGHT
BEGIN:STANDARD
TZOFFSETFROM:+0200
TZOFFSETTO:+0100
TZNAME:CET
DTSTART:20221030T010000
END:STANDARD
END:VTIMEZONE
BEGIN:VEVENT
DTSTART;TZID=Europe/Paris:20220303T140000
DTEND;TZID=Europe/Paris:20220303T180000
DTSTAMP:20260422T191327
CREATED:20220228T205104Z
LAST-MODIFIED:20220228T205104Z
UID:23557-1646316000-1646330400@lepetitvarois.fr
SUMMARY:Championnat du Var vétérans d'échecs
DESCRIPTION:Ce championnat réservé aux joueurs d’échecs de plus de 45 ans\, venant de n’importe quel club varois\, se déroulera sur 7 journées jusqu’au mois d’avril. Le public est invité à découvrir le tournoi.\n\n\nJeudi 3 mars 2022 de 14h à 18h.\nLieu : Espace Pierre Puget
URL:https://lepetitvarois.fr/event/championnat-du-var-veterans-dechecs-4/
CATEGORIES:Ollioules
ATTACH;FMTTYPE=image/jpeg:https://lepetitvarois.fr/wp-content/uploads/2022/02/chess-6872239_1280.jpg
END:VEVENT
BEGIN:VEVENT
DTSTART;TZID=Europe/Paris:20220304T150000
DTEND;TZID=Europe/Paris:20220304T190000
DTSTAMP:20260422T191327
CREATED:20220228T205339Z
LAST-MODIFIED:20220228T205339Z
UID:23560-1646406000-1646420400@lepetitvarois.fr
SUMMARY:Collecte de sang
DESCRIPTION:Partagez votre pouvoir\, donnez votre sang !\nSi vous veniez accompagné(e) pour votre prochain don de sang? Nos réserves de sang sont très fragiles c’est pourquoi nous comptons sur vous pour mobiliser votre entourage !\n\n\nVendredi 4 mars 2022 de 15h à 19h30.\n\nLieu : Espace Brémond Ollioules 
URL:https://lepetitvarois.fr/event/collecte-de-sang-52/
CATEGORIES:Ollioules
ATTACH;FMTTYPE=image/jpeg:https://lepetitvarois.fr/wp-content/uploads/2020/09/earth-4861456_1920.jpg
END:VEVENT
BEGIN:VEVENT
DTSTART;TZID=Europe/Paris:20220305T083000
DTEND;TZID=Europe/Paris:20220305T170000
DTSTAMP:20260422T191327
CREATED:20220228T211400Z
LAST-MODIFIED:20220228T211400Z
UID:23570-1646469000-1646499600@lepetitvarois.fr
SUMMARY:Les samedis du patrimoine : Balade des remparts
DESCRIPTION:Fort du succès remporté depuis plus de 20 ans des Journées Européennes du Patrimoine\, le service culture et patrimoine de la ville d’Ollioules organise tout au long de l’année des parcours de découvertes et d’interprétation de son patrimoine.\nTous les premiers samedis du mois\, un agent du service culture et patrimoine vous accompagne pour une visite du musée archéologique Bottin-Layet suivie d’un parcours d’interprétation des pièces du musée selon deux thématiques en alternance : l’oppidum celto ligure de la Courtine et le rempart médiéval. \nCe parcours se rapproche de nous par un bond dans le temps avec une balade urbaine autour du rempart médiéval. Depuis le musée archéologique\, découvrez le système défensif de notre cité\, et bénéficiez d’une immersion dans les conditions de vie des ollioulais de jadis. Là aussi\, la balade se terminera pour ceux qui le souhaitent\, par un moment convivial : verre en terrasse ou un déjeuner dans un des restaurants d’Ollioules.\n\n\nSamedi 5 mars 2022 à 8h30. \nSamedi 7 mai 2022 à 8h30. \nSamedi 2 juillet 2022 à 8h30. \nSamedi 3 septembre 2022 à 8h30. \nSamedi 5 novembre 2022 à 8h30.
URL:https://lepetitvarois.fr/event/les-samedis-du-patrimoine-balade-des-remparts/2022-03-05/
CATEGORIES:Ollioules
ATTACH;FMTTYPE=image/jpeg:https://lepetitvarois.fr/wp-content/uploads/2022/02/800x600_107083-oll_les_samedis_du_patrimoine.jpg
END:VEVENT
BEGIN:VEVENT
DTSTART;TZID=Europe/Paris:20220325T203000
DTEND;TZID=Europe/Paris:20220325T220000
DTSTAMP:20260422T191327
CREATED:20220324T142945Z
LAST-MODIFIED:20220324T142945Z
UID:23811-1648240200-1648245600@lepetitvarois.fr
SUMMARY:Concert au profit de l'Ukraine
DESCRIPTION:avec les élèves de l’école de chant Clara Schmitt.\n\n\nVendredi 25 mars 2022 à 20h30.
URL:https://lepetitvarois.fr/event/concert-au-profit-de-lukraine/
CATEGORIES:Ollioules
ATTACH;FMTTYPE=image/jpeg:https://lepetitvarois.fr/wp-content/uploads/2022/03/800x600_108409-oll_concert_ukraine_25mars22.jpg
END:VEVENT
END:VCALENDAR