BEGIN:VCALENDAR
VERSION:2.0
PRODID:-//Le Petit Varois.Fr - ECPv6.0.10//NONSGML v1.0//EN
CALSCALE:GREGORIAN
METHOD:PUBLISH
X-WR-CALNAME:Le Petit Varois.Fr
X-ORIGINAL-URL:https://lepetitvarois.fr
X-WR-CALDESC:évènements pour Le Petit Varois.Fr
REFRESH-INTERVAL;VALUE=DURATION:PT1H
X-Robots-Tag:noindex
X-PUBLISHED-TTL:PT1H
BEGIN:VTIMEZONE
TZID:Europe/Paris
BEGIN:DAYLIGHT
TZOFFSETFROM:+0100
TZOFFSETTO:+0200
TZNAME:CEST
DTSTART:20220327T010000
END:DAYLIGHT
BEGIN:STANDARD
TZOFFSETFROM:+0200
TZOFFSETTO:+0100
TZNAME:CET
DTSTART:20221030T010000
END:STANDARD
END:VTIMEZONE
BEGIN:VEVENT
DTSTART;TZID=Europe/Paris:20221022T140000
DTEND;TZID=Europe/Paris:20221022T170000
DTSTAMP:20260422T075305
CREATED:20221017T204405Z
LAST-MODIFIED:20221017T204405Z
UID:25852-1666447200-1666458000@lepetitvarois.fr
SUMMARY:Atelier d'art floral
DESCRIPTION:La ville d’Ollioules et l’association les Amis des Musées d’Ollioules renouvellent l’atelier d’art floral dans le magnifique site du Musée de la Fleur d’Ollioules.\nVous aurez le plaisir de repartir avec votre création.\n\n\nSamedi 22 octobre 2022 à 14h.\n\nParticipation aux frais 15 euros\, vase et fleurs fournis.\nPlaces limitées\, inscription obligatoire au 06 23 82 16 06.
URL:https://lepetitvarois.fr/event/atelier-dart-floral/
CATEGORIES:Ollioules
ATTACH;FMTTYPE=image/jpeg:https://lepetitvarois.fr/wp-content/uploads/2022/10/800x600_128414-311243762_479655007538672_7384922128672178836_n.jpg
END:VEVENT
END:VCALENDAR