BEGIN:VCALENDAR
VERSION:2.0
PRODID:-//Le Petit Varois.Fr - ECPv6.0.10//NONSGML v1.0//EN
CALSCALE:GREGORIAN
METHOD:PUBLISH
X-WR-CALNAME:Le Petit Varois.Fr
X-ORIGINAL-URL:https://lepetitvarois.fr
X-WR-CALDESC:évènements pour Le Petit Varois.Fr
REFRESH-INTERVAL;VALUE=DURATION:PT1H
X-Robots-Tag:noindex
X-PUBLISHED-TTL:PT1H
BEGIN:VTIMEZONE
TZID:Europe/Paris
BEGIN:DAYLIGHT
TZOFFSETFROM:+0100
TZOFFSETTO:+0200
TZNAME:CEST
DTSTART:20230326T010000
END:DAYLIGHT
BEGIN:STANDARD
TZOFFSETFROM:+0200
TZOFFSETTO:+0100
TZNAME:CET
DTSTART:20231029T010000
END:STANDARD
END:VTIMEZONE
BEGIN:VEVENT
DTSTART;VALUE=DATE:20230407
DTEND;VALUE=DATE:20230423
DTSTAMP:20260421T222710
CREATED:20230410T151357Z
LAST-MODIFIED:20230410T151357Z
UID:27494-1680825600-1682207999@lepetitvarois.fr
SUMMARY:Exposition : "Si Versailles était conté"
DESCRIPTION:Lieu : Vieux Moulin d’Ollioules \n\nExposition de crochet d’art\, tricot\, couture des professeurs et des élèves de l’association Ollioules d’Abord.\n\n\nDu 07/04 au 22/04/2023\, tous les jours de 14h30 à 18h.
URL:https://lepetitvarois.fr/event/exposition-si-versailles-etait-conte/
CATEGORIES:Ollioules
ATTACH;FMTTYPE=image/jpeg:https://lepetitvarois.fr/wp-content/uploads/2023/04/800x600_134943-oll_070423au220423_expo_versailles2023.jpg
END:VEVENT
BEGIN:VEVENT
DTSTART;TZID=Europe/Paris:20230413T080000
DTEND;TZID=Europe/Paris:20230413T130000
DTSTAMP:20260421T222710
CREATED:20230410T152833Z
LAST-MODIFIED:20230410T152833Z
UID:27509-1681372800-1681390800@lepetitvarois.fr
SUMMARY:Don du sang
DESCRIPTION:Partagez votre pouvoir\, donnez votre sang !\nSi vous veniez accompagné(e) pour votre prochain don de sang? Nos réserves de sang sont très fragiles c’est pourquoi nous comptons sur vous pour mobiliser votre entourage !\n\n\nJeudi 13 avril 2023 de 8h à 13h.\nLieu : Technopole de la mer
URL:https://lepetitvarois.fr/event/don-du-sang-3/
CATEGORIES:Ollioules
ATTACH;FMTTYPE=image/jpeg:https://lepetitvarois.fr/wp-content/uploads/2023/04/800x600_135105-oll_130423_don_sang_technopole_de_la_mer.jpg
END:VEVENT
BEGIN:VEVENT
DTSTART;TZID=Europe/Paris:20230413T140000
DTEND;TZID=Europe/Paris:20230413T180000
DTSTAMP:20260421T222710
CREATED:20230410T195713Z
LAST-MODIFIED:20230410T195713Z
UID:27530-1681394400-1681408800@lepetitvarois.fr
SUMMARY:Championnat du var vétérans d'échecs
DESCRIPTION:Lieu : Espace Pierre Puget \n\nCe championnat réservé aux joueurs d’échecs de plus de 45 ans\, venant de n’importe quel club varois. Le public est invité à découvrir le tournoi.\n\n\nJeudi 13 avril 2023 de 14h à 18h.
URL:https://lepetitvarois.fr/event/championnat-du-var-veterans-dechecs-5/
CATEGORIES:Ollioules
ATTACH;FMTTYPE=image/jpeg:https://lepetitvarois.fr/wp-content/uploads/2023/04/800x600_135292-echecs-2.jpg
END:VEVENT
END:VCALENDAR