BEGIN:VCALENDAR
VERSION:2.0
PRODID:-//Le Petit Varois.Fr - ECPv6.0.10//NONSGML v1.0//EN
CALSCALE:GREGORIAN
METHOD:PUBLISH
X-WR-CALNAME:Le Petit Varois.Fr
X-ORIGINAL-URL:https://lepetitvarois.fr
X-WR-CALDESC:évènements pour Le Petit Varois.Fr
REFRESH-INTERVAL;VALUE=DURATION:PT1H
X-Robots-Tag:noindex
X-PUBLISHED-TTL:PT1H
BEGIN:VTIMEZONE
TZID:Europe/Paris
BEGIN:DAYLIGHT
TZOFFSETFROM:+0100
TZOFFSETTO:+0200
TZNAME:CEST
DTSTART:20180325T010000
END:DAYLIGHT
BEGIN:STANDARD
TZOFFSETFROM:+0200
TZOFFSETTO:+0100
TZNAME:CET
DTSTART:20181028T010000
END:STANDARD
END:VTIMEZONE
BEGIN:VEVENT
DTSTART;TZID=Europe/Paris:20180707T200000
DTEND;TZID=Europe/Paris:20180707T233000
DTSTAMP:20260425T213914
CREATED:20180628T214546Z
LAST-MODIFIED:20180628T214546Z
UID:5812-1530993600-1531006200@lepetitvarois.fr
SUMMARY:Grande sardinade et soirée dansante avec l'orchestre Arc en Ciel Music
DESCRIPTION:Grande sardinade et soirée dansante avec l’orchestre Arc en Ciel Music à 20h.\nEspace Orlandi\, RN 8. OLLIOULES\n> 20 €. Billetterie en vente à l’accueil de l’office de tourisme d’Ollioules.\nOT Ollioules 04 94 63 11 74
URL:https://lepetitvarois.fr/event/grande-sardinade-et-soiree-dansante-avec-lorchestre-arc-en-ciel-music/
CATEGORIES:Ollioules
ATTACH;FMTTYPE=image/jpeg:https://lepetitvarois.fr/wp-content/uploads/2018/06/fish-1149465_960_720.jpg
END:VEVENT
END:VCALENDAR