BEGIN:VCALENDAR
VERSION:2.0
PRODID:-//Le Petit Varois.Fr - ECPv6.0.10//NONSGML v1.0//EN
CALSCALE:GREGORIAN
METHOD:PUBLISH
X-WR-CALNAME:Le Petit Varois.Fr
X-ORIGINAL-URL:https://lepetitvarois.fr
X-WR-CALDESC:évènements pour Le Petit Varois.Fr
REFRESH-INTERVAL;VALUE=DURATION:PT1H
X-Robots-Tag:noindex
X-PUBLISHED-TTL:PT1H
BEGIN:VTIMEZONE
TZID:Europe/Paris
BEGIN:DAYLIGHT
TZOFFSETFROM:+0100
TZOFFSETTO:+0200
TZNAME:CEST
DTSTART:20180325T010000
END:DAYLIGHT
BEGIN:STANDARD
TZOFFSETFROM:+0200
TZOFFSETTO:+0100
TZNAME:CET
DTSTART:20181028T010000
END:STANDARD
END:VTIMEZONE
BEGIN:VEVENT
DTSTART;TZID=Europe/Paris:20180710T093000
DTEND;TZID=Europe/Paris:20180710T120000
DTSTAMP:20260425T213920
CREATED:20180629T140750Z
LAST-MODIFIED:20180629T140750Z
UID:5842-1531215000-1531224000@lepetitvarois.fr
SUMMARY:Visite guidée : A la découverte du cœur historique d'Ollioules
DESCRIPTION:Visite guidée : A la découverte du cœur historique d’Ollioules à 9h30.\nRDV devant l’office de tourisme d’Ollioules à 9h15\, 116 av. Philippe de Hautecloque. OLLIOULES. \nDurée de la visite : 2h. \nNotre guide vous propose une découverte d’Ollioules en 2 parties : La visite de la cité de l’olivier vous emmènera à la rencontre d’un patrimoine riche et préservé ; église romane Saint Laurent\, ruelles et façades médiévales comportant porches et arcades… Dans le quartier Renaissance\, les célèbres gypseries provençales vous livreront tous leurs secrets. \nVous vous rendrez ensuite dans la fabrique artisanale de nougat Jonquier ! Vous apprendrez tout sur cette délicieuse confiserie\, son histoire avec visite de l’atelier\, une démonstration de la réalisation de nougat et une dégustation des différents types de nougats (blanc\, noir\, dur et tendre).\n> 8 € adulte / 2 € pour les enfants de 6 à 12 ans / Gratuit pour les -6 ans. Inscription obligatoire à l’avance dans nos accueils.\nRenseignement OT Ollioules 04 94 63 11 74
URL:https://lepetitvarois.fr/event/visite-guidee-a-la-decouverte-du-coeur-historique-dollioules-2/
CATEGORIES:Ollioules
ATTACH;FMTTYPE=image/jpeg:https://lepetitvarois.fr/wp-content/uploads/2018/04/france-849459_960_720.jpg
END:VEVENT
END:VCALENDAR