BEGIN:VCALENDAR
VERSION:2.0
PRODID:-//Le Petit Varois.Fr - ECPv6.0.10//NONSGML v1.0//EN
CALSCALE:GREGORIAN
METHOD:PUBLISH
X-WR-CALNAME:Le Petit Varois.Fr
X-ORIGINAL-URL:https://lepetitvarois.fr
X-WR-CALDESC:évènements pour Le Petit Varois.Fr
REFRESH-INTERVAL;VALUE=DURATION:PT1H
X-Robots-Tag:noindex
X-PUBLISHED-TTL:PT1H
BEGIN:VTIMEZONE
TZID:Europe/Paris
BEGIN:DAYLIGHT
TZOFFSETFROM:+0100
TZOFFSETTO:+0200
TZNAME:CEST
DTSTART:20180325T010000
END:DAYLIGHT
BEGIN:STANDARD
TZOFFSETFROM:+0200
TZOFFSETTO:+0100
TZNAME:CET
DTSTART:20181028T010000
END:STANDARD
END:VTIMEZONE
BEGIN:VEVENT
DTSTART;TZID=Europe/Paris:20180713T090000
DTEND;TZID=Europe/Paris:20180713T180000
DTSTAMP:20260425T214104
CREATED:20180629T143935Z
LAST-MODIFIED:20180629T143935Z
UID:5861-1531472400-1531504800@lepetitvarois.fr
SUMMARY:Puces et brocante
DESCRIPTION:Puces et brocante de 9h à 18h.\nPlace Jean Jaurès. OLLIOULES\n> 18 € l’emplacement. Billetterie en vente à l’accueil de l’office de tourisme d’Ollioules.\nOT Ollioules 04 94 63 11 74
URL:https://lepetitvarois.fr/event/puces-et-brocante/
CATEGORIES:Ollioules
ATTACH;FMTTYPE=image/jpeg:https://lepetitvarois.fr/wp-content/uploads/2018/06/flea-market-1883693_960_720.jpg
END:VEVENT
BEGIN:VEVENT
DTSTART;TZID=Europe/Paris:20180713T213000
DTEND;TZID=Europe/Paris:20180713T233000
DTSTAMP:20260425T214104
CREATED:20180629T150950Z
LAST-MODIFIED:20180629T150950Z
UID:5884-1531517400-1531524600@lepetitvarois.fr
SUMMARY:Conférence "L'incroyable histoire des grands télescopes terrestres et spatiaux"
DESCRIPTION:Conférence « L’incroyable histoire des grands télescopes terrestres et spatiaux » par Sébastien Vives\, ingénieur de recherche CNRS\, CEA\, LAM et observation du ciel nocturne aux télescopes à 21h30.\nObservatoire astronomique du Gros Cerveau\, 3000 route du Gros Cerveau. OLLIOULES\n> Gratuit.\nClub d’astronomie Véga 04 94 09 07 38
URL:https://lepetitvarois.fr/event/conference-lincroyable-histoire-des-grands-telescopes-terrestres-et-spatiaux/
CATEGORIES:Ollioules
ATTACH;FMTTYPE=image/jpeg:https://lepetitvarois.fr/wp-content/uploads/2018/06/adult-1868049_960_720.jpg
END:VEVENT
BEGIN:VEVENT
DTSTART;TZID=Europe/Paris:20180713T213000
DTEND;TZID=Europe/Paris:20180713T233000
DTSTAMP:20260425T214104
CREATED:20180629T151153Z
LAST-MODIFIED:20180629T151153Z
UID:5888-1531517400-1531524600@lepetitvarois.fr
SUMMARY:Séances de planétarium : "Polaris"
DESCRIPTION:Séances de planétarium : « Polaris » pour les enfants de 21h45 à 22h45.\nObservatoire astronomique du Gros Cerveau\, 3000 route du Gros Cerveau. OLLIOULES \nSous la voûte étoilée du planétarium\, venez découvrir les mystères de notre Univers et vous émerveiller devant sa beauté. \n> 4 €. Réservation obligatoire.\nClub d’astronomie Véga 04 94 09 07 38
URL:https://lepetitvarois.fr/event/seances-de-planetarium-polaris/
CATEGORIES:Ollioules
ATTACH;FMTTYPE=image/jpeg:https://lepetitvarois.fr/wp-content/uploads/2018/04/astronomy-3066061_960_720.jpg
END:VEVENT
END:VCALENDAR