BEGIN:VCALENDAR
VERSION:2.0
PRODID:-//Le Petit Varois.Fr - ECPv6.0.10//NONSGML v1.0//EN
CALSCALE:GREGORIAN
METHOD:PUBLISH
X-ORIGINAL-URL:https://lepetitvarois.fr
X-WR-CALDESC:évènements pour Le Petit Varois.Fr
REFRESH-INTERVAL;VALUE=DURATION:PT1H
X-Robots-Tag:noindex
X-PUBLISHED-TTL:PT1H
BEGIN:VTIMEZONE
TZID:Europe/Paris
BEGIN:DAYLIGHT
TZOFFSETFROM:+0100
TZOFFSETTO:+0200
TZNAME:CEST
DTSTART:20180325T010000
END:DAYLIGHT
BEGIN:STANDARD
TZOFFSETFROM:+0200
TZOFFSETTO:+0100
TZNAME:CET
DTSTART:20181028T010000
END:STANDARD
END:VTIMEZONE
BEGIN:VEVENT
DTSTART;TZID=Europe/Paris:20180727T213000
DTEND;TZID=Europe/Paris:20180727T233000
DTSTAMP:20260425T214404
CREATED:20180629T214117Z
LAST-MODIFIED:20180629T214117Z
UID:5981-1532727000-1532734200@lepetitvarois.fr
SUMMARY:Soirée spéciale éclipse totale de lune
DESCRIPTION:Soirée spéciale éclipse totale de lune à 21h30.\nObservatoire astronomique du Gros Cerveau\, 3000 route du Gros Cerveau. OLLIOULES\nProjection de la lune sur grand écran. \n> Gratuit.\nClub d’astronomie Véga 04 94 09 07 38
URL:https://lepetitvarois.fr/event/soiree-speciale-eclipse-totale-de-lune/
CATEGORIES:Ollioules
ATTACH;FMTTYPE=image/jpeg:https://lepetitvarois.fr/wp-content/uploads/2018/06/star-gazing-1149228_960_720.jpg
END:VEVENT
END:VCALENDAR