BEGIN:VCALENDAR
VERSION:2.0
PRODID:-//Le Petit Varois.Fr - ECPv6.0.10//NONSGML v1.0//EN
CALSCALE:GREGORIAN
METHOD:PUBLISH
X-ORIGINAL-URL:https://lepetitvarois.fr
X-WR-CALDESC:évènements pour Le Petit Varois.Fr
REFRESH-INTERVAL;VALUE=DURATION:PT1H
X-Robots-Tag:noindex
X-PUBLISHED-TTL:PT1H
BEGIN:VTIMEZONE
TZID:Europe/Paris
BEGIN:DAYLIGHT
TZOFFSETFROM:+0100
TZOFFSETTO:+0200
TZNAME:CEST
DTSTART:20180325T010000
END:DAYLIGHT
BEGIN:STANDARD
TZOFFSETFROM:+0200
TZOFFSETTO:+0100
TZNAME:CET
DTSTART:20181028T010000
END:STANDARD
END:VTIMEZONE
BEGIN:VEVENT
DTSTART;VALUE=DATE:20180818
DTEND;VALUE=DATE:20180820
DTSTAMP:20260425T195511
CREATED:20180810T194718Z
LAST-MODIFIED:20180810T194718Z
UID:6735-1534550400-1534723199@lepetitvarois.fr
SUMMARY:31e fête de la Saint Eloi sur le thème "les métiers d'Art"
DESCRIPTION:31e fête de la Saint Eloi sur le thème « les métiers d’Art »\nCentre-ville. OLLIOULES\nSamedi 18 : \n18h\, place Jean Jaurès : Parcours folklorique d’ânes.\nDimanche 19 : \n9h\, espace Jean Callenes : Pressage du Vin nouveau au quartier de Faveyrolles.\n11h\, place Victor Clément : Messe de la Saint Eloi en plein air. Présence de groupes folkloriques ainsi que des fifres et tambours de Signes. Vente de pain béni.  \n17h30 : Grande cavalcade de la Saint Eloi.  \nAnimations avec groupes provençaux. Défilé des attelages\, grande cavalcade avec plus de 50 cheveaux de traits\, comtois\, percherons\, bretons mais aussi ânes et mulets. Cavalcade animée par Jacques Thimoleon. \nComité de la Saint Eloi 04 94 63 26 81
URL:https://lepetitvarois.fr/event/31e-fete-de-la-saint-eloi-sur-le-theme-les-metiers-dart/
CATEGORIES:Ollioules
ATTACH;FMTTYPE=image/png:https://lepetitvarois.fr/wp-content/uploads/2018/07/Capture-d’écran-2018-07-29-à-19.10.50.png
END:VEVENT
END:VCALENDAR