BEGIN:VCALENDAR
VERSION:2.0
PRODID:-//Le Petit Varois.Fr - ECPv6.0.10//NONSGML v1.0//EN
CALSCALE:GREGORIAN
METHOD:PUBLISH
X-ORIGINAL-URL:https://lepetitvarois.fr
X-WR-CALDESC:évènements pour Le Petit Varois.Fr
REFRESH-INTERVAL;VALUE=DURATION:PT1H
X-Robots-Tag:noindex
X-PUBLISHED-TTL:PT1H
BEGIN:VTIMEZONE
TZID:Europe/Paris
BEGIN:DAYLIGHT
TZOFFSETFROM:+0100
TZOFFSETTO:+0200
TZNAME:CEST
DTSTART:20180325T010000
END:DAYLIGHT
BEGIN:STANDARD
TZOFFSETFROM:+0200
TZOFFSETTO:+0100
TZNAME:CET
DTSTART:20181028T010000
END:STANDARD
END:VTIMEZONE
BEGIN:VEVENT
DTSTART;VALUE=DATE:20180901
DTEND;VALUE=DATE:20180903
DTSTAMP:20260425T182855
CREATED:20180831T202511Z
LAST-MODIFIED:20180905T124927Z
UID:6981-1535760000-1535932799@lepetitvarois.fr
SUMMARY:Fête de Faveyrolles
DESCRIPTION:Fête de Faveyrolles\nEspace Jean Callenes\, route de Faveyrolles. OLLIOULES\nSamedi 1er septembre :  \n15h30 : spectacle de magie avec Antoine Caruso. \n16h30 : concert de Clara Schmitt (Chant et danses). \n19h : apéritif traditionnel offert par le Comité des Fêtes de Faveyrolles. \nDimanche 2 septembre :  \n9h : messe provençale avec les Tambourinaïres de Magali et la chorale Lei Cigaloun Segnen. \n10h :danses folkloriques avec Leï Flour. \n10h15 : concours de boules à la mêlée 3 en 3. \n10h30 : dépôt de gerbes à la place Louis et Joseph Canolle\, chemin Pierre Vezzoso et l’Espace Jean Callènes\, puis aux monuments aux morts d’Ollioules. \n12h30 : aïoli provençal (apporter couverts\, assiettes et verres). \n> 23 €. Inscription à l’Office de Tourisme d’Ollioules (Attention\, nombre de places limitées). \n14h30 : reprise concours de boules et consolante. \n15h30 : grand loto. \n18h : grand bal champêtre gratuit avec l’orchestre Michel Sylvestre. \nComité des fêtes de Faveyrolles 04 94 63 23 59 / 06 89 15 71 70 \n■ Challenge mixte de jeu provençal « Bar le Rivage » (2 hommes 1 femme) dès 14h le samedi\, toute la journée le dimanche.\nTerrain de boules du Brusc\, jardin Georges Martin. SIX FOURS\n> 15 € par équipe. Inscription obligatoire.\nBoule Joyeuse des Îles 04 94 34 00 10
URL:https://lepetitvarois.fr/event/fete-de-faveyrolles/
CATEGORIES:Ollioules
ATTACH;FMTTYPE=image/png:https://lepetitvarois.fr/wp-content/uploads/2018/07/Capture-d’écran-2018-07-29-à-19.10.50.png
END:VEVENT
END:VCALENDAR