BEGIN:VCALENDAR
VERSION:2.0
PRODID:-//Le Petit Varois.Fr - ECPv6.0.10//NONSGML v1.0//EN
CALSCALE:GREGORIAN
METHOD:PUBLISH
X-ORIGINAL-URL:https://lepetitvarois.fr
X-WR-CALDESC:évènements pour Le Petit Varois.Fr
REFRESH-INTERVAL;VALUE=DURATION:PT1H
X-Robots-Tag:noindex
X-PUBLISHED-TTL:PT1H
BEGIN:VTIMEZONE
TZID:Europe/Paris
BEGIN:DAYLIGHT
TZOFFSETFROM:+0100
TZOFFSETTO:+0200
TZNAME:CEST
DTSTART:20180325T010000
END:DAYLIGHT
BEGIN:STANDARD
TZOFFSETFROM:+0200
TZOFFSETTO:+0100
TZNAME:CET
DTSTART:20181028T010000
END:STANDARD
END:VTIMEZONE
BEGIN:VEVENT
DTSTART;TZID=Europe/Paris:20180912T140000
DTEND;TZID=Europe/Paris:20180912T170000
DTSTAMP:20260425T182952
CREATED:20180901T182630Z
LAST-MODIFIED:20180901T182630Z
UID:7027-1536760800-1536771600@lepetitvarois.fr
SUMMARY:Séances de planétarium
DESCRIPTION:Observatoire astronomique du Gros Cerveau\, 3000 route du Gros Cerveau. OLLIOULES\nSous la voûte étoilée du planétarium\, venez découvrir les mystères de notre Univers et vous émerveiller devant sa beauté. \nA 14h et à 17h : « Polaris » à partir de 5 ans. \nJames\, un manchot voyageur du pôle Sud\, et Vladimir\, un ours rigolo du pôle Nord\, se rencontrent sur la banquise arctique. Apprentis astronomes\, ils se demandent pourquoi la nuit est si longue aux deux pôles de la Terre. Une aventure scientifique extraordinaire va les mener de la construction d’un observatoire à celle d’un vaisseau spatial de fortune. Au cours d’un voyage autour de la Terre puis vers Mars et Saturne\, ils répondront à leur interrogation et découvriront que les planètes ont des points communs mais aussi des différences ! \nBalade céleste à travers les constellations représentant des animaux \n \nA 15h30 : « Mondes lointains\, vie extraterrestre ? » dès 10 ans. \nLes dernières missions d’exploration spatiale nous ont permis d’acquérir la certitude que la planète Mars a bénéficié dans un passé lointain de conditions propices à l’apparition de la vie et que certains satellites du système solaire\, tel Encelade autour de Saturne\, possèdent un océan sous-terrain qui pourrait abriter des formes de vie élémentaires. \nParallèlement\, et à des distances bien plus lointaines\, nous découvrons toujours plus de planètes orbitant autour d’autres étoiles que le Soleil\, et dont un certain nombre présentent des similitudes avec notre Terre et pourraient également sous certaines conditions offrir des conditions propices à la vie\, voire abriter une vie extraterrestre. \nCe spectacle fera l’inventaire de ce que l’on sait aujourd’hui de ces recherches\, mais laissera également place au rêve pour essayer d’imaginer à quoi pourraient ressembler d’éventuels êtres vivants peuplant ces mondes lointains… \nA 18h30 : « De la Terre à l’Univers » à partir de 10 ans.\nProduit par l’Observatoire Européen Austral\, ce spectacle vous propose un fascinant voyage à travers le temps et à travers l’espace. Voyage à travers le temps afin de découvrir comment a évolué au fil des siècles la perception par l’homme de notre Univers et de la place que nous y occupons. Mais également voyage à travers l’espace depuis les astres familiers peuplant notre système solaire jusqu’aux confins de l’Univers avec les amas de galaxies qui en sont les plus grandes structures. \n> 4 € par personne. Inscription obligatoire.\nClub d’astronomie Véga 04 94 09 07 38 / 06 82 07 00 70 www.oagc.fr
URL:https://lepetitvarois.fr/event/seances-de-planetarium-7/
CATEGORIES:Ollioules
ATTACH;FMTTYPE=image/jpeg:https://lepetitvarois.fr/wp-content/uploads/2018/08/sky-828648_960_720.jpg
END:VEVENT
BEGIN:VEVENT
DTSTART;TZID=Europe/Paris:20180912T180000
DTEND;TZID=Europe/Paris:20180912T220000
DTSTAMP:20260425T182952
CREATED:20180901T182814Z
LAST-MODIFIED:20180901T182814Z
UID:7029-1536775200-1536789600@lepetitvarois.fr
SUMMARY:Spectacle chorégraphique "Dancing on Constellations"
DESCRIPTION:Spectacle chorégraphique « Dancing on Constellations » de 18h à 22h.\nOLLIOULES \nSpectacle chorégraphique dans les rues du centre ancien. \nL’élégant centre ancien de la ville d’Ollioules accueille le festival Constellations pour une ballade chorégraphique et musicale qui joue la complicité avec l’esprit des lieux. Accords et dialogues pour ouvrir des chemins entre arts / espaces / publics en favorisant des passages vers des cultures joyeuses\, inventives et vitales. Danses\, musiques et arts visuels qui offrent des expériences esthétiques et des plages de confiance sans perdre de vue le flux du présent. La ballade commencera à toute vitesse puisqu’elle flashe sur le double champion du monde de Moto Raymond Roche et zoom sur l ‘incroyable trajectoire de ce pilote de légende qui va pour la première fois se retrouver de l’autre côté de la rampe accompagné d’une danseuse. Musiques\, danses et courses de motos pour des  pointes de vitesse annoncées à 340 km /h pour nous faire ressentir ce qu’il se passe dans le corps et l’esprit quand on file à de telles vitesses ? Raymond Roche remonte le fil de sa mémoire et nous dévoile les clés du moteur qui l’ont poussé sur les circuits à braver les dangers et la peur de la chute. Changement d’allure avec un karaoké qui remonte le fil du temps et nous invite à pousser la chanson avec Pétula Clark\, Françoise Hardy pour des plaisirs jamais démentis. Ce parcours aux multiples rebondissements vous réservera d’autres surprises; il se rapprochera des ateliers des métiers d’arts pour inventer de stimulants échanges et se poursuivra par une discothèque tropicale à ciel ouvert qui nous fera voyager dans les « Barrios latinos » emportés par les rythmiques et les mélodies totalement envoûtantes et addictives de la Cumbia. Personne n’y résistera\, nous apprendrons ensemble quelques pas de cumbia pour partager ce bal latino dans la plus grande joie: avis de Tornada Tropical  le 12 septembre sur la place Victor Clément métamorphosée pour une exotique fiesta enfiévrée et joyeuse. \n18h – place Marius Trotobas : « Premier podium ».  \n18h45 – place Jean Jaurés\, petit amphithéâtre : « Danse\, Danse\, Danse ».   \n19h – rue Gambetta et rue Berthelot: « Astrotrailer Karaoké\, la nuit n’en finit plus ». \n19h –  place Victor Clément ou rue Gambetta ( à préciser ) : « Le Dinosaure était là ». \n20h30-22h – place Victor Clément : « Tornada tropical » – Un bal cumbia\nMairie d’Ollioules 04 94 30 41 41 / 04  94 30 41 02 www.ollioules.fr
URL:https://lepetitvarois.fr/event/spectacle-choregraphique-dancing-on-constellations/
CATEGORIES:Ollioules
ATTACH;FMTTYPE=image/jpeg:https://lepetitvarois.fr/wp-content/uploads/2018/08/milky-way-1023340_960_720.jpg
END:VEVENT
END:VCALENDAR