BEGIN:VCALENDAR
VERSION:2.0
PRODID:-//Le Petit Varois.Fr - ECPv6.0.10//NONSGML v1.0//EN
CALSCALE:GREGORIAN
METHOD:PUBLISH
X-WR-CALNAME:Le Petit Varois.Fr
X-ORIGINAL-URL:https://lepetitvarois.fr
X-WR-CALDESC:évènements pour Le Petit Varois.Fr
REFRESH-INTERVAL;VALUE=DURATION:PT1H
X-Robots-Tag:noindex
X-PUBLISHED-TTL:PT1H
BEGIN:VTIMEZONE
TZID:Europe/Paris
BEGIN:DAYLIGHT
TZOFFSETFROM:+0100
TZOFFSETTO:+0200
TZNAME:CEST
DTSTART:20180325T010000
END:DAYLIGHT
BEGIN:STANDARD
TZOFFSETFROM:+0200
TZOFFSETTO:+0100
TZNAME:CET
DTSTART:20181028T010000
END:STANDARD
END:VTIMEZONE
BEGIN:VEVENT
DTSTART;TZID=Europe/Paris:20180914T073000
DTEND;TZID=Europe/Paris:20180914T123000
DTSTAMP:20260425T182617
CREATED:20180901T183255Z
LAST-MODIFIED:20180901T183255Z
UID:7031-1536910200-1536928200@lepetitvarois.fr
SUMMARY:Don du sang
DESCRIPTION:Don du sang de 7h30 à 12h30.\nEspace Brémond\, rue Loutin. OLLIOULES\nEtablissement français du sang 04 98 08 08 56  
URL:https://lepetitvarois.fr/event/don-du-sang/
CATEGORIES:Ollioules
ATTACH;FMTTYPE=image/jpeg:https://lepetitvarois.fr/wp-content/uploads/2018/09/balloon-1046693_960_720.jpg
END:VEVENT
END:VCALENDAR