BEGIN:VCALENDAR
VERSION:2.0
PRODID:-//Le Petit Varois.Fr - ECPv6.0.10//NONSGML v1.0//EN
CALSCALE:GREGORIAN
METHOD:PUBLISH
X-WR-CALNAME:Le Petit Varois.Fr
X-ORIGINAL-URL:https://lepetitvarois.fr
X-WR-CALDESC:évènements pour Le Petit Varois.Fr
REFRESH-INTERVAL;VALUE=DURATION:PT1H
X-Robots-Tag:noindex
X-PUBLISHED-TTL:PT1H
BEGIN:VTIMEZONE
TZID:Europe/Paris
BEGIN:DAYLIGHT
TZOFFSETFROM:+0100
TZOFFSETTO:+0200
TZNAME:CEST
DTSTART:20180325T010000
END:DAYLIGHT
BEGIN:STANDARD
TZOFFSETFROM:+0200
TZOFFSETTO:+0100
TZNAME:CET
DTSTART:20181028T010000
END:STANDARD
END:VTIMEZONE
BEGIN:VEVENT
DTSTART;TZID=Europe/Paris:20180928T190000
DTEND;TZID=Europe/Paris:20180928T230000
DTSTAMP:20260425T182617
CREATED:20180901T193552Z
LAST-MODIFIED:20180901T193552Z
UID:7076-1538161200-1538175600@lepetitvarois.fr
SUMMARY:Conférence "Pourquoi la religion ? La psychothérapie de Dieu"
DESCRIPTION:Conférence « Pourquoi la religion ? La psychothérapie de Dieu » animée par Boris Cyrulnik à 19h.\nSalle des Fêtes\, 17 av. Anatole France. OLLIOULES\n> 10 € au profit de l’AFRECA. Pas de réservation.\nAssociation Présence Infirmière Ollioulaise 06 09 83 14 03
URL:https://lepetitvarois.fr/event/conference-pourquoi-la-religion-la-psychotherapie-de-dieu/
CATEGORIES:Ollioules
ATTACH;FMTTYPE=image/jpeg:https://lepetitvarois.fr/wp-content/uploads/2018/05/office-620822_960_720.jpg
END:VEVENT
END:VCALENDAR