BEGIN:VCALENDAR
VERSION:2.0
PRODID:-//Le Petit Varois.Fr - ECPv6.0.10//NONSGML v1.0//EN
CALSCALE:GREGORIAN
METHOD:PUBLISH
X-WR-CALNAME:Le Petit Varois.Fr
X-ORIGINAL-URL:https://lepetitvarois.fr
X-WR-CALDESC:évènements pour Le Petit Varois.Fr
REFRESH-INTERVAL;VALUE=DURATION:PT1H
X-Robots-Tag:noindex
X-PUBLISHED-TTL:PT1H
BEGIN:VTIMEZONE
TZID:Europe/Paris
BEGIN:DAYLIGHT
TZOFFSETFROM:+0100
TZOFFSETTO:+0200
TZNAME:CEST
DTSTART:20180325T010000
END:DAYLIGHT
BEGIN:STANDARD
TZOFFSETFROM:+0200
TZOFFSETTO:+0100
TZNAME:CET
DTSTART:20181028T010000
END:STANDARD
END:VTIMEZONE
BEGIN:VEVENT
DTSTART;TZID=Europe/Paris:20181009T090000
DTEND;TZID=Europe/Paris:20181009T130000
DTSTAMP:20260425T171839
CREATED:20181003T210011Z
LAST-MODIFIED:20181003T210011Z
UID:7495-1539075600-1539090000@lepetitvarois.fr
SUMMARY:Forum commerce
DESCRIPTION:Forum commerce de 9h à 13h.\nMaison d’Ollioules près du centre commercial Carrefour\, 55 ch. de la Bouyère. OLLIOULES\nPlus de 20 entreprises seront présentes et de nombreuses offres d’emploi proposées. Munissez-vous de vos CV ! \nBureau Municipal de l’Emploi 04 94 30 41 14
URL:https://lepetitvarois.fr/event/forum-commerce/
CATEGORIES:Ollioules
ATTACH;FMTTYPE=image/jpeg:https://lepetitvarois.fr/wp-content/uploads/2018/06/people-2561336_960_720.jpg
END:VEVENT
END:VCALENDAR