BEGIN:VCALENDAR
VERSION:2.0
PRODID:-//Le Petit Varois.Fr - ECPv6.0.10//NONSGML v1.0//EN
CALSCALE:GREGORIAN
METHOD:PUBLISH
X-WR-CALNAME:Le Petit Varois.Fr
X-ORIGINAL-URL:https://lepetitvarois.fr
X-WR-CALDESC:évènements pour Le Petit Varois.Fr
REFRESH-INTERVAL;VALUE=DURATION:PT1H
X-Robots-Tag:noindex
X-PUBLISHED-TTL:PT1H
BEGIN:VTIMEZONE
TZID:Europe/Paris
BEGIN:DAYLIGHT
TZOFFSETFROM:+0100
TZOFFSETTO:+0200
TZNAME:CEST
DTSTART:20180325T010000
END:DAYLIGHT
BEGIN:STANDARD
TZOFFSETFROM:+0200
TZOFFSETTO:+0100
TZNAME:CET
DTSTART:20181028T010000
END:STANDARD
END:VTIMEZONE
BEGIN:VEVENT
DTSTART;VALUE=DATE:20181012
DTEND;VALUE=DATE:20181014
DTSTAMP:20260425T171716
CREATED:20181003T211001Z
LAST-MODIFIED:20181003T211001Z
UID:7510-1539302400-1539475199@lepetitvarois.fr
SUMMARY:Fête de la science
DESCRIPTION:OLLIOULES\nVendredi 12\, salle Jean Moulin\, place Marius Trotobas à 18h30 : conférence « Exoplanètes : lumière sur d’autres mondes » animée par Mélissa Hobson et Théo Lopez\, doctorants au Laboratoire d’Astrophysique de Marseille.\nPrononcée dans le cadre de l’événement « Lumières sur l’astronomie » organisé à l’occasion de la Fête de la Science 2018\, cette conférence permettra d’illustrer le rôle joué par la lumière dans la détection des exoplanètes\, nous montrant ainsi comment la simple observation de la lumière reçue des étoiles nous permet de conclure à la présence d’autres mondes orbitant autour de ces étoiles pourtant distantes de nous de plusieurs dizaines ou centaines d’années-lumière.\nSamedi 13\, ancienne Criée aux Fleurs\, 50 rue Nationale de 9h-12h / 13h30-17h : ateliers « Lumières sur l’astronomie ». Un éclairage sur l’application de la démarche scientifique\, le rôle des femmes et l’utilisation de la lumière dans le domaine de l’astronomie avec les ateliers suivants : \nL’astronomie au féminin\, illustrations de la démarche scientifique sous le planétarium\, réfraction et réflexion  le chemin de la lumière\, comment faire parler la lumière des étoiles\, observation au télescope de la lumière de notre étoile le Soleil. \nSamedi 13\, ancienne Criée aux Fleurs et jardin du couvent des Observantins de 20h30 à 23h : à l’occasions du « Jour de la Nuit »\, autre événement national consacré aux méfaits de la lumière artificielle sur notre environnement nocturne. Illustration de la pollution lumineuse sous le planétarium et observation au télescope du ciel nocturne après extinction de l’éclairage urbain.\n> Gratuit.\nClub d’astronomie Véga 04 94 09 07 38 / 06 82 07 00 70 www.oagc.fr
URL:https://lepetitvarois.fr/event/fete-de-la-science/
CATEGORIES:Ollioules
ATTACH;FMTTYPE=image/jpeg:https://lepetitvarois.fr/wp-content/uploads/2018/08/milky-way-1023340_960_720.jpg
END:VEVENT
END:VCALENDAR