BEGIN:VCALENDAR
VERSION:2.0
PRODID:-//Le Petit Varois.Fr - ECPv6.0.10//NONSGML v1.0//EN
CALSCALE:GREGORIAN
METHOD:PUBLISH
X-ORIGINAL-URL:https://lepetitvarois.fr
X-WR-CALDESC:évènements pour Le Petit Varois.Fr
REFRESH-INTERVAL;VALUE=DURATION:PT1H
X-Robots-Tag:noindex
X-PUBLISHED-TTL:PT1H
BEGIN:VTIMEZONE
TZID:Europe/Paris
BEGIN:DAYLIGHT
TZOFFSETFROM:+0100
TZOFFSETTO:+0200
TZNAME:CEST
DTSTART:20180325T010000
END:DAYLIGHT
BEGIN:STANDARD
TZOFFSETFROM:+0200
TZOFFSETTO:+0100
TZNAME:CET
DTSTART:20181028T010000
END:STANDARD
END:VTIMEZONE
BEGIN:VEVENT
DTSTART;TZID=Europe/Paris:20181014T080000
DTEND;TZID=Europe/Paris:20181014T130000
DTSTAMP:20260425T170211
CREATED:20181003T211813Z
LAST-MODIFIED:20181003T211813Z
UID:7523-1539504000-1539522000@lepetitvarois.fr
SUMMARY:Puces enfantines
DESCRIPTION:Puces enfantines (Vente de jouets\, matériel de puériculture\, vêtements de 0 à 15 ans) de 8h à 13h.\nPlace Jean Jaurès. OLLIOULES\nManifestation reportée au dimanche 21 octobre (en cas d’intempéries). \n> 7 € l’emplacement (pièce d’identité obligatoire) à réserver au multi-accueil La Charmerie\, 36 rue République. \nAssociation des parents et amis de la Charmerie 04 94 63 28 09
URL:https://lepetitvarois.fr/event/puces-enfantines/
CATEGORIES:Ollioules
ATTACH;FMTTYPE=image/jpeg:https://lepetitvarois.fr/wp-content/uploads/2018/02/marbles-1659398_960_720.jpg
END:VEVENT
END:VCALENDAR