BEGIN:VCALENDAR
VERSION:2.0
PRODID:-//Le Petit Varois.Fr - ECPv6.0.10//NONSGML v1.0//EN
CALSCALE:GREGORIAN
METHOD:PUBLISH
X-WR-CALNAME:Le Petit Varois.Fr
X-ORIGINAL-URL:https://lepetitvarois.fr
X-WR-CALDESC:évènements pour Le Petit Varois.Fr
REFRESH-INTERVAL;VALUE=DURATION:PT1H
X-Robots-Tag:noindex
X-PUBLISHED-TTL:PT1H
BEGIN:VTIMEZONE
TZID:Europe/Paris
BEGIN:DAYLIGHT
TZOFFSETFROM:+0100
TZOFFSETTO:+0200
TZNAME:CEST
DTSTART:20180325T010000
END:DAYLIGHT
BEGIN:STANDARD
TZOFFSETFROM:+0200
TZOFFSETTO:+0100
TZNAME:CET
DTSTART:20181028T010000
END:STANDARD
END:VTIMEZONE
BEGIN:VEVENT
DTSTART;TZID=Europe/Paris:20181019T190000
DTEND;TZID=Europe/Paris:20181019T223000
DTSTAMP:20260425T170643
CREATED:20181004T083610Z
LAST-MODIFIED:20181004T083610Z
UID:7545-1539975600-1539988200@lepetitvarois.fr
SUMMARY:Conférence et méditation sur le thème "Méditation\, égo\, action"
DESCRIPTION:Conférence et méditation sur le thème « Méditation\, égo\, action » avec Yves Benhamou\, médecin à 19h.\nSalle Jean Moulin\, place Trotobas. OLLIOULES\n> 5 € reversés à Heartfulness. Réservation obligatoire à labulle.ollioules@gmail.com \nAssociation La Bulle 06 78 04 11 76
URL:https://lepetitvarois.fr/event/conference-et-meditation-sur-le-theme-meditation-ego-action/
CATEGORIES:Ollioules
ATTACH;FMTTYPE=image/jpeg:https://lepetitvarois.fr/wp-content/uploads/2018/06/adult-1868049_960_720.jpg
END:VEVENT
END:VCALENDAR