BEGIN:VCALENDAR
VERSION:2.0
PRODID:-//Le Petit Varois.Fr - ECPv6.0.10//NONSGML v1.0//EN
CALSCALE:GREGORIAN
METHOD:PUBLISH
X-ORIGINAL-URL:https://lepetitvarois.fr
X-WR-CALDESC:évènements pour Le Petit Varois.Fr
REFRESH-INTERVAL;VALUE=DURATION:PT1H
X-Robots-Tag:noindex
X-PUBLISHED-TTL:PT1H
BEGIN:VTIMEZONE
TZID:Europe/Paris
BEGIN:DAYLIGHT
TZOFFSETFROM:+0100
TZOFFSETTO:+0200
TZNAME:CEST
DTSTART:20180325T010000
END:DAYLIGHT
BEGIN:STANDARD
TZOFFSETFROM:+0200
TZOFFSETTO:+0100
TZNAME:CET
DTSTART:20181028T010000
END:STANDARD
END:VTIMEZONE
BEGIN:VEVENT
DTSTART;TZID=Europe/Paris:20181102T190000
DTEND;TZID=Europe/Paris:20181102T210000
DTSTAMP:20260425T153025
CREATED:20181028T090558Z
LAST-MODIFIED:20181028T090558Z
UID:7826-1541185200-1541192400@lepetitvarois.fr
SUMMARY:Conférence "Que manger pour se soigner et rajeunir ?"
DESCRIPTION:Conférence « Que manger pour se soigner et rajeunir ? » à 19h.\nSalle des Fêtes\, 17 av. Anatole France. OLLIOULES\nConférence animée par le Docteur Martine Cotinat\, gastro-entérologue\, diplômée de nutrition\, micro nutrition et phytothérapie et avec la participation du Docteur Georges Macia\, médecin généraliste. \n> Entrée libre.\nAssociation Présence Infirmière Ollioulaise 06 09 83 14 03
URL:https://lepetitvarois.fr/event/conference-que-manger-pour-se-soigner-et-rajeunir/
CATEGORIES:Ollioules
ATTACH;FMTTYPE=image/jpeg:https://lepetitvarois.fr/wp-content/uploads/2018/10/autumn-3691595_960_720.jpg
END:VEVENT
END:VCALENDAR