BEGIN:VCALENDAR
VERSION:2.0
PRODID:-//Le Petit Varois.Fr - ECPv6.0.10//NONSGML v1.0//EN
CALSCALE:GREGORIAN
METHOD:PUBLISH
X-ORIGINAL-URL:https://lepetitvarois.fr
X-WR-CALDESC:évènements pour Le Petit Varois.Fr
REFRESH-INTERVAL;VALUE=DURATION:PT1H
X-Robots-Tag:noindex
X-PUBLISHED-TTL:PT1H
BEGIN:VTIMEZONE
TZID:Europe/Paris
BEGIN:DAYLIGHT
TZOFFSETFROM:+0100
TZOFFSETTO:+0200
TZNAME:CEST
DTSTART:20180325T010000
END:DAYLIGHT
BEGIN:STANDARD
TZOFFSETFROM:+0200
TZOFFSETTO:+0100
TZNAME:CET
DTSTART:20181028T010000
END:STANDARD
END:VTIMEZONE
BEGIN:VEVENT
DTSTART;TZID=Europe/Paris:20181104T143000
DTEND;TZID=Europe/Paris:20181104T170000
DTSTAMP:20260425T153026
CREATED:20181028T092351Z
LAST-MODIFIED:20181028T092351Z
UID:7845-1541341800-1541350800@lepetitvarois.fr
SUMMARY:Grand loto du cœur
DESCRIPTION:Grand loto du cœur à 14h30.\nGymnase scolaire\, rue Marcel Pagnol. OLLIOULES\n> Réservation conseillée. \nAssociation Solidarité Ollioulaise 06 08 64 78 78
URL:https://lepetitvarois.fr/event/grand-loto-du-coeur/
CATEGORIES:Ollioules
ATTACH;FMTTYPE=image/jpeg:https://lepetitvarois.fr/wp-content/uploads/2018/02/russkoe-loto-2676332_960_720.jpg
END:VEVENT
END:VCALENDAR