BEGIN:VCALENDAR
VERSION:2.0
PRODID:-//Le Petit Varois.Fr - ECPv6.0.10//NONSGML v1.0//EN
CALSCALE:GREGORIAN
METHOD:PUBLISH
X-ORIGINAL-URL:https://lepetitvarois.fr
X-WR-CALDESC:évènements pour Le Petit Varois.Fr
REFRESH-INTERVAL;VALUE=DURATION:PT1H
X-Robots-Tag:noindex
X-PUBLISHED-TTL:PT1H
BEGIN:VTIMEZONE
TZID:Europe/Paris
BEGIN:DAYLIGHT
TZOFFSETFROM:+0100
TZOFFSETTO:+0200
TZNAME:CEST
DTSTART:20180325T010000
END:DAYLIGHT
BEGIN:STANDARD
TZOFFSETFROM:+0200
TZOFFSETTO:+0100
TZNAME:CET
DTSTART:20181028T010000
END:STANDARD
END:VTIMEZONE
BEGIN:VEVENT
DTSTART;VALUE=DATE:20181105
DTEND;VALUE=DATE:20181110
DTSTAMP:20260425T153205
CREATED:20181028T093834Z
LAST-MODIFIED:20181028T093834Z
UID:7855-1541376000-1541807999@lepetitvarois.fr
SUMMARY:Semaine de la sécurité
DESCRIPTION:Semaine de la sécurité\nEspace Pierre Puget. OLLIOULES\nProgramme disponible sur www.ollioules.fr\nMairie administrative 04 94 30 41 44
URL:https://lepetitvarois.fr/event/semaine-de-la-securite/
CATEGORIES:Ollioules
ATTACH;FMTTYPE=image/jpeg:https://lepetitvarois.fr/wp-content/uploads/2018/10/police-869216_960_720.jpg
END:VEVENT
BEGIN:VEVENT
DTSTART;TZID=Europe/Paris:20181105T173000
DTEND;TZID=Europe/Paris:20181105T190000
DTSTAMP:20260425T153205
CREATED:20181028T093554Z
LAST-MODIFIED:20181028T093554Z
UID:7853-1541439000-1541444400@lepetitvarois.fr
SUMMARY:Réunion d’information "Être parents à l’ère du numérique"
DESCRIPTION:Réunion d’information « Être parents à l’ère du numérique » à 17h30.\nEspace Pierre Puget\, place Marius Trotobas. OLLIOULES \n> Gratuit.\nRéservation conseillée 004 94 61 04 1 / 04 94 30 41 44
URL:https://lepetitvarois.fr/event/reunion-dinformation-etre-parents-a-lere-du-numerique/
CATEGORIES:Ollioules
ATTACH;FMTTYPE=image/jpeg:https://lepetitvarois.fr/wp-content/uploads/2018/05/office-620822_960_720.jpg
END:VEVENT
END:VCALENDAR