BEGIN:VCALENDAR
VERSION:2.0
PRODID:-//Le Petit Varois.Fr - ECPv6.0.10//NONSGML v1.0//EN
CALSCALE:GREGORIAN
METHOD:PUBLISH
X-ORIGINAL-URL:https://lepetitvarois.fr
X-WR-CALDESC:évènements pour Le Petit Varois.Fr
REFRESH-INTERVAL;VALUE=DURATION:PT1H
X-Robots-Tag:noindex
X-PUBLISHED-TTL:PT1H
BEGIN:VTIMEZONE
TZID:Europe/Paris
BEGIN:DAYLIGHT
TZOFFSETFROM:+0100
TZOFFSETTO:+0200
TZNAME:CEST
DTSTART:20190331T010000
END:DAYLIGHT
BEGIN:STANDARD
TZOFFSETFROM:+0200
TZOFFSETTO:+0100
TZNAME:CET
DTSTART:20191027T010000
END:STANDARD
END:VTIMEZONE
BEGIN:VEVENT
DTSTART;TZID=Europe/Paris:20190126T153000
DTEND;TZID=Europe/Paris:20190126T170000
DTSTAMP:20260425T121904
CREATED:20190108T155443Z
LAST-MODIFIED:20190108T155443Z
UID:9035-1548516600-1548522000@lepetitvarois.fr
SUMMARY:Fête de la soupe
DESCRIPTION:∎ Fête de la soupe à partir de 15h30. Centre-ville. OLLIOULES. Animations gratuites pour les enfants à partir de 15h30. Ouvertures des stands de soupes à 18h30. Hôtel de Ville 04 94 30 41 41 / 04 94 30 41 02 Programme sur www.ollioules.fr
URL:https://lepetitvarois.fr/event/fete-de-la-soupe/
CATEGORIES:Ollioules
ATTACH;FMTTYPE=image/jpeg:https://lepetitvarois.fr/wp-content/uploads/2019/01/pumpkin-soup-3705294_960_720.jpg
END:VEVENT
END:VCALENDAR