BEGIN:VCALENDAR
VERSION:2.0
PRODID:-//Le Petit Varois.Fr - ECPv6.0.10//NONSGML v1.0//EN
CALSCALE:GREGORIAN
METHOD:PUBLISH
X-WR-CALNAME:Le Petit Varois.Fr
X-ORIGINAL-URL:https://lepetitvarois.fr
X-WR-CALDESC:évènements pour Le Petit Varois.Fr
REFRESH-INTERVAL;VALUE=DURATION:PT1H
X-Robots-Tag:noindex
X-PUBLISHED-TTL:PT1H
BEGIN:VTIMEZONE
TZID:Europe/Paris
BEGIN:DAYLIGHT
TZOFFSETFROM:+0100
TZOFFSETTO:+0200
TZNAME:CEST
DTSTART:20190331T010000
END:DAYLIGHT
BEGIN:STANDARD
TZOFFSETFROM:+0200
TZOFFSETTO:+0100
TZNAME:CET
DTSTART:20191027T010000
END:STANDARD
END:VTIMEZONE
BEGIN:VEVENT
DTSTART;TZID=Europe/Paris:20190501T090000
DTEND;TZID=Europe/Paris:20190501T183000
DTSTAMP:20260425T055722
CREATED:20190429T193407Z
LAST-MODIFIED:20190429T193407Z
UID:10720-1556701200-1556735400@lepetitvarois.fr
SUMMARY:17e tournoi rapide d'échecs
DESCRIPTION:17e tournoi rapide d’échecs  de 9h à 18h30.\nSalle des Fêtes\, 17 av. Anatole France. OLLIOULES \nDébut du tournoi à 10h. Buvette et petite restauration rapide sur place.\n> Inscription obligatoire.\nClub d’échecs ollioulais 06 50 95 77 29   mory.eric@gmail.com
URL:https://lepetitvarois.fr/event/17e-tournoi-rapide-dechecs/
CATEGORIES:Ollioules
ATTACH;FMTTYPE=image/jpeg:https://lepetitvarois.fr/wp-content/uploads/2019/04/battle-1846807_960_720.jpg
END:VEVENT
BEGIN:VEVENT
DTSTART;TZID=Europe/Paris:20190501T140000
DTEND;TZID=Europe/Paris:20190501T193000
DTSTAMP:20260425T055722
CREATED:20190429T193922Z
LAST-MODIFIED:20190429T193922Z
UID:10729-1556719200-1556739000@lepetitvarois.fr
SUMMARY:Séances de planétarium
DESCRIPTION:Séances de planétarium  de 14h à 19h40.\nObservatoire astronomique du Gros Cerveau\, 3000 route du Gros Cerveau. OLLIOULES \nSous la voûte étoilée du planétarium\, venez découvrir les mystères de notre Univers et vous émerveiller devant sa beauté.\n> 5 €. \nProgramme et réservation 04 94 09 07 38 planetarium@oagc.fr – www.oagc.fr
URL:https://lepetitvarois.fr/event/seances-de-planetarium-23/
CATEGORIES:Ollioules
ATTACH;FMTTYPE=image/jpeg:https://lepetitvarois.fr/wp-content/uploads/2018/08/sky-828648_960_720.jpg
END:VEVENT
END:VCALENDAR