BEGIN:VCALENDAR
VERSION:2.0
PRODID:-//Le Petit Varois.Fr - ECPv6.0.10//NONSGML v1.0//EN
CALSCALE:GREGORIAN
METHOD:PUBLISH
X-ORIGINAL-URL:https://lepetitvarois.fr
X-WR-CALDESC:évènements pour Le Petit Varois.Fr
REFRESH-INTERVAL;VALUE=DURATION:PT1H
X-Robots-Tag:noindex
X-PUBLISHED-TTL:PT1H
BEGIN:VTIMEZONE
TZID:Europe/Paris
BEGIN:DAYLIGHT
TZOFFSETFROM:+0100
TZOFFSETTO:+0200
TZNAME:CEST
DTSTART:20190331T010000
END:DAYLIGHT
BEGIN:STANDARD
TZOFFSETFROM:+0200
TZOFFSETTO:+0100
TZNAME:CET
DTSTART:20191027T010000
END:STANDARD
END:VTIMEZONE
BEGIN:VEVENT
DTSTART;TZID=Europe/Paris:20190504T080000
DTEND;TZID=Europe/Paris:20190504T180000
DTSTAMP:20260425T055820
CREATED:20190429T194558Z
LAST-MODIFIED:20190429T194558Z
UID:10744-1556956800-1556992800@lepetitvarois.fr
SUMMARY:35è foire aux plantes
DESCRIPTION:35è foire aux plantes de 8h à 18h. \nPlace Jean Jaurès. OLLIOULES\nPrésence de nombreux producteurs locaux\, animations pour enfants\, tombola gratuite\, conseils pour les plantations et l’entretien des sols… Mise à disposition gratuite de composteurs avec le Sittomat. Vous pourrez stationner espace Orlandi et utiliser la navette bus gratuite vers le centre-ville. Un arrêt minute sera aussi à votre disposition au début de la rue République pour charger vos achats volumineux.\nHôtel de Ville 04 94 30 41 41 / 04 94 30 41 02 ollioulesmairie@gmail.com – www.ollioules.fr
URL:https://lepetitvarois.fr/event/35e-foire-aux-plantes/
CATEGORIES:Ollioules
ATTACH;FMTTYPE=image/jpeg:https://lepetitvarois.fr/wp-content/uploads/2019/03/wild-flowers-571940_960_720.jpg
END:VEVENT
END:VCALENDAR