BEGIN:VCALENDAR
VERSION:2.0
PRODID:-//Le Petit Varois.Fr - ECPv6.0.10//NONSGML v1.0//EN
CALSCALE:GREGORIAN
METHOD:PUBLISH
X-WR-CALNAME:Le Petit Varois.Fr
X-ORIGINAL-URL:https://lepetitvarois.fr
X-WR-CALDESC:évènements pour Le Petit Varois.Fr
REFRESH-INTERVAL;VALUE=DURATION:PT1H
X-Robots-Tag:noindex
X-PUBLISHED-TTL:PT1H
BEGIN:VTIMEZONE
TZID:Europe/Paris
BEGIN:DAYLIGHT
TZOFFSETFROM:+0100
TZOFFSETTO:+0200
TZNAME:CEST
DTSTART:20190331T010000
END:DAYLIGHT
BEGIN:STANDARD
TZOFFSETFROM:+0200
TZOFFSETTO:+0100
TZNAME:CET
DTSTART:20191027T010000
END:STANDARD
END:VTIMEZONE
BEGIN:VEVENT
DTSTART;VALUE=DATE:20190511
DTEND;VALUE=DATE:20190513
DTSTAMP:20260425T060419
CREATED:20190430T193009Z
LAST-MODIFIED:20190430T193009Z
UID:10805-1557532800-1557705599@lepetitvarois.fr
SUMMARY:2è Ollioules Games
DESCRIPTION:2è Ollioules Games de 9h à 19h.\nSalle de la Criée\, 50 rue Nationale et place Jean Jaurès. OLLIOULES\nConcours Cosplay\, salle rétro gaming\, atelier cartes Pokemon\, vidéo game story\, atelier make-up et de nombreuses autres activités autour du jeu (pêche aux canards\, château gonflable\, concours de selfies\, atelier prévention\, 2 échassiers\, cosplayers…). \nAssociation des commerçants d’Ollioules 07 71 77 08 62 / 04 94 30 41 28
URL:https://lepetitvarois.fr/event/2e-ollioules-games/
CATEGORIES:Ollioules
ATTACH;FMTTYPE=image/jpeg:https://lepetitvarois.fr/wp-content/uploads/2019/04/computer-1845880_960_720.jpg
END:VEVENT
BEGIN:VEVENT
DTSTART;TZID=Europe/Paris:20190512T090000
DTEND;TZID=Europe/Paris:20190512T130000
DTSTAMP:20260425T060419
CREATED:20190430T193253Z
LAST-MODIFIED:20190430T193253Z
UID:10812-1557651600-1557666000@lepetitvarois.fr
SUMMARY:Course pédestre : course pour la vie challenge Emile Hanna
DESCRIPTION:Course pédestre : course pour la vie challenge Emile Hanna au profit de l’association Handimômes de 9h à 13h. \nParking de Châteauvallon. OLLIOULES\n8h : accueil des concurrents.  \n9h30 : course pédestre à allure libre (2 parcours 7 km et 14 km) ouverte aux athlètes femmes et hommes\, licenciés ou non\, des catégories juniors\, séniors et vétérans. \n> 10 € (7 km) / 13 € (14 km). Inscription à Running Conseil\, av. J. Mermoz 04 94 41 13 10.  \nRotary club de Toulon 06 09 87 55 30  
URL:https://lepetitvarois.fr/event/course-pedestre-course-pour-la-vie-challenge-emile-hanna/
CATEGORIES:Ollioules
ATTACH;FMTTYPE=image/jpeg:https://lepetitvarois.fr/wp-content/uploads/2018/04/shoes-1638873_960_720.jpg
END:VEVENT
END:VCALENDAR