BEGIN:VCALENDAR
VERSION:2.0
PRODID:-//Le Petit Varois.Fr - ECPv6.0.10//NONSGML v1.0//EN
CALSCALE:GREGORIAN
METHOD:PUBLISH
X-ORIGINAL-URL:https://lepetitvarois.fr
X-WR-CALDESC:évènements pour Le Petit Varois.Fr
REFRESH-INTERVAL;VALUE=DURATION:PT1H
X-Robots-Tag:noindex
X-PUBLISHED-TTL:PT1H
BEGIN:VTIMEZONE
TZID:Europe/Paris
BEGIN:DAYLIGHT
TZOFFSETFROM:+0100
TZOFFSETTO:+0200
TZNAME:CEST
DTSTART:20190331T010000
END:DAYLIGHT
BEGIN:STANDARD
TZOFFSETFROM:+0200
TZOFFSETTO:+0100
TZNAME:CET
DTSTART:20191027T010000
END:STANDARD
END:VTIMEZONE
BEGIN:VEVENT
DTSTART;TZID=Europe/Paris:20190518T090000
DTEND;TZID=Europe/Paris:20190518T170000
DTSTAMP:20260425T060744
CREATED:20190430T195801Z
LAST-MODIFIED:20190430T195801Z
UID:10846-1558170000-1558198800@lepetitvarois.fr
SUMMARY:Raconte moi l’exploration spatiale
DESCRIPTION:Raconte moi l’exploration spatiale de 9h30-12h / 14h-17h. \nSalle de la Criée aux Fleurs\, 50 rue Nationale. OLLIOULES \nEvènement sur le thème de l’exploration spatiale et de l’astronomie mettant en cette année 2019 l’accent sur le 50è anniversaire du premier pas de l’homme sur la Lune\, et proposant notamment les activités suivantes : séances de planétarium numérique\, animations et ateliers\, Mission Apollo 11 en réalité virtuelle\, expositions « Apollo 11 » et « Mission Espace »\, observation du Soleil.\nClub d’astronomie Véga 04 94 09 07 38 info@oagc.fr – www.oagc.fr
URL:https://lepetitvarois.fr/event/raconte-moi-lexploration-spatiale/
CATEGORIES:Ollioules
ATTACH;FMTTYPE=image/jpeg:https://lepetitvarois.fr/wp-content/uploads/2018/08/galaxy-11098_960_720.jpg
END:VEVENT
BEGIN:VEVENT
DTSTART;TZID=Europe/Paris:20190518T093000
DTEND;TZID=Europe/Paris:20190518T170000
DTSTAMP:20260425T060744
CREATED:20190430T195708Z
LAST-MODIFIED:20190430T195708Z
UID:10844-1558171800-1558198800@lepetitvarois.fr
SUMMARY:Inauguration de la randonnée Peri Urbaine "Castellane\, Moulin de Palisson\, Canal des Arrosants"
DESCRIPTION:Inauguration de la randonnée Peri Urbaine « Castellane\, Moulin de Palisson\, Canal des Arrosants » \n à 9h30. \nDépart de l’espace boisé du Parc de la Castellane. OLLIOULES \nMatinée spéciale bien-être avec petit déjeuner sportif\, conseil en diététiques\, séances de relaxations… \nHôtel de Ville 04 94 30 41 41 / 04 94 30 41 02 ollioulesmairie@gmail.com – www.ollioules.fr
URL:https://lepetitvarois.fr/event/inauguration-de-la-randonnee-peri-urbaine-castellane-moulin-de-palisson-canal-des-arrosants/
CATEGORIES:Ollioules
ATTACH;FMTTYPE=image/jpeg:https://lepetitvarois.fr/wp-content/uploads/2019/04/girl-2398821_960_720.jpg
END:VEVENT
BEGIN:VEVENT
DTSTART;TZID=Europe/Paris:20190518T143000
DTEND;TZID=Europe/Paris:20190518T170000
DTSTAMP:20260425T060744
CREATED:20190430T195932Z
LAST-MODIFIED:20190430T195932Z
UID:10850-1558189800-1558198800@lepetitvarois.fr
SUMMARY:10è festival des fusées à eau
DESCRIPTION:10è festival des fusées à eau (lancement de fusées à eau\, tir aux planètes et observation du soleil ouvert aux enfants à partir de 7 ans) de 14h30 à 16h30. \nObservatoire astronomique du Gros Cerveau\, 3000 route du Gros Cerveau. OLLIOULES\nClub d’astronomie Véga 04 94 09 07 38 info@oagc.fr – www.oagc.fr
URL:https://lepetitvarois.fr/event/10e-festival-des-fusees-a-eau/
CATEGORIES:Ollioules
ATTACH;FMTTYPE=image/jpeg:https://lepetitvarois.fr/wp-content/uploads/2018/08/milky-way-1023340_960_720.jpg
END:VEVENT
END:VCALENDAR