BEGIN:VCALENDAR
VERSION:2.0
PRODID:-//Le Petit Varois.Fr - ECPv6.0.10//NONSGML v1.0//EN
CALSCALE:GREGORIAN
METHOD:PUBLISH
X-WR-CALNAME:Le Petit Varois.Fr
X-ORIGINAL-URL:https://lepetitvarois.fr
X-WR-CALDESC:évènements pour Le Petit Varois.Fr
REFRESH-INTERVAL;VALUE=DURATION:PT1H
X-Robots-Tag:noindex
X-PUBLISHED-TTL:PT1H
BEGIN:VTIMEZONE
TZID:Europe/Paris
BEGIN:DAYLIGHT
TZOFFSETFROM:+0100
TZOFFSETTO:+0200
TZNAME:CEST
DTSTART:20190331T010000
END:DAYLIGHT
BEGIN:STANDARD
TZOFFSETFROM:+0200
TZOFFSETTO:+0100
TZNAME:CET
DTSTART:20191027T010000
END:STANDARD
END:VTIMEZONE
BEGIN:VEVENT
DTSTART;TZID=Europe/Paris:20190523T180000
DTEND;TZID=Europe/Paris:20190523T200000
DTSTAMP:20260425T060339
CREATED:20190501T172032Z
LAST-MODIFIED:20190501T172032Z
UID:10876-1558634400-1558641600@lepetitvarois.fr
SUMMARY:Conférence "Diaspora Corsa"
DESCRIPTION:Conférence « Diaspora Corsa » animée par Pierre-André Giacomoni à 18h. \nSalle des Fêtes\, 17 av. Anatole France. OLLIOULES\n> 5 €. Réservation obligatoire.\nAmicale des corses et amis de la Corse d’Ollioules 04 94 63 16 84 / 06 62 43 12 82 antoine.galletti@wanadoo.fr
URL:https://lepetitvarois.fr/event/conference-diaspora-corsa/
CATEGORIES:Ollioules
ATTACH;FMTTYPE=image/jpeg:https://lepetitvarois.fr/wp-content/uploads/2018/02/conference-2705706_960_720.jpg
END:VEVENT
END:VCALENDAR