BEGIN:VCALENDAR
VERSION:2.0
PRODID:-//Le Petit Varois.Fr - ECPv6.0.10//NONSGML v1.0//EN
CALSCALE:GREGORIAN
METHOD:PUBLISH
X-WR-CALNAME:Le Petit Varois.Fr
X-ORIGINAL-URL:https://lepetitvarois.fr
X-WR-CALDESC:évènements pour Le Petit Varois.Fr
REFRESH-INTERVAL;VALUE=DURATION:PT1H
X-Robots-Tag:noindex
X-PUBLISHED-TTL:PT1H
BEGIN:VTIMEZONE
TZID:Europe/Paris
BEGIN:DAYLIGHT
TZOFFSETFROM:+0100
TZOFFSETTO:+0200
TZNAME:CEST
DTSTART:20190331T010000
END:DAYLIGHT
BEGIN:STANDARD
TZOFFSETFROM:+0200
TZOFFSETTO:+0100
TZNAME:CET
DTSTART:20191027T010000
END:STANDARD
END:VTIMEZONE
BEGIN:VEVENT
DTSTART;TZID=Europe/Paris:20190525T203000
DTEND;TZID=Europe/Paris:20190525T220000
DTSTAMP:20260425T060338
CREATED:20190501T172735Z
LAST-MODIFIED:20190501T172735Z
UID:10889-1558816200-1558821600@lepetitvarois.fr
SUMMARY:32è édition de Miss Ollioules & 3è édition de Mamiss (de 50 à 90 ans)
DESCRIPTION:32è édition de Miss Ollioules & 3è édition de Mamiss (de 50 à 90 ans) à 20h30. \nSalle des Fêtes\, 17 av. Anatole France. OLLIOULES\n> 20 € l’entrée avec tapas.\nComité officiel des fêtes 06 11 93 69 91 cof-ollioules@orange.fr  
URL:https://lepetitvarois.fr/event/32e-edition-de-miss-ollioules-3e-edition-de-mamiss-de-50-a-90-ans/
CATEGORIES:Ollioules
ATTACH;FMTTYPE=image/jpeg:https://lepetitvarois.fr/wp-content/uploads/2015/04/florrie.jpg
END:VEVENT
END:VCALENDAR