BEGIN:VCALENDAR
VERSION:2.0
PRODID:-//Le Petit Varois.Fr - ECPv6.0.10//NONSGML v1.0//EN
CALSCALE:GREGORIAN
METHOD:PUBLISH
X-WR-CALNAME:Le Petit Varois.Fr
X-ORIGINAL-URL:https://lepetitvarois.fr
X-WR-CALDESC:évènements pour Le Petit Varois.Fr
REFRESH-INTERVAL;VALUE=DURATION:PT1H
X-Robots-Tag:noindex
X-PUBLISHED-TTL:PT1H
BEGIN:VTIMEZONE
TZID:Europe/Paris
BEGIN:DAYLIGHT
TZOFFSETFROM:+0100
TZOFFSETTO:+0200
TZNAME:CEST
DTSTART:20190331T010000
END:DAYLIGHT
BEGIN:STANDARD
TZOFFSETFROM:+0200
TZOFFSETTO:+0100
TZNAME:CET
DTSTART:20191027T010000
END:STANDARD
END:VTIMEZONE
BEGIN:VEVENT
DTSTART;TZID=Europe/Paris:20190619T140000
DTEND;TZID=Europe/Paris:20190619T170000
DTSTAMP:20260425T043821
CREATED:20190527T210753Z
LAST-MODIFIED:20190527T210753Z
UID:11356-1560952800-1560963600@lepetitvarois.fr
SUMMARY:Forum Culture pour la Vie
DESCRIPTION:Forum Culture pour la Vie à partir de 14h.\nEspace Pierre Puget\, place Marius Trotobas. OLLIOULES \n14h : ouverture officielle en présence de M. Robert Bénéventi\, Maire d’Ollioules. \nAu programme : atelier gymnastique\, atelier mémoire\, démonstration\, atelier marche\, conférences médicales\, atelier nutrition cuisine\, diaporama… \nPrésentation du programme annuel des conférences avec l’association Présence Infirmière Ollioulaise par M. François et le Docteur Macia. \n16h\, salle Jean Moulin : représentation théâtrale par l’association La Chilière animée par Mme Chantal Ustache (auteur du texte et mise en scène) et Monsieur Francis Dondi.\nUn goûter diététique offert par la Municipalité clôturera la manifestation. \nProgramme complet sur www.ollioules.fr \n> Entrée libre. \nC.C.A.S. d’Ollioules 04 94 30 41 25  
URL:https://lepetitvarois.fr/event/forum-culture-pour-la-vie-2/
CATEGORIES:Ollioules
ATTACH;FMTTYPE=image/jpeg:https://lepetitvarois.fr/wp-content/uploads/2019/05/brotherhood-2173097_960_720.jpg
END:VEVENT
BEGIN:VEVENT
DTSTART;TZID=Europe/Paris:20190619T140000
DTEND;TZID=Europe/Paris:20190619T170000
DTSTAMP:20260425T043821
CREATED:20190527T210848Z
LAST-MODIFIED:20190527T210848Z
UID:11358-1560952800-1560963600@lepetitvarois.fr
SUMMARY:Séances de planétarium
DESCRIPTION:Séances de planétarium  \nObservatoire astronomique du Gros Cerveau\, 3000 route du Gros Cerveau. OLLIOULES\nA 14h et à 17h : séance « Lucia\, le secret des étoiles filantes » (à partir de 5 ans). \nAprès les aventures vécues lors du premier épisode Polaris\, James\, le manchot voyageur du pôle Sud\, et Vladimir\, l’ours rigolo du pôle Nord\, font la rencontre de Lucia\, un colibri\, tout aussi curieuse qu’eux. C’est tous ensemble qu’ils reprennent le chemin de l’espace pour tenter de percer le secret des étoiles filantes et des météorites\, ces mystérieux cailloux qui tombent sur Terre. \nEst-ce que la réponse se trouve sur la Lune ? L’observation des astéroïdes et de comètes peuvent sans doute aussi contribuer à la démarche scientifique de nos trois héros. À condition toutefois de bien s’entendre ! \nDurée : 60 minutes. \n15h30 : séance enfants « Polaris » (à partir de 5 ans). \nJames\, un manchot voyageur du pôle Sud\, et Vladimir\, un ours rigolo du pôle Nord\, se rencontrent sur la banquise arctique. Apprentis astronomes\, ils se demandent pourquoi la nuit est si longue aux deux pôles de la Terre. Une aventure scientifique extraordinaire va les mener de la construction d’un observatoire à celle d’un vaisseau spatial de fortune. Au cours d’un voyage autour de la Terre puis vers Mars et Saturne\, ils répondront à leur interrogation et découvriront que les planètes ont des points communs mais aussi des différences ! \nDurée : 60 minutes. \n18h30 : séance « Le Soleil\, notre étoile source de vie » (à partir de 10 ans). \nLe Soleil brille dans notre ciel depuis quatre milliards et demi d’années. Sa chaleur a été ressentie par toutes les espèces vivantes de notre planète et son passage dans le ciel\, jour après jour\, a été pour d’innombrables civilisations le seul moyen de garder une trace du temps qui passe. Il est l’étoile la plus proche de la Terre et constitue la source d’énergie qui anime notre climat et toutes les formes de vie existantes. Ce spectacle vous permettra de découvrir avec de magnifiques images les secrets du Soleil\, notre étoile source de vie. \nDurée : 70 minutes.\n> 5 € par personne. Les enfants jusqu’à l’âge de 12 ans inclus doivent être accompagnés par un adulte. \nRéservation obligatoire.  \nClub d’astronomie Véga 04 94 09 07 38 www.oagc.fr
URL:https://lepetitvarois.fr/event/seances-de-planetarium-28/
CATEGORIES:Ollioules
ATTACH;FMTTYPE=image/jpeg:https://lepetitvarois.fr/wp-content/uploads/2018/06/star-gazing-1149228_960_720.jpg
END:VEVENT
END:VCALENDAR