BEGIN:VCALENDAR
VERSION:2.0
PRODID:-//Le Petit Varois.Fr - ECPv6.0.10//NONSGML v1.0//EN
CALSCALE:GREGORIAN
METHOD:PUBLISH
X-WR-CALNAME:Le Petit Varois.Fr
X-ORIGINAL-URL:https://lepetitvarois.fr
X-WR-CALDESC:évènements pour Le Petit Varois.Fr
REFRESH-INTERVAL;VALUE=DURATION:PT1H
X-Robots-Tag:noindex
X-PUBLISHED-TTL:PT1H
BEGIN:VTIMEZONE
TZID:Europe/Paris
BEGIN:DAYLIGHT
TZOFFSETFROM:+0100
TZOFFSETTO:+0200
TZNAME:CEST
DTSTART:20190331T010000
END:DAYLIGHT
BEGIN:STANDARD
TZOFFSETFROM:+0200
TZOFFSETTO:+0100
TZNAME:CET
DTSTART:20191027T010000
END:STANDARD
END:VTIMEZONE
BEGIN:VEVENT
DTSTART;TZID=Europe/Paris:20190630T093000
DTEND;TZID=Europe/Paris:20190630T160000
DTSTAMP:20260425T043810
CREATED:20190528T082739Z
LAST-MODIFIED:20190528T082739Z
UID:11414-1561887000-1561910400@lepetitvarois.fr
SUMMARY:Journée champêtre
DESCRIPTION:Journée champêtre de 9h30 à 16h. \nParc public de la Castellane\, ch. de La Castellane. OLLIOULES\nConcours de boules gratuit (inscription gratuite sur place à 9h30). Puis\, repas dansant avec l’orchestre Michel Sylvestre à partir de 12h. \n> 27 € adhérent / 33 € non adhérent / gratuit pour les -10 ans. Réservation obligatoire.\nAmicale des corses et amis de la Corse 06 62 43 12 82 / 07 82 95 19 14
URL:https://lepetitvarois.fr/event/journee-champetre/
CATEGORIES:Ollioules
ATTACH;FMTTYPE=image/jpeg:https://lepetitvarois.fr/wp-content/uploads/2018/09/book-2550164_960_720.jpg
END:VEVENT
END:VCALENDAR