BEGIN:VCALENDAR
VERSION:2.0
PRODID:-//Le Petit Varois.Fr - ECPv6.0.10//NONSGML v1.0//EN
CALSCALE:GREGORIAN
METHOD:PUBLISH
X-WR-CALNAME:Le Petit Varois.Fr
X-ORIGINAL-URL:https://lepetitvarois.fr
X-WR-CALDESC:évènements pour Le Petit Varois.Fr
REFRESH-INTERVAL;VALUE=DURATION:PT1H
X-Robots-Tag:noindex
X-PUBLISHED-TTL:PT1H
BEGIN:VTIMEZONE
TZID:Europe/Paris
BEGIN:DAYLIGHT
TZOFFSETFROM:+0100
TZOFFSETTO:+0200
TZNAME:CEST
DTSTART:20190331T010000
END:DAYLIGHT
BEGIN:STANDARD
TZOFFSETFROM:+0200
TZOFFSETTO:+0100
TZNAME:CET
DTSTART:20191027T010000
END:STANDARD
END:VTIMEZONE
BEGIN:VEVENT
DTSTART;TZID=Europe/Paris:20190720T200000
DTEND;TZID=Europe/Paris:20190720T220000
DTSTAMP:20260425T030719
CREATED:20190712T203941Z
LAST-MODIFIED:20190712T203941Z
UID:12013-1563652800-1563660000@lepetitvarois.fr
SUMMARY:Grande soupe au pistou avec l'orchestre Duo Fusion
DESCRIPTION:Grande soupe au pistou avec l’orchestre Duo Fusion à 20h. \nPlace Jean Jaurès. OLLIOULES (annulé en cas de mauvais temps)\n> 20 €. Réservation à l’accueil de l’office de tourisme d’Ollioules. \nOT Ollioules 04 94 63 11 74
URL:https://lepetitvarois.fr/event/grande-soupe-au-pistou-avec-lorchestre-duo-fusion/
CATEGORIES:Ollioules
ATTACH;FMTTYPE=image/jpeg:https://lepetitvarois.fr/wp-content/uploads/2019/07/olive-oil-1412361_960_720.jpg
END:VEVENT
BEGIN:VEVENT
DTSTART;TZID=Europe/Paris:20190720T203000
DTEND;TZID=Europe/Paris:20190720T223000
DTSTAMP:20260425T030719
CREATED:20190712T204048Z
LAST-MODIFIED:20190712T204048Z
UID:12016-1563654600-1563661800@lepetitvarois.fr
SUMMARY:Conférence "De la lune d’Apollo vers Mars"
DESCRIPTION:Conférence « De la lune d’Apollo vers Mars » par Michel Marcelin\, astrophysicien au Laboratoire d’Astrophysique de Marseille\, animations et observation du ciel à partir de 20h30. \nObservatoire astronomique du Gros Cerveau\, 3000 route du Gros Cerveau. OLLIOULES\nMission Apollo 11 en réalité virtuelle (à partir de 13 ans)\, séance de planétarium\, exposition « Apollo 11\, la conquête de la Lune »\, et observation du ciel nocturne aux télescopes.\n> Gratuit sauf planétarium et réalité virtuelle 5 € par personne. Réservation obligatoire pour le planétarium.\nClub d’astronomie Véga 04 94 09 07 38 www.oagc.fr 
URL:https://lepetitvarois.fr/event/conference-de-la-lune-dapollo-vers-mars/
CATEGORIES:Ollioules
ATTACH;FMTTYPE=image/jpeg:https://lepetitvarois.fr/wp-content/uploads/2018/08/milky-way-1023340_960_720.jpg
END:VEVENT
END:VCALENDAR