BEGIN:VCALENDAR
VERSION:2.0
PRODID:-//Le Petit Varois.Fr - ECPv6.0.10//NONSGML v1.0//EN
CALSCALE:GREGORIAN
METHOD:PUBLISH
X-ORIGINAL-URL:https://lepetitvarois.fr
X-WR-CALDESC:évènements pour Le Petit Varois.Fr
REFRESH-INTERVAL;VALUE=DURATION:PT1H
X-Robots-Tag:noindex
X-PUBLISHED-TTL:PT1H
BEGIN:VTIMEZONE
TZID:Europe/Paris
BEGIN:DAYLIGHT
TZOFFSETFROM:+0100
TZOFFSETTO:+0200
TZNAME:CEST
DTSTART:20190331T010000
END:DAYLIGHT
BEGIN:STANDARD
TZOFFSETFROM:+0200
TZOFFSETTO:+0100
TZNAME:CET
DTSTART:20191027T010000
END:STANDARD
END:VTIMEZONE
BEGIN:VEVENT
DTSTART;VALUE=DATE:20190808
DTEND;VALUE=DATE:20190812
DTSTAMP:20260425T013525
CREATED:20190728T205910Z
LAST-MODIFIED:20190728T205910Z
UID:12264-1565222400-1565567999@lepetitvarois.fr
SUMMARY:Fête de la Saint Laurent
DESCRIPTION:Fête de la Saint Laurent  \nOLLIOULES\nDu jeudi 8 au dimanche 11 août : fête foraine sur la place Lemoyne. Concours de boules au boulodrome municipal (Renseignement B.B.O. 06 40 05 81 86). \nJeudi 8 août à 18h\, espace Pierre Puget : vernissage du salon de la Saint Laurent par la Palette Ollioulaise.  \nVendredi 9 août :  \nDe 14h à 23h\, place Jean Jaurès : puces et brocante.  \n> 18 € en vente à l’accueil de l’office de tourisme d’Ollioules. \n21h\, place Victor Clément : bal musette avec l’orchestre Christian Yann. \nSamedi 10 août :  \n20h30\, place Jean Jaurès : grand gala de variétés gratuit avec Frédéric Longbois\, Pauline Ester et en vedette Sandrine Alexi\, imitatrice. \nDimanche 11 août : \n17h30\, place Marius Trotobas : concert de l’orchestre d’Harmonie d’Ollioules sous la direction de Sébastien Portelli suivi d’un apéritif d’honneur offert par le Comité Officiel des Fêtes et Saveurs et Traditions. \n21h\, place Jean Jaurès : bal populaire avec l’orchestre Méphisto. \n22h30\, espace Malraux : grand feu d’artifice (annulé en cas d’intempéries ou de vents violents).\nComité officiel des fêtes 06 11 93 69 91 / OT Ollioules 04 94 63 11 74  
URL:https://lepetitvarois.fr/event/fete-de-la-saint-laurent/
CATEGORIES:Ollioules
ATTACH;FMTTYPE=image/png:https://lepetitvarois.fr/wp-content/uploads/2019/07/Capture-d’écran-2019-07-28-à-19.33.32.png
END:VEVENT
END:VCALENDAR