BEGIN:VCALENDAR
VERSION:2.0
PRODID:-//Le Petit Varois.Fr - ECPv6.0.10//NONSGML v1.0//EN
CALSCALE:GREGORIAN
METHOD:PUBLISH
X-WR-CALNAME:Le Petit Varois.Fr
X-ORIGINAL-URL:https://lepetitvarois.fr
X-WR-CALDESC:évènements pour Le Petit Varois.Fr
REFRESH-INTERVAL;VALUE=DURATION:PT1H
X-Robots-Tag:noindex
X-PUBLISHED-TTL:PT1H
BEGIN:VTIMEZONE
TZID:Europe/Paris
BEGIN:DAYLIGHT
TZOFFSETFROM:+0100
TZOFFSETTO:+0200
TZNAME:CEST
DTSTART:20190331T010000
END:DAYLIGHT
BEGIN:STANDARD
TZOFFSETFROM:+0200
TZOFFSETTO:+0100
TZNAME:CET
DTSTART:20191027T010000
END:STANDARD
END:VTIMEZONE
BEGIN:VEVENT
DTSTART;VALUE=DATE:20190901
DTEND;VALUE=DATE:20190902
DTSTAMP:20260425T002527
CREATED:20190825T200036Z
LAST-MODIFIED:20190825T200036Z
UID:12469-1567296000-1567382399@lepetitvarois.fr
SUMMARY:Fête de Faveyrolles
DESCRIPTION:Fête de Faveyrolles  \nEspace Jean Callenes\, route de Faveyrolles. OLLIOULES\n9h\, messe provençale célébrée par Monsieur le curé d’Ollioules\, avec les Tambourinaires de « Magali » et la chorale « Lei Cigaloun Segnen ». \n10h\, danses folkloriques avec « Lou Raioulet de Six Fours ». \n10h15\, concours de boules mêlée en 3 en 3. \n10h30\, dépôt de gerbes à la place Louis et Joseph Canolle\, chemin Pierre Vezzoso et l’espace Jean Callènes\, puis aux monuments aux morts d’Ollioules. \n12h30\, aïoli provençal (23 €. Billetterie en vente à l’accueil de l’office de tourisme d’Ollioules.). \n14h30\, reprise concours de boules et consolante. \n15h30\, grand loto. \n18h\, grand bal champêtre gratuit avec l’orchestre Michel Sylvestre.\nComité des fêtes de Faveyrolles 04 94 63 23 59 / 06 89 15 71 70 
URL:https://lepetitvarois.fr/event/fete-de-faveyrolles-2/
CATEGORIES:Ollioules
ATTACH;FMTTYPE=image/jpeg:https://lepetitvarois.fr/wp-content/uploads/2019/07/background-2068211_960_720.jpg
END:VEVENT
END:VCALENDAR