BEGIN:VCALENDAR
VERSION:2.0
PRODID:-//Le Petit Varois.Fr - ECPv6.0.10//NONSGML v1.0//EN
CALSCALE:GREGORIAN
METHOD:PUBLISH
X-WR-CALNAME:Le Petit Varois.Fr
X-ORIGINAL-URL:https://lepetitvarois.fr
X-WR-CALDESC:évènements pour Le Petit Varois.Fr
REFRESH-INTERVAL;VALUE=DURATION:PT1H
X-Robots-Tag:noindex
X-PUBLISHED-TTL:PT1H
BEGIN:VTIMEZONE
TZID:Europe/Paris
BEGIN:DAYLIGHT
TZOFFSETFROM:+0100
TZOFFSETTO:+0200
TZNAME:CEST
DTSTART:20190331T010000
END:DAYLIGHT
BEGIN:STANDARD
TZOFFSETFROM:+0200
TZOFFSETTO:+0100
TZNAME:CET
DTSTART:20191027T010000
END:STANDARD
END:VTIMEZONE
BEGIN:VEVENT
DTSTART;TZID=Europe/Paris:20190906T110000
DTEND;TZID=Europe/Paris:20190906T143000
DTSTAMP:20260425T001030
CREATED:20190825T201110Z
LAST-MODIFIED:20190825T201110Z
UID:12481-1567767600-1567780200@lepetitvarois.fr
SUMMARY:Pique nique dans les vignes
DESCRIPTION:Pique nique dans les vignes de 11h à 14h30. \nDomaine de Terrebrune\, 724 ch. de la Tourelle. OLLIOULES\nLes vendredis\, venez partager des recettes de Provence\, au cœur d’un vignoble choisi pour son charme et ses qualités\, en compagnie de votre hôte\, Pascale\, native du village. Via son projet Minots du Sud\, notre association a pour ambition de vous faire vivre le Sud\, comme nous le vivons et de mettre en avant la culture locale : instants partagés\, lieux confidentiels\, événements en petit comité\, rencontre avec les locaux\, recettes typiques de Provence.\n> 35 € par personne / gratuit pour les -3 ans. Sur réservation uniquement www.helloasso.com/associations/weetrip/evenements/pique-nique-dans-les-vignes-domaines-terrebrune \nLe tarif inclut la visite\, la dégustation de plusieurs  vins du domaine\, des plats\, entrées & desserts à partager\, le verre de l’amitié & café.\nAssociation Minots du Sud 07 85 77 58 75  minotsdusud@gmail.com 
URL:https://lepetitvarois.fr/event/pique-nique-dans-les-vignes/
CATEGORIES:Ollioules
ATTACH;FMTTYPE=image/jpeg:https://lepetitvarois.fr/wp-content/uploads/2018/09/book-2550164_960_720.jpg
END:VEVENT
END:VCALENDAR