BEGIN:VCALENDAR
VERSION:2.0
PRODID:-//Le Petit Varois.Fr - ECPv6.0.10//NONSGML v1.0//EN
CALSCALE:GREGORIAN
METHOD:PUBLISH
X-ORIGINAL-URL:https://lepetitvarois.fr
X-WR-CALDESC:évènements pour Le Petit Varois.Fr
REFRESH-INTERVAL;VALUE=DURATION:PT1H
X-Robots-Tag:noindex
X-PUBLISHED-TTL:PT1H
BEGIN:VTIMEZONE
TZID:Europe/Paris
BEGIN:DAYLIGHT
TZOFFSETFROM:+0100
TZOFFSETTO:+0200
TZNAME:CEST
DTSTART:20190331T010000
END:DAYLIGHT
BEGIN:STANDARD
TZOFFSETFROM:+0200
TZOFFSETTO:+0100
TZNAME:CET
DTSTART:20191027T010000
END:STANDARD
END:VTIMEZONE
BEGIN:VEVENT
DTSTART;TZID=Europe/Paris:20190918T180000
DTEND;TZID=Europe/Paris:20190918T220000
DTSTAMP:20260425T002744
CREATED:20190908T131838Z
LAST-MODIFIED:20190908T131838Z
UID:12633-1568829600-1568844000@lepetitvarois.fr
SUMMARY:Festival Constellations
DESCRIPTION:Festival Constellations à 18h. \nPlace Jean Jaurès. OLLIOULES\nLe festival offre la possibilité de découvrir des artistes confirmés ou de jeunes artistes émergents\, étrangers ou locaux. Ce festival rassemble et unit une cinquantaine d’artistes et acteurs culturels autour de formes d’expressions artistiques ouvertes\, audacieuses et éclectiques : danse\, musiques\, performances in-situ\, projets participatifs.\n> Entrée libre.\nComité officiel des fêtes 06 11 93 69 91 cof-ollioules@orange.fr
URL:https://lepetitvarois.fr/event/festival-constellations/
CATEGORIES:Ollioules
ATTACH;FMTTYPE=image/jpeg:https://lepetitvarois.fr/wp-content/uploads/2018/08/galaxy-11098_960_720.jpg
END:VEVENT
END:VCALENDAR