BEGIN:VCALENDAR
VERSION:2.0
PRODID:-//Le Petit Varois.Fr - ECPv6.0.10//NONSGML v1.0//EN
CALSCALE:GREGORIAN
METHOD:PUBLISH
X-WR-CALNAME:Le Petit Varois.Fr
X-ORIGINAL-URL:https://lepetitvarois.fr
X-WR-CALDESC:évènements pour Le Petit Varois.Fr
REFRESH-INTERVAL;VALUE=DURATION:PT1H
X-Robots-Tag:noindex
X-PUBLISHED-TTL:PT1H
BEGIN:VTIMEZONE
TZID:Europe/Paris
BEGIN:DAYLIGHT
TZOFFSETFROM:+0100
TZOFFSETTO:+0200
TZNAME:CEST
DTSTART:20190331T010000
END:DAYLIGHT
BEGIN:STANDARD
TZOFFSETFROM:+0200
TZOFFSETTO:+0100
TZNAME:CET
DTSTART:20191027T010000
END:STANDARD
END:VTIMEZONE
BEGIN:VEVENT
DTSTART;TZID=Europe/Paris:20191123T183000
DTEND;TZID=Europe/Paris:20191123T203000
DTSTAMP:20260424T205812
CREATED:20191107T111438Z
LAST-MODIFIED:20191107T111438Z
UID:13188-1574533800-1574541000@lepetitvarois.fr
SUMMARY:Soirée country
DESCRIPTION:Soirée country au profit du Téléthon à 18h30. \nSalle des Fêtes\, 17 av. Anatole France. OLLIOULES\n> 5 € minimum. Réservation conseillée.\nAssociation Cool Cats Country 06 86 75 90 46
URL:https://lepetitvarois.fr/event/soiree-country/
CATEGORIES:Ollioules
ATTACH;FMTTYPE=image/jpeg:https://lepetitvarois.fr/wp-content/uploads/2018/10/countrygirl-349923_960_720.jpg
END:VEVENT
END:VCALENDAR