BEGIN:VCALENDAR
VERSION:2.0
PRODID:-//Le Petit Varois.Fr - ECPv6.0.10//NONSGML v1.0//EN
CALSCALE:GREGORIAN
METHOD:PUBLISH
X-ORIGINAL-URL:https://lepetitvarois.fr
X-WR-CALDESC:évènements pour Le Petit Varois.Fr
REFRESH-INTERVAL;VALUE=DURATION:PT1H
X-Robots-Tag:noindex
X-PUBLISHED-TTL:PT1H
BEGIN:VTIMEZONE
TZID:Europe/Paris
BEGIN:DAYLIGHT
TZOFFSETFROM:+0100
TZOFFSETTO:+0200
TZNAME:CEST
DTSTART:20190331T010000
END:DAYLIGHT
BEGIN:STANDARD
TZOFFSETFROM:+0200
TZOFFSETTO:+0100
TZNAME:CET
DTSTART:20191027T010000
END:STANDARD
END:VTIMEZONE
BEGIN:VEVENT
DTSTART;VALUE=DATE:20191206
DTEND;VALUE=DATE:20191215
DTSTAMP:20260424T193310
CREATED:20191203T093912Z
LAST-MODIFIED:20191203T093912Z
UID:13532-1575590400-1576367999@lepetitvarois.fr
SUMMARY:Téléthon à Ollioules
DESCRIPTION:Téléthon à Ollioules  \nOLLIOULES\nVendredi 6 : \nDe 10h à 16h\, EHPAD Lou Jas : mini vide grenier\, vente de nourriture sur place. \nÀ 20h15\, gymnase Vallon : match officiel basket club Ollioules vs La Garde. \nÀ 20h30\, salle des fêtes : spectacle de danse. \nSamedi 7 : \nDe 9h à 12h\, stade et parc de la Castellane : relais enfant-parent.  \nDe 9h à 12h\, place Jean Jaurès : vente de pâtisserie et d’huile d’olive. \nDe 9h à 13h\, gymnase Aldo Piemontesi : jeu libre. \nDe 14h à minuit\, gymnase Aldo Piemontesi : démonstration et initiation au tir à l’arc. \nDe 16h30 à 21h30\, salle Jean Moulin : battle de hip hop. \nDe 18h à minuit\, salle des fêtes : concert de Techmer. \nDimanche 8 : \nDe 8h à 20h\, gymnase Aldo Piemontesi : tournoi volleyball. \nDe 14h30 à 17h\, gymnase A. Piemontesi : initiation au judo. \nÀ 15h\, salle Jean Moulin : concert de Noël. \nVendredi 13 : \nÀ 19h\, salle Jean Moulin : concert de musique classique par la Palette Ollioulaise.  \nSamedi 14 : \nDe 9h à 12h\, place Jean Jaurès : vente de bombes à graines par la Maison des Jeunes. \nÀ 20h30\, salle Jean Moulin : Théâtre « Chiffonade théâtrale ».\n> Participation libre. \nMairie d’Ollioules 04 94 30 41 41  www.ollioules.fr
URL:https://lepetitvarois.fr/event/telethon-a-ollioules/
CATEGORIES:Ollioules
ATTACH;FMTTYPE=image/jpeg:https://lepetitvarois.fr/wp-content/uploads/2018/11/children-2105468_960_720.jpg
END:VEVENT
BEGIN:VEVENT
DTSTART;TZID=Europe/Paris:20191214T080000
DTEND;TZID=Europe/Paris:20191214T160000
DTSTAMP:20260424T193310
CREATED:20191207T202624Z
LAST-MODIFIED:20191207T202624Z
UID:13638-1576310400-1576339200@lepetitvarois.fr
SUMMARY:Animations "Noël en douceur"
DESCRIPTION:Place Jean Jaurès. OLLIOULES\n9h30 : ouverture du marché de Noël.\n10h-11h30 : déambulation musicale avec Festimusic. \n11h30 et 14h30 : « Panama Christmas Band » et sculpture de ballons. \n16h : spectacle de danse avec Kriss’Dance. \nArrivée du Père Noël. \n17h : goûter offert par l’association Avenir et Traditions. \n17h30 et 18h30 : « Panama Christmas Band » et sculpture de ballons. \nToute la journée : marché de Noel\, château gonflable\, maquillage\, \nL’après-midi : ateliers pour enfants « Le coin des douceurs » (fabrication de nougat par les Nougats Jonquier\, \nfabrication de roses des sables avec Céline de Célatelier\, atelier bonbons avec Marjorie). \nAteliers créatifs : fabrication de cartes de Noël avec Agnès\, repartez avec votre caricature avec Jeff ! \nAssociation des commerçants\, artisans et entreprises d’Ollioules (A.C.E.O.) 07 71  77 08 62 assoace.ollioules@gmail.com 
URL:https://lepetitvarois.fr/event/animations-noel-en-douceur/
CATEGORIES:Ollioules
ATTACH;FMTTYPE=image/png:https://lepetitvarois.fr/wp-content/uploads/2018/12/christmas-1887306_960_720.png
END:VEVENT
END:VCALENDAR